BEGIN:VCALENDAR
VERSION:2.0
PRODID:-//VILA - Blog - ECPv4.5.12.2//NONSGML v1.0//EN
CALSCALE:GREGORIAN
METHOD:PUBLISH
X-WR-CALNAME:VILA - Blog
X-ORIGINAL-URL:https://blog.livrariadavila.com.br
X-WR-CALDESC:Events for VILA - Blog
BEGIN:VEVENT
DTSTART;TZID=America/Sao_Paulo:20171124T183000
DTEND;TZID=America/Sao_Paulo:20171124T213000
DTSTAMP:20260421T213514
CREATED:20171121T165428Z
LAST-MODIFIED:20171121T165428Z
UID:2664-1511548200-1511559000@blog.livrariadavila.com.br
SUMMARY:Uma maratona de sonhos reais
DESCRIPTION:De Cristiano Goldenberg \nEd. Atheneu \n
URL:https://blog.livrariadavila.com.br/event/uma-maratona-de-sonhos-reais/
CATEGORIES:LANÇAMENTOS,SESSÕES DE AUTÓGRAFOS
END:VEVENT
END:VCALENDAR