BEGIN:VCALENDAR
VERSION:2.0
PRODID:-//VILA - Blog - ECPv4.5.12.2//NONSGML v1.0//EN
CALSCALE:GREGORIAN
METHOD:PUBLISH
X-WR-CALNAME:VILA - Blog
X-ORIGINAL-URL:https://blog.livrariadavila.com.br
X-WR-CALDESC:Events for VILA - Blog
BEGIN:VEVENT
DTSTART;TZID=America/Sao_Paulo:20250325T190000
DTEND;TZID=America/Sao_Paulo:20250325T213000
DTSTAMP:20260420T183520
CREATED:20250319T141611Z
LAST-MODIFIED:20250319T141611Z
UID:126652-1742929200-1742938200@blog.livrariadavila.com.br
SUMMARY:VALORIZAÇÃO DA NEGOCIAÇÃO COLETIVA ATÍPICA COMO INSTRUMENTO DE PROMOÇÃO DE LIBERDADE SINDICAL - GUSTAVO JONASSON – ED. INDEPENDENTE
DESCRIPTION: \nO estudo analisa os princípios que norteiam as negociações coletivas como instrumento hábil para solução de conflitos entre trabalhadores e empregadores. Explora o processo para o estabelecimento do processo negocial\, apontando alguns entraves impostos pela legislação brasileira ao exercício da liberdade sindical. Estuda as funções exercidas pelos sindicatos e identifica algumas dificuldades enfrentadas em razão da modernização das relações de trabalho. Observa a possibilidade de representação coletiva dual dos trabalhadores e\, ao final\, aponta uma alternativa que permita a máxima eficácia dos direitos constitucionalmente assegurados. \n
URL:https://blog.livrariadavila.com.br/event/valorizacao-da-negociacao-coletiva-atipica-como-instrumento-de-promocao-de-liberdade-sindical-gustavo-jonasson-ed-independente/
LOCATION:Av. Higienópolis\, 618 – Higienópolis\, São Paulo\, SP\, 01238-000\, Brasil
GEO:-23.542049;-46.6577148
X-APPLE-STRUCTURED-LOCATION;VALUE=URI;X-ADDRESS=Av. Higienópolis 618 – Higienópolis São Paulo SP 01238-000 Brasil;X-APPLE-RADIUS=500;X-TITLE=Av. Higienópolis\, 618 – Higienópolis:geo:-46.6577148,-23.542049
CATEGORIES:LANÇAMENTOS,SESSÕES DE AUTÓGRAFOS
END:VEVENT
END:VCALENDAR