BEGIN:VCALENDAR
VERSION:2.0
PRODID:-//VILA - Blog - ECPv4.5.12.2//NONSGML v1.0//EN
CALSCALE:GREGORIAN
METHOD:PUBLISH
X-WR-CALNAME:VILA - Blog
X-ORIGINAL-URL:https://blog.livrariadavila.com.br
X-WR-CALDESC:Events for VILA - Blog
BEGIN:VEVENT
DTSTART;TZID=America/Sao_Paulo:20181206T183000
DTEND;TZID=America/Sao_Paulo:20181206T213000
DTSTAMP:20260421T170547
CREATED:20181203T140547Z
LAST-MODIFIED:20181203T140547Z
UID:23985-1544121000-1544131800@blog.livrariadavila.com.br
SUMMARY:Vida de Lara\, Fortuna\, A Flor da Pele e Por Dentro de Mim
DESCRIPTION: Vida de Lara é uma ficção baseada em fatos verídicos\nimpregnados de amor e aventuras. É uma história contada\nsob um olhar canino. \nDe Madalena Ferrante Pizzatto \n  \n  \n  \n  \n  \n Fortuna\, A Saga da Riqueza é um ensaio sobre a riqueza da natureza humana\, o poder relativo dos recursos materiais e a transcendência que só pode nascer quando temos a coragem de encarar nossos dilemas mais profundos. \nDe Cassia Cassitas \n  \n  \n  \n  \n  \n  Toda a história se passa na primeira pessoa do Giulio e também na primeira pessoa da Karin\, através do diário que preenchia constantemente. O mesmo fato narrado pelo ponto de vista de um homem e de uma mulher\, demonstram a importância de um boa comunicação e conquista ou não da felicidade de um casal. Pequenos detalhes que fizeram a diferença. \nDe Franco Rovedo \n  \n  \n  \n  \n Acompanhe seus passos neste diário\, que mostra com lende de aumento cada pensamento\, cada sensação e cada descoberta que a fez revolver nos porões de seu ser suas próprias respostas. \nDe Patrícia Fernandes \n  \nEd. InVerso \n
URL:https://blog.livrariadavila.com.br/event/vida-de-lara-fortuna-a-flor-da-pele-e-por-dentro-de-mim/
LOCATION:Avenida do Batel\, nº 1868 – Loja 314 piso L3\, Curitiba\, Paraná\, 80420-090\, Brasil
GEO:-25.443012;-49.2899507
X-APPLE-STRUCTURED-LOCATION;VALUE=URI;X-ADDRESS=Avenida do Batel nº 1868 – Loja 314 piso L3 Curitiba Paraná 80420-090 Brasil;X-APPLE-RADIUS=500;X-TITLE=Avenida do Batel\, nº 1868 – Loja 314 piso L3:geo:-49.2899507,-25.443012
CATEGORIES:LANÇAMENTOS,SESSÕES DE AUTÓGRAFOS
END:VEVENT
END:VCALENDAR