BEGIN:VCALENDAR
VERSION:2.0
PRODID:-//VILA - Blog - ECPv4.5.12.2//NONSGML v1.0//EN
CALSCALE:GREGORIAN
METHOD:PUBLISH
X-WR-CALNAME:VILA - Blog
X-ORIGINAL-URL:https://blog.livrariadavila.com.br
X-WR-CALDESC:Events for VILA - Blog
BEGIN:VEVENT
DTSTART;TZID=America/Sao_Paulo:20181125T140000
DTEND;TZID=America/Sao_Paulo:20181125T180000
DTSTAMP:20260424T032512
CREATED:20181108T171930Z
LAST-MODIFIED:20181108T171930Z
UID:23441-1543154400-1543168800@blog.livrariadavila.com.br
SUMMARY:Vida
DESCRIPTION: O livro trata da descrição das fases da vida do ponto de vista fisiológico e psicológico. A Autora buscou trabalhar com problemas do desenvolvimento humano e da biografia. Na psiquiatria infantil\, a principal questão era o significado de distúrbios precoces na vida do paciente tomados como um todo. Na psicoterapia de adolescentes e adultos\, era a procura do leitmotiv que orientava as etapas da vida\, da infância à velhice. Nesta a questão da longevidade é tratada\, com ligações aos hábitos que levam à qualidade de vida nesta fase especial. Há ao final tópicos sobre saúde e alimentação\, bem como um glossário com os termos mais relevantes para entender a fenomenologia existencial. A autora\, médica\, é adepta da chamada medicina integrativa. \nDe Vilma Leal \nEd. Musa \n
URL:https://blog.livrariadavila.com.br/event/vida/
LOCATION:Rua Fradique Coutinho\, 915 - Pinheiros\, São Paulo\, São Paulo\, 05416-011\, Brasil
GEO:-23.5592934;-46.6892019
X-APPLE-STRUCTURED-LOCATION;VALUE=URI;X-ADDRESS=Rua Fradique Coutinho 915 - Pinheiros São Paulo São Paulo 05416-011 Brasil;X-APPLE-RADIUS=500;X-TITLE=Rua Fradique Coutinho\, 915 - Pinheiros:geo:-46.6892019,-23.5592934
CATEGORIES:LANÇAMENTOS,SESSÕES DE AUTÓGRAFOS
END:VEVENT
END:VCALENDAR