BEGIN:VCALENDAR
VERSION:2.0
PRODID:-//VILA - Blog - ECPv4.5.12.2//NONSGML v1.0//EN
CALSCALE:GREGORIAN
METHOD:PUBLISH
X-WR-CALNAME:VILA - Blog
X-ORIGINAL-URL:https://blog.livrariadavila.com.br
X-WR-CALDESC:Events for VILA - Blog
BEGIN:VEVENT
DTSTART;TZID=America/Sao_Paulo:20181125T150000
DTEND;TZID=America/Sao_Paulo:20181125T180000
DTSTAMP:20260420T084148
CREATED:20181106T181021Z
LAST-MODIFIED:20181106T181021Z
UID:23386-1543158000-1543168800@blog.livrariadavila.com.br
SUMMARY:Vigiando Pensamentos - Trabalhando os pensamentos a partir dos referenciais teóricos de Mindfulness\, aceitação e compaixão
DESCRIPTION:De Karen Voguel \nEd. Conscientia \n
URL:https://blog.livrariadavila.com.br/event/vigiando-pensamentos-trabalhando-os-pensamentos-a-partir-dos-referenciais-teoricos-de-mindfulness-aceitacao-e-compaixao/
CATEGORIES:LANÇAMENTOS,SESSÕES DE AUTÓGRAFOS
END:VEVENT
END:VCALENDAR