BEGIN:VCALENDAR
VERSION:2.0
PRODID:-//VILA - Blog - ECPv4.5.12.2//NONSGML v1.0//EN
CALSCALE:GREGORIAN
METHOD:PUBLISH
X-WR-CALNAME:VILA - Blog
X-ORIGINAL-URL:https://blog.livrariadavila.com.br
X-WR-CALDESC:Events for VILA - Blog
BEGIN:VEVENT
DTSTART;TZID=America/Sao_Paulo:20190411T183000
DTEND;TZID=America/Sao_Paulo:20190411T213000
DTSTAMP:20260420T150442
CREATED:20190322T192818Z
LAST-MODIFIED:20190322T192818Z
UID:95743-1555007400-1555018200@blog.livrariadavila.com.br
SUMMARY:Vindas vida idas - Manual para um ser em reflexão
DESCRIPTION: Com o intuito de propiciar os primeiros passos para o autoconhecimento\, esta obra procura incentivar o leitor à reflexão e ao questionamento de seus comportamentos\, de seus pensamentos\, de seus sentimentos. Alguns textos são baseados na própria experiência da autora. Outros\, fruto de estudo de várias teorias: filosóficas\, espirituais e psicológicas. Quando realizei esse livro na década de 90 sentia que faltava algo. Como: escrevi esse texto por quê? Hoje tenho a resposta. Depois da minha doença grave no final da mesma década\, percebi o quanto me ajudou e me ajuda a superar os desafios do dia a dia. Assim\, fiz uma árdua revisão colocando alguns novos pontos de vista e pronto! “A leitura de Vindas Vida Idas encanta pela delicadeza e harmonia que invoca pontos essenciais da vida. Não é fácil atingir essa maturidade e assim crescer e você a alcançou na sua plenitude. Enfrenta desafios e nos ensina a desafiá-los. Destaca-se a importância de sonhar\, pois o sonho engrandece\, impulsiona\, nem sempre no caminho que imaginamos\, vai além da nossa percepção. A cada leitura fui aprendendo e conhecendo a importância de nos valorizarmos e continuarmos a caminhada em busca do conhecimento e da felicidade.” Dra. Vivian Elito Maluf. \nDe Flávia Alice Zogbi \nEd. Scortecci \n
URL:https://blog.livrariadavila.com.br/event/vindas-vida-idas-manual-para-um-ser-em-reflexao/
CATEGORIES:LANÇAMENTOS,SESSÕES DE AUTÓGRAFOS
END:VEVENT
END:VCALENDAR