BEGIN:VCALENDAR
VERSION:2.0
PRODID:-//VILA - Blog - ECPv4.5.12.2//NONSGML v1.0//EN
CALSCALE:GREGORIAN
METHOD:PUBLISH
X-WR-CALNAME:VILA - Blog
X-ORIGINAL-URL:https://blog.livrariadavila.com.br
X-WR-CALDESC:Events for VILA - Blog
BEGIN:VEVENT
DTSTART;TZID=America/Sao_Paulo:20220324T180000
DTEND;TZID=America/Sao_Paulo:20220324T200000
DTSTAMP:20260424T011826
CREATED:20220318T133132Z
LAST-MODIFIED:20220318T133132Z
UID:113267-1648144800-1648152000@blog.livrariadavila.com.br
SUMMARY:VIVENDO DE CRIAÇÃO PERGUNTAS DE UMA JORNADA
DESCRIPTION:Vivendo de Criação\, escrito pelo ator e diretor de teatro Sergio Barreto\, é um livro de memórias ensaísticas abordando o ofício da criação e o processo criativo que envolve o universo das artes visuais\, sobretudo do teatro. \n \n
URL:https://blog.livrariadavila.com.br/event/vivendo-de-criacao-perguntas-de-uma-jornada/
LOCATION:Avenida do Batel\, nº 1868 – Loja 314 piso L3\, Curitiba\, Paraná\, 80420-090\, Brasil
GEO:-25.443012;-49.2899507
X-APPLE-STRUCTURED-LOCATION;VALUE=URI;X-ADDRESS=Avenida do Batel nº 1868 – Loja 314 piso L3 Curitiba Paraná 80420-090 Brasil;X-APPLE-RADIUS=500;X-TITLE=Avenida do Batel\, nº 1868 – Loja 314 piso L3:geo:-49.2899507,-25.443012
CATEGORIES:SESSÕES DE AUTÓGRAFOS
END:VEVENT
END:VCALENDAR