BEGIN:VCALENDAR
VERSION:2.0
PRODID:-//VILA - Blog - ECPv4.5.12.2//NONSGML v1.0//EN
CALSCALE:GREGORIAN
METHOD:PUBLISH
X-WR-CALNAME:VILA - Blog
X-ORIGINAL-URL:https://blog.livrariadavila.com.br
X-WR-CALDESC:Events for VILA - Blog
BEGIN:VEVENT
DTSTART;TZID=America/Sao_Paulo:20181129T183000
DTEND;TZID=America/Sao_Paulo:20181129T213000
DTSTAMP:20260420T213050
CREATED:20181015T175859Z
LAST-MODIFIED:20181015T175859Z
UID:23029-1543516200-1543527000@blog.livrariadavila.com.br
SUMMARY:Viver em alto risco social terapia familiar com EMDR
DESCRIPTION:De Maria das Graças Dias de Oliveira Passaretti \nIndependente \nHaverá bate-papo com o autor \n
URL:https://blog.livrariadavila.com.br/event/viver-em-alto-risco-social-terapia-familiar-com-emdr/
CATEGORIES:BATE-PAPO,LANÇAMENTOS,SESSÕES DE AUTÓGRAFOS
END:VEVENT
END:VCALENDAR