BEGIN:VCALENDAR
VERSION:2.0
PRODID:-//VILA - Blog - ECPv4.5.12.2//NONSGML v1.0//EN
CALSCALE:GREGORIAN
METHOD:PUBLISH
X-WR-CALNAME:VILA - Blog
X-ORIGINAL-URL:https://blog.livrariadavila.com.br
X-WR-CALDESC:Events for VILA - Blog
BEGIN:VEVENT
DTSTART;TZID=America/Sao_Paulo:20240403T183000
DTEND;TZID=America/Sao_Paulo:20240403T210000
DTSTAMP:20260419T153704
CREATED:20240401T212813Z
LAST-MODIFIED:20240401T212813Z
UID:121789-1712169000-1712178000@blog.livrariadavila.com.br
SUMMARY:VOCÊ É SUFICIENTE - FABIANA BERTOTTI – ED. PAROLE
DESCRIPTION: \n  \nEm “Você é Suficiente”\, você encontrará mais que palavras; encontrará um convite para uma viagem íntima de autodescoberta e fortalecimento. Este não é apenas um livro; é uma experiência transformadora que te guia pelo verdadeiro significado de possuir uma autoestima sólida — a chave para uma vida mais rica e plena. Através de suas páginas\, você entenderá por que nutrir a autoestima é indispensável\, influenciando cada escolha e cada relação em sua vida\, desbloqueando assim seu potencial mais autêntico e enfrentando a vida com uma nova perspectiva. \n“Você é Suficiente” desvenda o segredo de como uma autoestima saudável pode nos aproximar da vida para a qual fomos verdadeiramente destinados\, impactando não só como nos vemos\, mas também como nos conectamos com os outros. Este livro traz histórias inspiradoras e lições valiosas que promovem relacionamentos mais profundos e recompensadores\, começando muitas vezes pelo amor que oferecemos aos que estão à nossa volta. \nAo concluir a leitura\, você se sentirá renovada. Armada com uma compreensão profunda e ferramentas eficazes para fomentar e manter uma autoestima robusta\, estará pronta para trilhar um caminho mais feliz\, bem-sucedido e completo. “Você é Suficiente” não é somente um livro para ser lido; é uma transformação a ser vivida. \n
URL:https://blog.livrariadavila.com.br/event/voce-e-suficiente-fabiana-bertotti-ed-parole/
LOCATION:Avenida Iguatemi\, N° 777 Loja 137A1 - Vila Brandina\, Campinas\, São Paulo\, 13092-902\, Brasil
END:VEVENT
END:VCALENDAR