BEGIN:VCALENDAR
VERSION:2.0
PRODID:-//VILA - Blog - ECPv4.5.12.2//NONSGML v1.0//EN
CALSCALE:GREGORIAN
METHOD:PUBLISH
X-WR-CALNAME:VILA - Blog
X-ORIGINAL-URL:https://blog.livrariadavila.com.br
X-WR-CALDESC:Events for VILA - Blog
BEGIN:VEVENT
DTSTART;TZID=America/Sao_Paulo:20260718T150000
DTEND;TZID=America/Sao_Paulo:20260718T180000
DTSTAMP:20260420T083742
CREATED:20260417T180711Z
LAST-MODIFIED:20260417T181028Z
UID:133513-1784386800-1784397600@blog.livrariadavila.com.br
SUMMARY:VOCÊ NÃO É SEU PASSADO - FÁBIO MARTINHO CAMPOS - ED. INDEPENDENTE
DESCRIPTION: \n“Você não pode voltar no tempo\, mas pode sempre RECOMEÇAR” \nEste livro nasce do encontro entre dores reais e a esperança possível de quem escolhe recomeçar. Fábio Martinho Campos abre o coração e\, com linguagem direta e afetuosa\, conduz você por capítulos que conversam com a vida de verdade através de insights que nasceram de suas próprias batalhas: a vergonha que silencia\, o perdão que libera\, o reencontro consigo\, a coragem de recomeçar. Não há atalhos mágicos aqui. \nHá perguntas que provocam\, ações a serem tomadas e checklists para serem ticados para transformar lembranças em sentido e responsabilidade. Há capítulos que abraçam\, outros que incomodam e todos têm uma intenção clara: lembrar que a cura é possível\, e ela começa exatamente onde você está. \nSem promessas vazias\, o livro oferece caminhos reais para lidar com culpas\, romper ciclos\, assumir o presente e finalmente respirar sem o peso de antigas feridas. Se alguns pesos ou o passado ainda te puxam\, este é o momento de colocar cada coisa no seu lugar. \n“A dor não é ponto final\, é a vírgula antes de você RECOMEÇAR” \nAqui\, Fábio Martinho abre um caminho simples\, honesto e profundamente humano: perguntas que cutucam\, exercícios que tiram do papel e passos práticos que devolvem o fôlego a partir de reflexões profundas. Entre fé\, ciência e histórias\, você aprende a reconhecer padrões\, romper ciclos e transformar lembranças em sentido\, mas não em sentença. \nA Flor de Lótus\, símbolo desta jornada\, lembra que a beleza floresce exatamente onde parecia impossível. Assim como ela brota da lama e cresce na escuridão antes de tocar a luz\, você vai perceber beleza nascentes onde só havia dor e presença onde antes havia ruído. \nÉ nesse espaço de honestidade que você redescobre a própria força. Não a força de resistir ao passado\, mas de finalmente caminhar sem ele. A cura acontece quando você decide ser fiel a quem está se tornando. \n“Até a Flor de Lótus precisa da lama para florescer” \nEste não é um livro para apagar o que aconteceu\, e sim para reconquistar a liberdade de escolher quem você será a partir de agora. Se você se sente à beira de um novo capítulo\, mas ainda preso a páginas antigas\, estas páginas são o empurrão de cuidado que faltava. \nEm Você Não É Seu Passado\, sensibilidade e prática caminham juntas. Mais do que reflexão\, há movimento. Página após página\, a sua coragem encontra direção e o presente vira o lugar da cura para seguir em frente. \nRespire\, solte\, recomece: um novo capítulo começa agora. \nO passado explica. O presente decide. O futuro agradece. \n“Se você não virar a página para uma nova história\, ninguém lerá um novo capítulo” \n
URL:https://blog.livrariadavila.com.br/event/voce-nao-e-seu-passado-fabio-martinho-campos-ed-independente/
LOCATION:Avenida Paulista\, 1.063\, São Paulo\, SP\, São Paulo\, 01311-200\, Brasil
CATEGORIES:LANÇAMENTOS,SESSÕES DE AUTÓGRAFOS
END:VEVENT
END:VCALENDAR