BEGIN:VCALENDAR
VERSION:2.0
PRODID:-//VILA - Blog - ECPv4.5.12.2//NONSGML v1.0//EN
CALSCALE:GREGORIAN
METHOD:PUBLISH
X-WR-CALNAME:VILA - Blog
X-ORIGINAL-URL:https://blog.livrariadavila.com.br
X-WR-CALDESC:Events for VILA - Blog
BEGIN:VEVENT
DTSTART;TZID=America/Sao_Paulo:20221129T190000
DTEND;TZID=America/Sao_Paulo:20221129T213000
DTSTAMP:20260424T005300
CREATED:20221101T124037Z
LAST-MODIFIED:20221101T124037Z
UID:115866-1669748400-1669757400@blog.livrariadavila.com.br
SUMMARY:VOCÊ PODE TUDO: PERSISTÊNCIA\, PAIXÃO E APETITE PARA TRANSFORMAR SONHOS EM REALIDADE - JOSÉ CARLOS SEMENZATO - ED. COMPANHIA EDITORA NACIONAL
DESCRIPTION: \n  \n\n\n\n\n““A trajetória de Semenzato renderia um filme americano\, naquele enredo clássico do self-made man.” — Veja São Paulo Ninguém vende nada sem um sorriso na cara. Esta é uma frase que define a minha a carreira há muito tempo. Muito antes de eu fundar a SMZTO\, holding multissetorial de investimentos em franquias\, ou participar como investidor no reality show Shark Tank Brasil. Foi com esse pensamento que deixei de ser um vendedor de coxinhas na periferia de Lins e me tornei um dos mais bem-sucedidos empresários do Brasil. Neste livro\, você vai encontrar o relato sincero de um homem que nasceu determinado a fazer diferente e a mudar o futuro de sua família. Ao longo dos capítulos\, você conhecerá os erros e acertos que me fizeram chegar aonde cheguei. Nunca foi sorte\, nunca foi fácil… mas\, se eu consegui\, você também consegue. Espero inspirá-lo com as minhas experiências e levá-lo a mudar de uma vez por todas o seu jeito de encarar o empreendedorismo. Não dá para olhar para frente se você não valoriza aqueles que vieram antes de você. Não dá para realizar sonhos se você não finca as suas raízes na fé. Não dá para ser um homem de negócios se você não aprende a lidar com pessoas. Prepare-se para descobrir que Você pode tudo\, desde que trabalhe para isso e seja o melhor em tudo o que decidir fazer.\n\n\n\n\n
URL:https://blog.livrariadavila.com.br/event/voce-pode-tudo-persistencia-paixao-e-apetite-para-transformar-sonhos-em-realidade-jose-carlos-semenzato-ed-companhia-editora-nacional/
LOCATION:Av. Juscelino Kubitschek\, 2041 - Itaim Bibi\, São Paulo\, São Paulo\, 04543-011\, Brasil
GEO:-23.5914219;-46.6898224
X-APPLE-STRUCTURED-LOCATION;VALUE=URI;X-ADDRESS=Av. Juscelino Kubitschek 2041 - Itaim Bibi São Paulo São Paulo 04543-011 Brasil;X-APPLE-RADIUS=500;X-TITLE=Av. Juscelino Kubitschek\, 2041 - Itaim Bibi:geo:-46.6898224,-23.5914219
END:VEVENT
END:VCALENDAR