BEGIN:VCALENDAR
VERSION:2.0
PRODID:-//VILA - Blog - ECPv4.5.12.2//NONSGML v1.0//EN
CALSCALE:GREGORIAN
METHOD:PUBLISH
X-WR-CALNAME:VILA - Blog
X-ORIGINAL-URL:https://blog.livrariadavila.com.br
X-WR-CALDESC:Events for VILA - Blog
BEGIN:VEVENT
DTSTART;TZID=America/Sao_Paulo:20240617T180000
DTEND;TZID=America/Sao_Paulo:20240617T210000
DTSTAMP:20260420T092648
CREATED:20240520T210212Z
LAST-MODIFIED:20240520T210423Z
UID:122423-1718647200-1718658000@blog.livrariadavila.com.br
SUMMARY:VOTO A VOTO - MARIA CAROLINA TREVISAN E MAURÍCIO MOURA – ED. TELHA
DESCRIPTION: \n  \nJair Bolsonaro conseguiu um feito inédito: tornou-se o primeiro mandatário a não se reeleger desde que existe reeleição no país. Mas a disputa foi acirrada: o segundo turno das eleições presidenciais de 2022 teve o placar com a menor diferença entre ganhador e perdedor desde a redemocratização\, em 1985. Lula (PT) ganhou o pleito com 59.563.912 votos (50\,83% dos votos válidos)\, contra 57.675.427 votos (49\,17% dos votos válidos) de Bolsonaro\, uma diferença de 1.888.485 votos. “Voto a voto” analisa os cinco principais fatores que influenciaram na mudança de comportamento do eleitorado que escolheu Bolsonaro em 2018 e votou em Lula em 2022. Esse grupo de eleitores determinou o futuro do país. \n
URL:https://blog.livrariadavila.com.br/event/voto-a-voto-maria-carolina-trevisan-e-mauricio-moura-ed-telha/
LOCATION:Rua Fradique Coutinho\, 915 - Pinheiros\, São Paulo\, São Paulo\, 05416-011\, Brasil
GEO:-23.5592934;-46.6892019
X-APPLE-STRUCTURED-LOCATION;VALUE=URI;X-ADDRESS=Rua Fradique Coutinho 915 - Pinheiros São Paulo São Paulo 05416-011 Brasil;X-APPLE-RADIUS=500;X-TITLE=Rua Fradique Coutinho\, 915 - Pinheiros:geo:-46.6892019,-23.5592934
END:VEVENT
END:VCALENDAR