BEGIN:VCALENDAR
VERSION:2.0
PRODID:-//VILA - Blog - ECPv4.5.12.2//NONSGML v1.0//EN
CALSCALE:GREGORIAN
METHOD:PUBLISH
X-WR-CALNAME:VILA - Blog
X-ORIGINAL-URL:https://blog.livrariadavila.com.br
X-WR-CALDESC:Events for VILA - Blog
BEGIN:VEVENT
DTSTART;TZID=America/Sao_Paulo:20250320T180000
DTEND;TZID=America/Sao_Paulo:20250320T210000
DTSTAMP:20260423T003957
CREATED:20250214T204152Z
LAST-MODIFIED:20250214T204152Z
UID:126178-1742493600-1742504400@blog.livrariadavila.com.br
SUMMARY:VOZES FEMININAS NA REFORMA TRIBUTÁRIA - COORD. BIANCA XAVIER\, MARIANA FERREIRA E MARIANA VALENÇA - ED. LUMEN JURIS
DESCRIPTION: \n“Com muita alegria recebi o convi¬te para prefaciar esta obra dedicada à Reforma Tributária\, tema ao qual tenho me dedicado desde o início da minha vida acadêmica. Ainda mais feliz por se tratar de uma obra organizada e escrita por mulheres engajadas em aprender e a contri¬buir para as discussões sobre o tema. Após mais de trinta anos de tentati¬vas fracassadas de implementar um bom modelo de tributação sobre o consumo\, através da criação do IVA – Imposto sobre o Valor Agregado\, o Brasil ficou para trás no seu desenvol¬vimento econômico\, redução da de¬sigualdade social e competitividade internacional.\n(…)\nOs artigos presentes nesta obra tra¬zem uma variedade de temas que abrangem desde questões mais te¬óricas sobre princípios\, federalismo fiscal e debates sobre justiça tribu¬tária e fiscal; quanto relacionadas às normas gerais do IBS e da CBS\, tais como não cumulatividade e split payment\, bens de uso e consumo pessoal e responsabilidade de plata¬formas. Os artigos também tratam de questões setoriais como operações imobiliárias\, óleo e gás\, cooperativas e agronegócio\, tributação dos servi¬ços e regimes aduaneiros especiais.”\nMelina Rocha\nConsultora Internacional para organismos internacionais\, especialista em IVA. Doutora e Mestre pela Université Sorbonne Nouvelle\, Paris 3. \n
URL:https://blog.livrariadavila.com.br/event/vozes-femininas-na-reforma-tributaria-coord-bianca-xavier-mariana-ferreira-e-mariana-valenca-ed-lumen-juris-2/
LOCATION:Av. Juscelino Kubitschek\, 2041 - Itaim Bibi\, São Paulo\, São Paulo\, 04543-011\, Brasil
GEO:-23.5914219;-46.6898224
X-APPLE-STRUCTURED-LOCATION;VALUE=URI;X-ADDRESS=Av. Juscelino Kubitschek 2041 - Itaim Bibi São Paulo São Paulo 04543-011 Brasil;X-APPLE-RADIUS=500;X-TITLE=Av. Juscelino Kubitschek\, 2041 - Itaim Bibi:geo:-46.6898224,-23.5914219
CATEGORIES:SESSÕES DE AUTÓGRAFOS
END:VEVENT
END:VCALENDAR