BEGIN:VCALENDAR
VERSION:2.0
PRODID:-//VILA - Blog - ECPv4.5.12.2//NONSGML v1.0//EN
CALSCALE:GREGORIAN
METHOD:PUBLISH
X-WR-CALNAME:VILA - Blog
X-ORIGINAL-URL:https://blog.livrariadavila.com.br
X-WR-CALDESC:Events for VILA - Blog
BEGIN:VEVENT
DTSTART;TZID=America/Sao_Paulo:20240127T150000
DTEND;TZID=America/Sao_Paulo:20240127T160000
DTSTAMP:20260424T041955
CREATED:20240112T212327Z
LAST-MODIFIED:20240112T212327Z
UID:120917-1706367600-1706371200@blog.livrariadavila.com.br
SUMMARY:FÉRIAS NA VILA - CONTAÇÃO DE HISTÓRIA: CAÇADORES DE TESOURO - COM TIA MICHELE
DESCRIPTION: \n
URL:https://blog.livrariadavila.com.br/event/ferias-na-vila-contacao-de-historia-cacadores-de-tesouro-com-tia-michele/
LOCATION:Av. Moema\, 493\, São Paulo\, São Paulo\, 04077-022\, Brasil
GEO:-23.6060908;-46.6565273
X-APPLE-STRUCTURED-LOCATION;VALUE=URI;X-ADDRESS=Av. Moema 493 São Paulo São Paulo 04077-022 Brasil;X-APPLE-RADIUS=500;X-TITLE=Av. Moema\, 493:geo:-46.6565273,-23.6060908
END:VEVENT
BEGIN:VEVENT
DTSTART;TZID=America/Sao_Paulo:20240127T150000
DTEND;TZID=America/Sao_Paulo:20240127T160000
DTSTAMP:20260424T041955
CREATED:20240112T214222Z
LAST-MODIFIED:20240112T214222Z
UID:120923-1706367600-1706371200@blog.livrariadavila.com.br
SUMMARY:FÉRIAS NA VILA - CONTAÇÃO DE HISTÓRIA: MIKA O URSINHO TEM MEDO DO ESCURO - COM TIA ANA BEATRIZ
DESCRIPTION: \n
URL:https://blog.livrariadavila.com.br/event/ferias-na-vila-contacao-de-historia-mika-o-ursinho-tem-medo-do-escuro-com-tia-ana-beatriz/
LOCATION:Travessa Casalbuono\, 120 – Vila Guilherme\, São Paulo\, São Paulo\, 02049-000
END:VEVENT
BEGIN:VEVENT
DTSTART;TZID=America/Sao_Paulo:20240127T150000
DTEND;TZID=America/Sao_Paulo:20240127T170000
DTSTAMP:20260424T041955
CREATED:20240105T133120Z
LAST-MODIFIED:20240105T133120Z
UID:120702-1706367600-1706374800@blog.livrariadavila.com.br
SUMMARY:BATE-PAPO: HISTÓRIAS DE BERÇO: LIVROS PARA BEBÊ E PRIMEIRÍSSIMA INFÂNCIA - ALINE ABREU\, FRAN MATSUMOTO E LALAU - MEDIAÇÃO: CÁSSIA BITTENS
DESCRIPTION: \n
URL:https://blog.livrariadavila.com.br/event/bate-papo-historias-de-berco-livros-para-bebe-e-primeirissima-infancia-aline-abreu-fran-matsumoto-e-lalau-mediacao-cassia-bittens/
LOCATION:Rua Fradique Coutinho\, 915 - Pinheiros\, São Paulo\, São Paulo\, 05416-011\, Brasil
GEO:-23.5592934;-46.6892019
X-APPLE-STRUCTURED-LOCATION;VALUE=URI;X-ADDRESS=Rua Fradique Coutinho 915 - Pinheiros São Paulo São Paulo 05416-011 Brasil;X-APPLE-RADIUS=500;X-TITLE=Rua Fradique Coutinho\, 915 - Pinheiros:geo:-46.6892019,-23.5592934
END:VEVENT
BEGIN:VEVENT
DTSTART;TZID=America/Sao_Paulo:20240127T150000
DTEND;TZID=America/Sao_Paulo:20240127T180000
DTSTAMP:20260424T041955
CREATED:20240112T213211Z
LAST-MODIFIED:20240112T213211Z
UID:120920-1706367600-1706378400@blog.livrariadavila.com.br
SUMMARY:FÉRIAS NA VILA - JOGOS DOBBLE E UESTOP! COM GALÁPAGOS
DESCRIPTION: \n
URL:https://blog.livrariadavila.com.br/event/ferias-na-vila-jogos-dobble-e-uestop-com-galapagos-5/
LOCATION:Av. Juscelino Kubitschek\, 2041 - Itaim Bibi\, São Paulo\, São Paulo\, 04543-011\, Brasil
GEO:-23.5914219;-46.6898224
X-APPLE-STRUCTURED-LOCATION;VALUE=URI;X-ADDRESS=Av. Juscelino Kubitschek 2041 - Itaim Bibi São Paulo São Paulo 04543-011 Brasil;X-APPLE-RADIUS=500;X-TITLE=Av. Juscelino Kubitschek\, 2041 - Itaim Bibi:geo:-46.6898224,-23.5914219
END:VEVENT
BEGIN:VEVENT
DTSTART;TZID=America/Sao_Paulo:20240127T180000
DTEND;TZID=America/Sao_Paulo:20240127T210000
DTSTAMP:20260424T041955
CREATED:20231222T130931Z
LAST-MODIFIED:20231222T130931Z
UID:120642-1706378400-1706389200@blog.livrariadavila.com.br
SUMMARY:DE PIJAMAS JAMAIS...A HISTÓRIA DE UMA VIDA INTENSAMENTE VIVIDA - DARIO SILVIO ANTONIO RICCIARDELLI – ED. VERITAS
DESCRIPTION: \n  \n“De pijama jamais\, a história de uma vida intensamente vivida”\, fatos reais ou vislumbrados de Dario Silvio Antônio Ricciardelli. São 200 páginas contando histórias que vai de auxiliar de domador de elefantes à executivo de grandes empresas\, participando inclusive da implantação da Logística de Transporte no Brasil\, que nem esse nome tinha\, experiências e reflexões da vida\, do passado também de Mongaguá\, da numismática\, da filatelia e heráldica\, do esportista\, da criação de pombos correios de competição\, radiomadorismo e tantas outras\, pois estávamos lá. Transpondo todo tipo de desafios\, provações\, conquistas\, erros e acertos\, tanto na vida profissional\, social e de esportista\, várias modalidades à exaustão\, transformando o dia em 25 horas\, tomando menos sorvetes\, em busca da melhor produtividade\, sempre com estofo moral\, norteado pelas normas e procedimentos sociais. Longe de querer ser um exemplo\, mas quem sabe\, uma ferramenta a ser utilizada\, quando de adversidades impostas pela vida\, principalmente aos jovens\, pois para mim: “valem um império”. \n
URL:https://blog.livrariadavila.com.br/event/de-pijamas-jamais-a-historia-de-uma-vida-intensamente-vivida-dario-silvio-antonio-ricciardelli-ed-veritas/
LOCATION:Av.Luiz Eduardo de Toledo Prado\, 900\, Ribeirão Preto\, São Paulo\, 14027-250\, Brasil
END:VEVENT
BEGIN:VEVENT
DTSTART;TZID=America/Sao_Paulo:20240127T170000
DTEND;TZID=America/Sao_Paulo:20240127T213000
DTSTAMP:20260424T041955
CREATED:20240104T153355Z
LAST-MODIFIED:20240104T153355Z
UID:120691-1706374800-1706391000@blog.livrariadavila.com.br
SUMMARY:PAPO COM DEUS - CATIA REGIELY – ED. PRINCIPIS
DESCRIPTION: \n  \n\n\n\n\nNeste livro\, você encontrará não apenas palavras\, mas um abraço espiritual\, uma orientação celestial e uma chama que iluminará seus dias. Faça dele seu refúgio diário\, o seu lugar seguro de mensagens bíblicas. Deixe-se envolver pela sabedoria das Escrituras\, guiando seus dias com propósito\, amor e coragem. Escrito por Catia Regiely\, master coach criadora do PDM Club (Papo de Mulher)\, mais do que uma leitura diária\, este livro é uma jornada divina que transformará sua vida ao longo de um ano\, um dia de cada vez.\n\n\n\n\n
URL:https://blog.livrariadavila.com.br/event/papo-com-deus-catia-regiely-ed-principis/
LOCATION:Avenida do Batel\, nº 1868 – Loja 314 piso L3\, Curitiba\, Paraná\, 80420-090\, Brasil
GEO:-25.443012;-49.2899507
X-APPLE-STRUCTURED-LOCATION;VALUE=URI;X-ADDRESS=Avenida do Batel nº 1868 – Loja 314 piso L3 Curitiba Paraná 80420-090 Brasil;X-APPLE-RADIUS=500;X-TITLE=Avenida do Batel\, nº 1868 – Loja 314 piso L3:geo:-49.2899507,-25.443012
END:VEVENT
END:VCALENDAR