BEGIN:VCALENDAR
VERSION:2.0
PRODID:-//VILA - Blog - ECPv4.5.12.2//NONSGML v1.0//EN
CALSCALE:GREGORIAN
METHOD:PUBLISH
X-WR-CALNAME:VILA - Blog
X-ORIGINAL-URL:https://blog.livrariadavila.com.br
X-WR-CALDESC:Events for VILA - Blog
BEGIN:VEVENT
DTSTART;TZID=America/Sao_Paulo:20240130T180000
DTEND;TZID=America/Sao_Paulo:20240130T210000
DTSTAMP:20260423T234432
CREATED:20240117T175727Z
LAST-MODIFIED:20240117T175727Z
UID:120966-1706637600-1706648400@blog.livrariadavila.com.br
SUMMARY:CULTURA ORGANIZACIONAL LIVRE DE ASSÉDIO - CRIS KERR – ED. LITERARE
DESCRIPTION: \n  \n\n\n\n\nNesta obra\, a autora best-seller Cris Kerr mergulha na diversidade e inclusão\, tratando de temas como cultura machista\, LGBTfobia\, racismo e preconceitos que permeiam nosso cotidiano\, especialmente no ambiente de trabalho. Com uma abordagem informativa\, Cristina Kerr convoca seus leitores a tornarem-se aliados efetivos de grupos minorizados\, destacando a importância vital de promover a inclusão em todos os espaços. O livro se desdobra em três partes\, cada uma representada por um verbo que instiga à ação: “Descobrir”\, “Aprofundar” e “Agir”. Na primeira parte\, Kerr explora como a cultura molda os comportamentos desde a infância\, infiltrando-se no ambiente profissional e impactando homens e mulheres de maneiras distintas. A segunda parte aprofunda-se nas raízes da cultura hierárquica e permissiva\, revelando os meandros do assédio moral\, assédio sexual e violência contra mulheres. A autora lança luz sobre comportamentos inadequados que perpetuam preconceitos contra grupos minorizados\, abrangendo mulheres\, pessoas negras\, LGBTQIAPN+\, com deficiência e acima dos 50 anos\, assim como preconceitos recreativos relacionados à diversidade de corpos\, religião e origem regional. Na terceira e última parte\, os leitores são guiados à prática\, descobrindo maneiras de transformar a cultura do assédio em uma cultura inclusiva e respeitosa. Cris Kerr oferece estratégias tangíveis para auxiliar na construção de ambientes de trabalho saudáveis e igualitários. Enriquecendo ainda mais a narrativa\, quatro depoimentos pessoais são compartilhados. Dois homens relatam suas jornadas de desconstrução\, tornando-se agentes de transformação\, enquanto duas mulheres desvelam como ambientes tóxicos\, permissivos ao assédio moral e sexual\, impactaram significativamente suas trajetórias profissionais. Esta é uma obra essencial\, uma chamada urgente para a conscientização e ação\, oferecendo não apenas uma crítica incisiva do status quo\, mas também um roteiro inspirador para a construção de um futuro organizacional verdadeiramente inclusivo e respeitoso.\n\n\n\n\n
URL:https://blog.livrariadavila.com.br/event/cultura-organizacional-livre-de-assedio-cris-kerr-ed-literare/
LOCATION:Alameda Lorena\, 1501\, São Paulo\, São Paulo\, 01424-005\, Brasil
END:VEVENT
BEGIN:VEVENT
DTSTART;TZID=America/Sao_Paulo:20240130T183000
DTEND;TZID=America/Sao_Paulo:20240130T213000
DTSTAMP:20260423T234432
CREATED:20231226T155919Z
LAST-MODIFIED:20231226T155919Z
UID:120650-1706639400-1706650200@blog.livrariadavila.com.br
SUMMARY:CLUBE DO LIVRO - LIVRARIA DA VILA
DESCRIPTION: \n
URL:https://blog.livrariadavila.com.br/event/clube-do-livro-livraria-da-vila-6/
LOCATION:Rua Fradique Coutinho\, 915 - Pinheiros\, São Paulo\, São Paulo\, 05416-011\, Brasil
GEO:-23.5592934;-46.6892019
X-APPLE-STRUCTURED-LOCATION;VALUE=URI;X-ADDRESS=Rua Fradique Coutinho 915 - Pinheiros São Paulo São Paulo 05416-011 Brasil;X-APPLE-RADIUS=500;X-TITLE=Rua Fradique Coutinho\, 915 - Pinheiros:geo:-46.6892019,-23.5592934
END:VEVENT
BEGIN:VEVENT
DTSTART;TZID=America/Sao_Paulo:20240130T190000
DTEND;TZID=America/Sao_Paulo:20240130T213000
DTSTAMP:20260423T234432
CREATED:20240110T124432Z
LAST-MODIFIED:20240110T124432Z
UID:120736-1706641200-1706650200@blog.livrariadavila.com.br
SUMMARY:HORTA DA CORUJAS - CLAUDIA VISONI – ED. BAMBUAL
DESCRIPTION: \n  \nCom a intenção de resgatar e difundir\nsaberes relacionados à produção urbana de\ncomida\, a jornalista Claudia Visoni relata neste\nlivro como tornou-se agricultora e uma das\ncriadoras da Horta das Corujas – primeira\nhorta comunitária em praça pública da cidade\nde São Paulo –\, iniciativa que vem inspirando\nmuitas outras experiências agrícolas nas\ncidades\, até mesmo políticas públicas.\nO livro também oferece um guia completo\npara quem pretende iniciar o plantio\ndoméstico ou coletivo de alimentos\, os\nbastidores e tudo o que envolve a instalação\ne manutenção de uma horta comunitária. \n
URL:https://blog.livrariadavila.com.br/event/horta-da-corujas-claudia-visoni-ed-bambual/
LOCATION:Rua Fradique Coutinho\, 915 - Pinheiros\, São Paulo\, São Paulo\, 05416-011\, Brasil
GEO:-23.5592934;-46.6892019
X-APPLE-STRUCTURED-LOCATION;VALUE=URI;X-ADDRESS=Rua Fradique Coutinho 915 - Pinheiros São Paulo São Paulo 05416-011 Brasil;X-APPLE-RADIUS=500;X-TITLE=Rua Fradique Coutinho\, 915 - Pinheiros:geo:-46.6892019,-23.5592934
END:VEVENT
END:VCALENDAR