BEGIN:VCALENDAR
VERSION:2.0
PRODID:-//VILA - Blog - ECPv4.5.12.2//NONSGML v1.0//EN
CALSCALE:GREGORIAN
METHOD:PUBLISH
X-WR-CALNAME:VILA - Blog
X-ORIGINAL-URL:https://blog.livrariadavila.com.br
X-WR-CALDESC:Events for VILA - Blog
BEGIN:VEVENT
DTSTART;TZID=America/Sao_Paulo:20240203T140000
DTEND;TZID=America/Sao_Paulo:20240203T170000
DTSTAMP:20260423T170707
CREATED:20231220T193727Z
LAST-MODIFIED:20240111T132730Z
UID:120626-1706968800-1706979600@blog.livrariadavila.com.br
SUMMARY:IZAURA - A VOVÓ PILOTO - GUILHERME CRESPO - INDEPENDENTE
DESCRIPTION: \n  \nIzaura é uma vovozinha que tem um sonho: piloto de avião. Enquanto suas amigas e até mesmo sua própria família zombam de seu sonho\, a vovó não desiste e persiste no seu objetivo\, estudando e correndo atrás de um desejo de infância. A história fica mais interessante quando todos os envolvidos decidem fazer uma viagem. Será que Dona Izaura\, a vovó\, estará presente? Ou será que ela deixará de embarcar nessa aventura com suas amigas e sua família? \nUma linda e emocionante história de uma vovozinha que nos ensina muito sobre persistir\, acreditar nos nossos sonhos e jamais deixar que nos digam que algo é impossível\, principalmente quando o assunto é capacidade ou idade. \n
URL:https://blog.livrariadavila.com.br/event/izaura-a-vovo-piloto-guilherme-crespo-independente/
LOCATION:Av. Higienópolis\, 618 – Higienópolis\, São Paulo\, SP\, 01238-000\, Brasil
GEO:-23.542049;-46.6577148
X-APPLE-STRUCTURED-LOCATION;VALUE=URI;X-ADDRESS=Av. Higienópolis 618 – Higienópolis São Paulo SP 01238-000 Brasil;X-APPLE-RADIUS=500;X-TITLE=Av. Higienópolis\, 618 – Higienópolis:geo:-46.6577148,-23.542049
END:VEVENT
BEGIN:VEVENT
DTSTART;TZID=America/Sao_Paulo:20240203T140000
DTEND;TZID=America/Sao_Paulo:20240203T170000
DTSTAMP:20260423T170707
CREATED:20240116T143653Z
LAST-MODIFIED:20240116T143653Z
UID:120945-1706968800-1706979600@blog.livrariadavila.com.br
SUMMARY:OLIVIA E A CASA MÁGICA - FELIPE WASSERMAN – ED. ARTÊRINHA
DESCRIPTION: \n  \nEste é um livro que mostra que o segredo de uma casa feliz e cheia de imaginação é bem mais simples do que você imagina! Simplesmente ao abrir este livro\, vai ser o primeiro passo para um novo começo de felicidade e magia… \n
URL:https://blog.livrariadavila.com.br/event/olivia-e-a-casa-magica-felipe-wasserman-ed-arterinha/
LOCATION:Av. Roque Petroni Júnior\, 1089\, São Paulo\, São Paulo\, 04833001\, Brasil
END:VEVENT
BEGIN:VEVENT
DTSTART;TZID=America/Sao_Paulo:20240203T160000
DTEND;TZID=America/Sao_Paulo:20240203T190000
DTSTAMP:20260423T170707
CREATED:20240111T125945Z
LAST-MODIFIED:20240111T125945Z
UID:120745-1706976000-1706986800@blog.livrariadavila.com.br
SUMMARY:UM BARQUINHO QUALQUER - CRISTINA HELENA ROCHA – ED. LIVRES PALAVRAS
DESCRIPTION: \n  \nUm barquinho singelo\, de madeira\, muito amado pela comunidade… Como ele se tornou “um Barquinho Qualquer?” \n
URL:https://blog.livrariadavila.com.br/event/um-barquinho-qualquer-cristina-helena-rocha-ed-livres-palavras/
LOCATION:Av. Moema\, 493\, São Paulo\, São Paulo\, 04077-022\, Brasil
GEO:-23.6060908;-46.6565273
X-APPLE-STRUCTURED-LOCATION;VALUE=URI;X-ADDRESS=Av. Moema 493 São Paulo São Paulo 04077-022 Brasil;X-APPLE-RADIUS=500;X-TITLE=Av. Moema\, 493:geo:-46.6565273,-23.6060908
END:VEVENT
BEGIN:VEVENT
DTSTART;TZID=America/Sao_Paulo:20240203T180000
DTEND;TZID=America/Sao_Paulo:20240203T210000
DTSTAMP:20260423T170707
CREATED:20240126T130231Z
LAST-MODIFIED:20240126T130231Z
UID:121043-1706983200-1706994000@blog.livrariadavila.com.br
SUMMARY:SER JUIZ - CAROLINA MUNHOZ ROSSI\, DANIELLE MARTINS CARDOSO E LUIS TROSTER – ED. PROCESSO
DESCRIPTION: \n  \nAssim\, cada decisão\, cada sentença proferida\, é não apenas um ato de aplicação da lei\, mas um passo em direção a um país mais equitativo\, representativo e justo. A Magistratura é o espaço dos fortes\, dos corajosos\, dos abnegados\, dos que arrostam sacrifícios\, dos que sabem conviver com o desagrado\, o ressentimento e\, às vezes\, até a ira de quem não obteve junto ao Judiciário aquilo a que pensava ter direito. Ser Juiz é abrigar na alma a sensação de ter contribuído para serenar os ânimos; Ser Juiz é resgatar a dignidade humana afligida pela vulneração a direitos legítimos; Ser Juiz é dormir tranquilo\, convicto de ter cumprido o seu dever com devoção. Quando tudo parece falhar\, existe a derradeira esperança de uma juíza ou de um juiz que recolocarão as coisas no lugar. Essa a expectativa de quem se vê obrigado a entregar seus maiores valores à apreciação dessa figura que sempre existiu e que\, enquanto houver humanidade\, continuará a existir. Narrou então\, com voz embargada\, que teria sido em razão de uma decisão minha que determinou um tratamento a ela que evitou a amputação de uma se suas pernas. Casos como esses foram (e são) uma injeção de ânimo para mim. O índio foi condenado na Lei dos brancos\, mas ainda hoje me pergunto se\, em sua consciência\, aquilo era condenável. Ignorar o chamado da atualidade é acomodar-se diante de uma realidade que não existe mais. É a nossa especial capacidade de sentir\, de nos colocarmos na situação de nosso semelhante e de elegermos valores que nos habilita a julgamentos complexos e nos dá limites. Há um ditado que expressa coisa significativa. Diz algo do tipo: ?O dia mais importante de sua vida não é o dia de seu nascimento\, mas sim\, o dia que você descobre o motivo de ter nascido?. Criada pela avó materna até os 7 anos de idade no sertão do Ceará\, cresci na pobreza\, em família de trabalhadores rurais\, todos à época analfabetos ou semialfabetizados. Existem algumas atividades que não são propriamente jurisdicionais\, mas que se inserem dentro daquelas que são exercidas\, também\, pelos juízes. Sonhava e ainda sonho com um Judiciário acolhedor\, célere\, eficiente e feliz. De médico\, juiz e louco\, todo mundo tem um pouco \n
URL:https://blog.livrariadavila.com.br/event/ser-juiz-carolina-munhoz-rossi-danielle-martins-cardoso-e-luis-troster-ed-processo/
LOCATION:Av. Higienópolis\, 618 – Higienópolis\, São Paulo\, SP\, 01238-000\, Brasil
GEO:-23.542049;-46.6577148
X-APPLE-STRUCTURED-LOCATION;VALUE=URI;X-ADDRESS=Av. Higienópolis 618 – Higienópolis São Paulo SP 01238-000 Brasil;X-APPLE-RADIUS=500;X-TITLE=Av. Higienópolis\, 618 – Higienópolis:geo:-46.6577148,-23.542049
END:VEVENT
END:VCALENDAR