BEGIN:VCALENDAR
VERSION:2.0
PRODID:-//VILA - Blog - ECPv4.5.12.2//NONSGML v1.0//EN
CALSCALE:GREGORIAN
METHOD:PUBLISH
X-WR-CALNAME:VILA - Blog
X-ORIGINAL-URL:https://blog.livrariadavila.com.br
X-WR-CALDESC:Events for VILA - Blog
BEGIN:VEVENT
DTSTART;TZID=America/Sao_Paulo:20240207T180000
DTEND;TZID=America/Sao_Paulo:20240207T210000
DTSTAMP:20260423T094159
CREATED:20231215T182011Z
LAST-MODIFIED:20231215T182011Z
UID:120603-1707328800-1707339600@blog.livrariadavila.com.br
SUMMARY:COMUNICAÇÃO E LIDERANÇA - VOLUME 2 - LENY KYRILLOS\, CARLOS ALBERTO SANDERBERG E CÁSSIA GODOY – ED. CONTEXTO
DESCRIPTION:\n\n\n\n\n\nComunicação é a ação de tornar comum uma ideia\, um pensamento\, uma atitude. Em teoria\, parece simples. A prática\, porém\, chega repleta de mal-entendidos. O emissor diz algo e o interlocutor ouve outra coisa. Isso acontece de forma corriqueira\, afinal\, lidamos o tempo todo com pessoas diferentes de nós\, com princípios\, valores e propósitos distintos. Há também sutilezas importantíssimas\, como o tom de voz\, um gesto\, um olhar meio de lado. Agora imagine isso nos ambientes de trabalho\, onde costuma haver cobrança\, necessidade de entrega e competição. Já a liderança é um atributo que vai muito além do crachá da empresa. Somos líderes da nossa carreira\, da nossa família\, dos nossos grupos de amigos\, da nossa vida. Liderar é tomar atitudes com consciência e intenção\, e inspirar e motivar as pessoas ao nosso redor. Chegamos\, então\, ao Comunicação e liderança\, escrito com charme e leveza pela fonoaudióloga Leny Kyrillos e os jornalistas Carlos Alberto Sardenberg e Cássia Godoy.\n\n\n\n\n
URL:https://blog.livrariadavila.com.br/event/comunicacao-e-lideranca-volume-2-leny-kyrillos-carlos-alberto-sanderberg-e-cassia-godoy-ed-contexto/
LOCATION:Av. Juscelino Kubitschek\, 2041 - Itaim Bibi\, São Paulo\, São Paulo\, 04543-011\, Brasil
GEO:-23.5914219;-46.6898224
X-APPLE-STRUCTURED-LOCATION;VALUE=URI;X-ADDRESS=Av. Juscelino Kubitschek 2041 - Itaim Bibi São Paulo São Paulo 04543-011 Brasil;X-APPLE-RADIUS=500;X-TITLE=Av. Juscelino Kubitschek\, 2041 - Itaim Bibi:geo:-46.6898224,-23.5914219
END:VEVENT
BEGIN:VEVENT
DTSTART;TZID=America/Sao_Paulo:20240207T180000
DTEND;TZID=America/Sao_Paulo:20240207T210000
DTSTAMP:20260423T094159
CREATED:20240123T135645Z
LAST-MODIFIED:20240123T135645Z
UID:121007-1707328800-1707339600@blog.livrariadavila.com.br
SUMMARY:O DIREITO DO CONSUMIDOR NAS PLATAFORMAS DE COMPARTILHAMENTO - ANA CAROLINA FONTANA DE MATTOS – ED. THOTH
DESCRIPTION: \n  \n  \n
URL:https://blog.livrariadavila.com.br/event/o-direito-do-consumidor-nas-plataformas-de-compartilhamento-ana-carolina-fontana-de-mattos-ed-thoth/
LOCATION:Avenida do Batel\, nº 1868 – Loja 314 piso L3\, Curitiba\, Paraná\, 80420-090\, Brasil
GEO:-25.443012;-49.2899507
X-APPLE-STRUCTURED-LOCATION;VALUE=URI;X-ADDRESS=Avenida do Batel nº 1868 – Loja 314 piso L3 Curitiba Paraná 80420-090 Brasil;X-APPLE-RADIUS=500;X-TITLE=Avenida do Batel\, nº 1868 – Loja 314 piso L3:geo:-49.2899507,-25.443012
END:VEVENT
END:VCALENDAR