BEGIN:VCALENDAR
VERSION:2.0
PRODID:-//VILA - Blog - ECPv4.5.12.2//NONSGML v1.0//EN
CALSCALE:GREGORIAN
METHOD:PUBLISH
X-WR-CALNAME:VILA - Blog
X-ORIGINAL-URL:https://blog.livrariadavila.com.br
X-WR-CALDESC:Events for VILA - Blog
BEGIN:VEVENT
DTSTART;TZID=America/Sao_Paulo:20240215T180000
DTEND;TZID=America/Sao_Paulo:20240215T213000
DTSTAMP:20260422T203921
CREATED:20240116T140709Z
LAST-MODIFIED:20240116T140709Z
UID:120940-1708020000-1708032600@blog.livrariadavila.com.br
SUMMARY:AINDA DÁ TEMPO! TEMPO É VIDA - DENISE LOVISARO – ED. LITERARE
DESCRIPTION:\n\n\n\n\n\n“Ainda dá tempo! Tempo é vida” é uma obra inspiradora escrita por Denise Lovisaro\, que oferece uma perspectiva única sobre a relação entre o tempo e a vida. A autora destaca a importância de compreender que as 24 horas diárias são um recurso precioso e limitado\, e que a maneira como utilizamos esse tempo determina a qualidade de nossa existência. O livro não se concentra apenas em técnicas de gerenciamento de tempo\, mas explora a essência das escolhas que fazemos diariamente. Lovisaro revela como as distrações comuns em nosso cotidiano surgem e como podemos evitá-las para alcançar uma evolução significativa. O cerne da mensagem é a habilidade de dizer não\, especialmente em situações como reuniões desnecessárias que apenas consomem tempo sem agregar valor. Ao longo das páginas\, o leitor é conduzido a uma profunda reflexão sobre o diálogo interior que guia nossas ações\, tanto no âmbito profissional quanto pessoal. A autora compartilha insights valiosos\, destacando a influência do renomado Timothy Gallwey\, conhecido como o pai do coaching\, como fonte de inspiração e sabedoria. O livro não propõe simplesmente fazer mais em menos tempo\, mas enfatiza a importância de direcionar atenção e foco para o que realmente importa. Denise Lovisaro oferece ao leitor a oportunidade de aprender a transformar o tempo em seu maior aliado\, cultivando uma abordagem consciente e deliberada em relação às decisões cotidianas. “Ainda dá tempo! Tempo é vida” é um guia perspicaz para aqueles que buscam uma vida mais significativa\, baseada na utilização sábia e intencional do tempo disponível. Entre os capítulos estão: • TEMPO DE DESCOBERTAS – Uma placa para Sylvia – Uma imagem em perspectiva – Mudar para melhor: desafio ou treino? – A roda do tempo – Você e o tempo – o seu tempo é a sua vida! – O caminho entre A e B – Como o APA influencia a gestão do tempo. • TEMPO DE INVESTIGAR – Uma lição impactante – Que voz é essa? – A fórmula da performance – Espaço para o sonho – Self 1. Dá para negociar com ele? • TEMPO PARA SE PREPARAR – AMIGA DO PEITO – Será que eu também perco tempo? – É preciso eliminar um a um os vilões do tempo. • TEMPO PARA ORGANIZAR O TEMPO – O tempo em minhas mãos – Será que é possível otimizar tempo – Você tem clareza do seu propósito? – O nosso jeito de classificar tarefas – Que tal experimentar montar a sua matriz P.E.U.R – Distribuindo as suas tarefas na matriz P.E.U.R – Dicas para os líderes. • TRABALHO E GESTÃO DO TEMPO – O que é\n\n\n\n\n
URL:https://blog.livrariadavila.com.br/event/ainda-da-tempo-tempo-e-vida-denise-lovisaro-ed-literare/
LOCATION:Av. Juscelino Kubitschek\, 2041 - Itaim Bibi\, São Paulo\, São Paulo\, 04543-011\, Brasil
GEO:-23.5914219;-46.6898224
X-APPLE-STRUCTURED-LOCATION;VALUE=URI;X-ADDRESS=Av. Juscelino Kubitschek 2041 - Itaim Bibi São Paulo São Paulo 04543-011 Brasil;X-APPLE-RADIUS=500;X-TITLE=Av. Juscelino Kubitschek\, 2041 - Itaim Bibi:geo:-46.6898224,-23.5914219
END:VEVENT
BEGIN:VEVENT
DTSTART;TZID=America/Sao_Paulo:20240215T190000
DTEND;TZID=America/Sao_Paulo:20240215T213000
DTSTAMP:20260422T203921
CREATED:20240205T204307Z
LAST-MODIFIED:20240205T204307Z
UID:121137-1708023600-1708032600@blog.livrariadavila.com.br
SUMMARY:BIOGRAFIA OBSTINAÇÃO - PROFESSOR RIBEIRO - ED. EFICAZ
DESCRIPTION: \n  \nNewton de Oliveira é um dos maiores empreendedores do Brasil. À frente da Indústria Brasileira de Gases\, a IBG\, acompanhou e conviveu de perto os grandes acontecimentos da história do país e foi sempre admirado por sua competência\, obstinação\, empreendedorismo\, seriedade e dedicação. Esta biografia conta a história deste grande brasileiro\, desde sua infância no interior do Estado de São Paulo\, passando pelo curso de engenharia química\, sua vida em família\, a rotina de um workaholic\, seu envolvimento e participação no crescimento do país. Recheada de revelações e histórias empreendedoras\, esta obra descreve um homem de personalidade e opinião forte\, determinado\, que nunca deixou de sonhar por um país mais justo e honesto. Esta biografia revela a riqueza de conhecimentos e sentimentos de uma pessoa que\, demonstra ser\, somente objetividade\, mas que no íntimo\, é forte na fé\, sensível e emotivo. Abra seu coração e permita que essas palavras sagradas guiem você em momentos de profunda reflexão\, crescimento espiritual e renovação. Deixe-se envolver pela sabedoria divina e descubra o poder transformador que essas luzes da alma podem trazer à sua vida. \n
URL:https://blog.livrariadavila.com.br/event/biografia-obstinacao-professor-ribeiro-ed-eficaz/
LOCATION:Av. Roque Petroni Júnior\, 1089\, São Paulo\, São Paulo\, 04833001\, Brasil
END:VEVENT
END:VCALENDAR