BEGIN:VCALENDAR
VERSION:2.0
PRODID:-//VILA - Blog - ECPv4.5.12.2//NONSGML v1.0//EN
CALSCALE:GREGORIAN
METHOD:PUBLISH
X-WR-CALNAME:VILA - Blog
X-ORIGINAL-URL:https://blog.livrariadavila.com.br
X-WR-CALDESC:Events for VILA - Blog
BEGIN:VEVENT
DTSTART;TZID=America/Sao_Paulo:20240220T180000
DTEND;TZID=America/Sao_Paulo:20240220T210000
DTSTAMP:20260422T122756
CREATED:20240130T140110Z
LAST-MODIFIED:20240130T140110Z
UID:121074-1708452000-1708462800@blog.livrariadavila.com.br
SUMMARY:A TECLA SAP DO MARKETÊS - CAROLINA FERNANDES – ED. DVS
DESCRIPTION:\n\n\n\n\n\nA Tecla SAP do Marketês Toda profissão tem seus jargões e ao longo do tempo constituem quase que uma linguagem própria. Isso acontece naturalmente e facilita a comunicação dentro da comunidade daqueles profissionais. Mas quando eles precisam se comunicar com o público fora dessa bolha\, isso pode se tornar uma armadilha. O “mediquês”\, o “economês”\, o “juridiquês” e não diferente o “marketês”. No caso do marketing\, apertar a tecla SAP e traduzir a linguagem técnica para o bom e eficiente português é fundamental para estreitar a relação com seu cliente e garantir resultados efetivos. Não adianta encher o discurso de siglas e termos em inglês ou termos que até são em português\, mas são estritos da área de comunicação e marketing. O que poderia ser sinal de profissionalização e vasto conhecimento\, pode se transformar em algo incompreensível e\, pior (!)\, pedante. E isso\, definitivamente\, afastará qualquer possibilidade de gerar negócios e conexões. A proposta aqui é exatamente o que diz o subtítulo do livro: desmistificar a linguagem do marketing. É tornar algo tão determinante para o sucesso dos negócios não em simples do ponto de vista técnico – porque não é – mas algo compreensível para o seu cliente. Vamos ao marketing que importa\, aquele que dá resultado\, afinal\, independente do nome: se é uma LP\, uma Landing Page\, uma Página de Captação ou um simples Formulário de contato\, todos querem dizer a mesma coisa\, mas o seu cliente entende? O que realmente importa é que a comunicação aconteça\, a relação se estabeleça e o resultado chegue\, aperte a tecla SAP!\n\n\n\n\n
URL:https://blog.livrariadavila.com.br/event/a-tecla-sap-do-marketes-carolina-fernandes-ed-dvs/
LOCATION:Av. Juscelino Kubitschek\, 2041 - Itaim Bibi\, São Paulo\, São Paulo\, 04543-011\, Brasil
GEO:-23.5914219;-46.6898224
X-APPLE-STRUCTURED-LOCATION;VALUE=URI;X-ADDRESS=Av. Juscelino Kubitschek 2041 - Itaim Bibi São Paulo São Paulo 04543-011 Brasil;X-APPLE-RADIUS=500;X-TITLE=Av. Juscelino Kubitschek\, 2041 - Itaim Bibi:geo:-46.6898224,-23.5914219
END:VEVENT
BEGIN:VEVENT
DTSTART;TZID=America/Sao_Paulo:20240220T190000
DTEND;TZID=America/Sao_Paulo:20240220T213000
DTSTAMP:20260422T122756
CREATED:20240126T204917Z
LAST-MODIFIED:20240126T204917Z
UID:121052-1708455600-1708464600@blog.livrariadavila.com.br
SUMMARY:ENCONTRO COM O ESCRITOR - BETINA ANTON
DESCRIPTION: \n
URL:https://blog.livrariadavila.com.br/event/encontro-com-o-escritor-betina-anton/
LOCATION:Rua Fradique Coutinho\, 915 - Pinheiros\, São Paulo\, São Paulo\, 05416-011\, Brasil
GEO:-23.5592934;-46.6892019
X-APPLE-STRUCTURED-LOCATION;VALUE=URI;X-ADDRESS=Rua Fradique Coutinho 915 - Pinheiros São Paulo São Paulo 05416-011 Brasil;X-APPLE-RADIUS=500;X-TITLE=Rua Fradique Coutinho\, 915 - Pinheiros:geo:-46.6892019,-23.5592934
END:VEVENT
BEGIN:VEVENT
DTSTART;TZID=America/Sao_Paulo:20240220T190000
DTEND;TZID=America/Sao_Paulo:20240220T213000
DTSTAMP:20260422T122756
CREATED:20240202T190932Z
LAST-MODIFIED:20240202T190932Z
UID:121127-1708455600-1708464600@blog.livrariadavila.com.br
SUMMARY:CONTRATO DE NAMORO - FRANCIELE BARBOSA SANTOS - ED. ALMEDINA BRASIL
DESCRIPTION: \n  \nFruto da dissertação com a qual a autora obteve título de Mestre em Direito pela Universidade Estadual de Londrina\, esta obra trata de tema atual e muito instigante: o contrato de namoro. Com as mudanças ocasionadas nos relacionamentos interpessoais\, o namoro se aproximou do que se entende como união estável\, uma vez que os requisitos caracterizadores da união estável se tornaram perceptíveis no namoro. Essa situação ocasiona inquietudes quanto à insegurança jurídica latente de um eventual reconhecimento da união estável em um relacionamento de namoro. É nesse contexto que se insere o objeto da pesquisa\, o contrato de namoro\, o qual consiste em um negócio jurídico\, sendo a exteriorização de um negócio jurídico contemporâneo. O contrato de namoro é um instrumento pelo qual as partes pactuam sobre o relacionamento que mantêm\, bem como traçam aspectos patrimoniais e extrapatrimoniais que entendem como relevantes\, principalmente exteriorizam que não pretendem e não se consideram uma família. Trata-se de uma alternativa ao reconhecimento de uma união estável. \n
URL:https://blog.livrariadavila.com.br/event/contrato-de-namoro-franciele-barbosa-santos-ed-almedina-brasil/
LOCATION:Avenida Ayrton Senna da Silva\, 400 – 2º piso\, Londrina\, Paraná\, 86050-460\, Brasil
END:VEVENT
BEGIN:VEVENT
DTSTART;TZID=America/Sao_Paulo:20240220T183000
DTEND;TZID=America/Sao_Paulo:20240220T213000
DTSTAMP:20260422T122756
CREATED:20240214T154715Z
LAST-MODIFIED:20240214T154715Z
UID:121189-1708453800-1708464600@blog.livrariadavila.com.br
SUMMARY:FISCHER DE PEITO ABERTO - EDUARDO FISCHER - ED. ARTÊRA
DESCRIPTION: \nEu tinha tudo para dar errado na natação. Primeiramente\, porque nasci em uma cidade relativamente pequena\, sem muita tradição no esporte olímpico\, sem estrutura ideal para o alto rendimento. Depois\, porque nunca fui tão alto e forte assim (para os padrões competitivos\, pelo menos). E\, por fim\, porque\, muitas vezes\, eu remei contra a maré e bati de frente com as pessoas erradas. Mas\, ainda assim\, eu realizei o meu sonho. E\, neste livro\, conto para você. Com uma vontade imensa de eternizar a minha história para que meu filho\, Pedro\, possa conhecê-la\, não deixei nada fora. Não omiti nada. Tudo o que aconteceu de bom e ruim está nestas páginas. A natação me levou a dezenas de países diferentes. Participei de todas as principais competições do planeta e subi ao pódio da grande maioria. Conheci pessoas que continuam frequentando a minha casa até hoje e outras que me obrigam a atravessar a rua\, caso nossos caminhos se cruzem novamente. Na minha jornada de alegrias e tristezas\, emoções e decepções\, realizações e frustrações\, eu só tenho uma certeza: faria absolutamente tudo de novo\, do jeitinho que fiz na primeira vez. \n
URL:https://blog.livrariadavila.com.br/event/fischer-de-peito-aberto-eduardo-fischer-ed-artera-2/
LOCATION:R. Treze de Maio\, 1947 - Bela Vista\, São Paulo\, São Paulo\, 01327-900
END:VEVENT
BEGIN:VEVENT
DTSTART;TZID=America/Sao_Paulo:20240220T183000
DTEND;TZID=America/Sao_Paulo:20240220T213000
DTSTAMP:20260422T122756
CREATED:20240214T162948Z
LAST-MODIFIED:20240214T162948Z
UID:121192-1708453800-1708464600@blog.livrariadavila.com.br
SUMMARY:GILBERTO BRAGA - MAURICIO STYCER E ARTUR XEXÉO - ED. INTRÍNSECA
DESCRIPTION: \n  \nPrato cheio para noveleiros de plantão\, biografia do escritor é também retrato da TV brasileiraA vida de Gilberto Braga daria uma novela: tragédias familiares\, ascensão social\, superações na vida profissional e pessoal. Nesta biografia\, que conta não apenas a história de um dos maiores escritores de novela do país\, mas também da própria teledramaturgia brasileira\, Artur Xexéo e Mauricio Stycer mostram como o Balzac da Globo — comparação justificada pelo fato de fazer do dinheiro\, da ambição e da vingança os objetos centrais de suas obras — revolucionou os folhetins\, trazendo temas importantes e tratados de forma inédita muitas vezes.Fruto de extensa pesquisa dos autores\, o livro narra toda a vida de Gilberto: a infância com a família na Tijuca\, a juventude na Zona Sul do Rio de Janeiro\, a paixão pelo cinema\, os primeiros trabalhos como professor da Aliança Francesa e crítico de teatro do jornal O Globo\, o convite de Daniel Filho para iniciar a carreira na TV\, os primeiros casos especiais\, todas as novelas e minisséries escritas por ele e as dificuldades pessoais que enfrentou ao longo das décadas\, até seu falecimento\, em 2021.Um trabalho completo\, que mostra por que o autor merece estar entre os nomes que mudaram a trajetória das novelas no Brasil. \n
URL:https://blog.livrariadavila.com.br/event/gilberto-braga-mauricio-stycer-e-artur-xexeo-ed-intrinseca/
LOCATION:Rua Fradique Coutinho\, 915 - Pinheiros\, São Paulo\, São Paulo\, 05416-011\, Brasil
GEO:-23.5592934;-46.6892019
X-APPLE-STRUCTURED-LOCATION;VALUE=URI;X-ADDRESS=Rua Fradique Coutinho 915 - Pinheiros São Paulo São Paulo 05416-011 Brasil;X-APPLE-RADIUS=500;X-TITLE=Rua Fradique Coutinho\, 915 - Pinheiros:geo:-46.6892019,-23.5592934
END:VEVENT
BEGIN:VEVENT
DTSTART;TZID=America/Sao_Paulo:20240220T190000
DTEND;TZID=America/Sao_Paulo:20240220T213000
DTSTAMP:20260422T122756
CREATED:20240214T182315Z
LAST-MODIFIED:20240214T182315Z
UID:121195-1708455600-1708464600@blog.livrariadavila.com.br
SUMMARY:PIRÂMIDE DOS ALIMENTOS - SONIA TUCUNDUVA PHILIPPI - ED. MANOLE
DESCRIPTION: \n  \nSob a coordenação de Sonia Tucunduva Philippi e com a participação de renomados professores e especialistas\, a coleção Guias de Nutrição e Alimentação apresenta novos conhecimentos sobre os grupos dos alimentos e sua interface com a saúde. Os livros da coleção têm sempre a preocupação de reconhecer as necessidades do público\, com uma forma didática de transmitir os fundamentos básicos da ciência da Nutrição e também propiciar aos profissionais da área da saúde um espaço reflexivo sobre o cotidiano alimentar do brasileiro. A quarta edição da obra Pirâmide dos Alimentos: fundamentos básicos da nutrição\, a partir do ponto de vista organizacional do iconográfico do Metaverso da Pirâmide dos Alimentos\, traz perspectivas transportadas para um “prato de comida“ de acordo com as recomendações nutricionais atualizadas e com as novas diretrizes e orientações da Organização Mundial da Saúde (OMS) sobre consumo de gordura e carboidratos. A relevância e a atualidade deste livro representam um desafio. Introduzir os alimentos com a proposta de ressignificar os grupos alimentares\, valorizando e destacando o grupo das frutas\, legumes e verduras e respeitando os demais grupos da Pirâmide dos Alimentos\, ícone sedimentado na cultura popular e científica brasileira\, constitui\, com outras mudanças\, um exercício de liberdade e de inovação na expressão do conhecimento. A nova Pirâmide dos Alimentos está pronta para ser absorvida e utilizada pela comunidade. É uma referência científica atualizada\, permitindo ampliar o olhar para os grupos de alimentos\, as técnicas dietéticas inovadoras e as melhores escolhas alimentares como forma de prevenção de doenças e de promoção da saúde. Deve subsidiar discussões e fomentar políticas para pleno acesso às informações sobre nutrição e alimentação\, empoderando a população para melhores e mais adequadas escolhas alimentares. \n
URL:https://blog.livrariadavila.com.br/event/piramide-dos-alimentos-sonia-tucunduva-philippi-ed-manole/
LOCATION:Av. Higienópolis\, 618 – Higienópolis\, São Paulo\, SP\, 01238-000\, Brasil
GEO:-23.542049;-46.6577148
X-APPLE-STRUCTURED-LOCATION;VALUE=URI;X-ADDRESS=Av. Higienópolis 618 – Higienópolis São Paulo SP 01238-000 Brasil;X-APPLE-RADIUS=500;X-TITLE=Av. Higienópolis\, 618 – Higienópolis:geo:-46.6577148,-23.542049
END:VEVENT
END:VCALENDAR