BEGIN:VCALENDAR
VERSION:2.0
PRODID:-//VILA - Blog - ECPv4.5.12.2//NONSGML v1.0//EN
CALSCALE:GREGORIAN
METHOD:PUBLISH
X-WR-CALNAME:VILA - Blog
X-ORIGINAL-URL:https://blog.livrariadavila.com.br
X-WR-CALDESC:Events for VILA - Blog
BEGIN:VEVENT
DTSTART;TZID=America/Sao_Paulo:20240221T180000
DTEND;TZID=America/Sao_Paulo:20240221T210000
DTSTAMP:20260422T105857
CREATED:20231219T193715Z
LAST-MODIFIED:20231219T193715Z
UID:120611-1708538400-1708549200@blog.livrariadavila.com.br
SUMMARY:LEI ANTICORRUPÇÃO EM DEBATE - GIUSEPPE GIAMUNDO NETO – ED. JURUÁ
DESCRIPTION: \n  \n  \n
URL:https://blog.livrariadavila.com.br/event/lei-anticorrupcao-em-debate-giuseppe-giamundo-neto-ed-jurua/
LOCATION:Av. Juscelino Kubitschek\, 2041 - Itaim Bibi\, São Paulo\, São Paulo\, 04543-011\, Brasil
GEO:-23.5914219;-46.6898224
X-APPLE-STRUCTURED-LOCATION;VALUE=URI;X-ADDRESS=Av. Juscelino Kubitschek 2041 - Itaim Bibi São Paulo São Paulo 04543-011 Brasil;X-APPLE-RADIUS=500;X-TITLE=Av. Juscelino Kubitschek\, 2041 - Itaim Bibi:geo:-46.6898224,-23.5914219
END:VEVENT
BEGIN:VEVENT
DTSTART;TZID=America/Sao_Paulo:20240221T190000
DTEND;TZID=America/Sao_Paulo:20240221T213000
DTSTAMP:20260422T105857
CREATED:20240129T130219Z
LAST-MODIFIED:20240129T190842Z
UID:121057-1708542000-1708551000@blog.livrariadavila.com.br
SUMMARY:CONTRA O IDENTITARISMO NEOLIBERAL - RUBENS RUSSOMANNO RICCIARDI – ED. CONTRACORRENTE
DESCRIPTION: \n  \nA EDITORA CONTRACORRENTE tem a satisfação de anunciar a publicação do livro CONTRA O IDENTITARISMO NEOLIBERAL: um ensaio de poíesis crítica pela apologia das artes. \nA obra é um ensaio de poíesis crítica pela apologia das artes. Trata-se\, na filosofia das artes\, de uma nova epistemologia voltada às questões da linguagem e da ideologia – ao mesmo tempo hermenêutica e dialética\, existencial e crítica. Se\, em Marx e Engels\, há uma práxis crítica e\, na Escola de Frankfurt\, uma theoría crítica\, com a poíesis crítica pretende-se preencher a lacuna do esquecimento da poíesis e solucionar a confusão entre práxis e poíesis. Definindo a elaboração da obra de linguagem enquanto processo crítico-inventivo\, a poíesis não é teórica nem prática. Para a poíesis crítica importa o lógos poético\, prosseguindo não apenas os trabalhos iniciados por Heidegger\, mas também desde Heráclito e Aristóteles. Com a poíesis crítica se evidencia o abismo que há hoje entre as artes e a indústria da cultura. Os estudos abrangem também as diferenças entre linguagem e comunicação; entre obra de arte e kitsch. \nEntre outras questões contemporâneas\, propõe-se uma discussão acerca do eurocentrismo e da decolonialidade – ambas ideologias neoliberais da cultura que têm gerado uma aversão às artes e em especial à música. O que deveria ser compreendido por conta dos desdobramentos históricos de milênios – desde os tempos dos odeões e teatros greco-romanos – foi agora estigmatizado com o rótulo antipático da tal música clássica erudita europeia\, deturpando a essência da arte do som no tempo. Entretanto\, o clássico não se opõe ao popular\, mas sim à condição experimental ou ainda não consagrada das artes – e estas não são prerrogativas europeias – bem como a mera erudição não é suficiente para a constituição da poíesis. \nTanto o culturalismo quanto a sua configuração mais sectária\, o identitarismo\, ambos hostis às artes\, são definidos aqui por conta das suas implicações neoliberais. Com a censura identitária redutiva ao domínio cultural europeu\, ignora-se a influência maior dos EUA – não obstante a invasão\, em toda parte\, da sua indústria da cultura. Se por um lado\, os identitários neoliberais são agressivamente antagônicos às artes milenares\, por outro\, na sua idolatria pseudointelectual\, só recortam da realidade os clichês da indústria da cultura ianque-estadunidense. Até mesmo as nossas periferias\, invadidas culturalmente e assim reduzidas a pseudoperiferias\, espelham as vozes dos grandes centros do capital. \nO autor questiona ainda os preconceitos suscitados pela moral identitária\, quando se esquece não só a poíesis\, mas também a acumulação do capital e a luta de classes. Importa reconhecer o neoliberalismo e o seu fetiche\, a indústria da cultura\, enquanto estruturas ideológicas que determinam a consciência da sociedade. Indústria da cultura e identitarismo são o ópio do povo estendido\, pois estabelecem a alienação e a coisificação onde a religião não conseguiu se entranhar. A religião (o braço direito)\, a indústria da cultura (o seu fetiche) e o identitarismo (o braço esquerdo) formam a Santíssima Trindade do neoliberalismo\, sob as bênçãos do capital financeiro. \nPor fim\, estética\, cultura\, comunicação e identidade são conceitos compreendidos pela poíesis crítica enquanto neologismos tardios e extrínsecos à natureza da arte. Desse modo\, no contexto das artes\, amplia-se o rol dos monstros engendrados pelo sonho da razão iluminista. \n
URL:https://blog.livrariadavila.com.br/event/contra-o-identitarismo-neoliberal-rubens-russomanno-ricciardi-ed-contracorrente/
LOCATION:Av.Luiz Eduardo de Toledo Prado\, 900\, Ribeirão Preto\, São Paulo\, 14027-250\, Brasil
END:VEVENT
BEGIN:VEVENT
DTSTART;TZID=America/Sao_Paulo:20240221T183000
DTEND;TZID=America/Sao_Paulo:20240221T213000
DTSTAMP:20260422T105857
CREATED:20240214T151351Z
LAST-MODIFIED:20240214T151351Z
UID:121186-1708540200-1708551000@blog.livrariadavila.com.br
SUMMARY:FILHOS\, HISTÓRIAS INSPIRADORAS - DR. VAMBERTO MAIA FILHO - ED. LITERARE BOOKS
DESCRIPTION: \n  \nFilhos\, histórias inspiradoras” é uma obra que mergulha no delicado universo da infertilidade feminina\, revelando-a como um dos maiores desafios impostos pela natureza humana. Além de abordar as questões fisiológicas\, o livro destaca como maus hábitos podem impactar negativamente a fertilidade\, lançando luz sobre a importância de um estilo de vida saudável. \nAo seguir a jornada de mulheres em busca da maternidade\, a narrativa ressalta a necessidade crucial de apoio emocional e conhecimento sobre o problema. Exames e tratamentos são apresentados como ferramentas úteis\, além da essencial contribuição da tecnologia e da medicina de excelência no caminho para a realização desse grande propósito. \nO autor Vamberto Maia\, ao longo de sua carreira\, sempre reconheceu a importância da reprodução assistida como uma ferramenta capaz de transformar vidas\, alimentar sonhos e oferecer esperança. Sua abordagem ética e humana ressalta a compreensão de que a jornada não é solitária\, sendo o apoio mútuo uma peça fundamental. \nNo cerne do livro\, diversas histórias de mulheres que buscaram a maternidade se entrelaçam\, revelando como a dedicação\, o estudo e a inspiração foram fundamentais para o sucesso nas técnicas de reprodução assistida. A obra destaca que\, junto ao conhecimento científico\, a reprodução assistida é alimentada pelo vislumbre do futuro\, pela esperança incansável e pela crença no extraordinário. \n“Filhos\, histórias inspiradoras” oferece um olhar otimista\, repleto de exemplos reais de vida e conquistas\, proporcionando às leitoras não apenas informações valiosas\, mas também uma fonte renovada de esperança. Este livro é um guia que acompanha e motiva\, inspirando cada mulher a alcançar seu sonhado positivo\, revelando que\, mesmo diante dos desafios da infertilidade\, é possível construir um caminho para a maternidade por meio de histórias de superação e vitória. \n
URL:https://blog.livrariadavila.com.br/event/filhos-historias-inspiradoras-dr-vamberto-maia-filho-ed-literare-books/
LOCATION:R. Treze de Maio\, 1947 - Bela Vista\, São Paulo\, São Paulo\, 01327-900
END:VEVENT
BEGIN:VEVENT
DTSTART;TZID=America/Sao_Paulo:20240221T190000
DTEND;TZID=America/Sao_Paulo:20240221T213000
DTSTAMP:20260422T105857
CREATED:20240221T171618Z
LAST-MODIFIED:20240221T171618Z
UID:121269-1708542000-1708551000@blog.livrariadavila.com.br
SUMMARY:#SOBREVIVI - SONIA CONSIGLIO – ED. HELOISA BELLUZZO
DESCRIPTION: \n  \nEste é um livro para ler sozinha e poder chorar; copiar tre-\nchos e enviar para aquela pessoa especial que precisa de \napoio. Um livro para levar na bolsa e grifar pensamentos aos\nquais precisamos recorrer de tempos em tempos. Os textos\ncuidadosamente escolhidos por Sonia confortam\, elucidam\ne trazem luz a almas doloridas. \n
URL:https://blog.livrariadavila.com.br/event/sobrevivi-sonia-consiglio-ed-heloisa-belluzzo/
LOCATION:Alameda Lorena\, 1501\, São Paulo\, São Paulo\, 01424-005\, Brasil
END:VEVENT
END:VCALENDAR