BEGIN:VCALENDAR
VERSION:2.0
PRODID:-//VILA - Blog - ECPv4.5.12.2//NONSGML v1.0//EN
CALSCALE:GREGORIAN
METHOD:PUBLISH
X-WR-CALNAME:VILA - Blog
X-ORIGINAL-URL:https://blog.livrariadavila.com.br
X-WR-CALDESC:Events for VILA - Blog
BEGIN:VEVENT
DTSTART;TZID=America/Sao_Paulo:20240222T180000
DTEND;TZID=America/Sao_Paulo:20240222T210000
DTSTAMP:20260422T092150
CREATED:20240207T175620Z
LAST-MODIFIED:20240207T175620Z
UID:121151-1708624800-1708635600@blog.livrariadavila.com.br
SUMMARY:MANUAL DE SAÚDE MENTAL NO TRABALHO - SERGIO AMAD - INDEPENDENTE
DESCRIPTION: \n  \nCuidar da saúde mental é fundamental para o bem-estar e qualidade de vida. Assim como as pessoas cuidam do corpo\, essa mesma atenção deve ser dada à mente. \n
URL:https://blog.livrariadavila.com.br/event/manual-de-saude-mental-no-trabalho-sergio-amad-independente/
LOCATION:Travessa Casalbuono\, 120 – Vila Guilherme\, São Paulo\, São Paulo\, 02049-000
END:VEVENT
BEGIN:VEVENT
DTSTART;TZID=America/Sao_Paulo:20240222T180000
DTEND;TZID=America/Sao_Paulo:20240222T210000
DTSTAMP:20260422T092150
CREATED:20240222T141520Z
LAST-MODIFIED:20240222T141520Z
UID:121280-1708624800-1708635600@blog.livrariadavila.com.br
SUMMARY:KARDEC PARA O SÉCULO 21 - DORA INCONTRI – ED. COMENIUS
DESCRIPTION: \n  \nDora Incontri se propõe nesse livro a fazer um encontro entre as ideias de Kardec do século 19 com correntes do pensamento contemporâneo. Um diálogo crítico\, para reler Kardec em nossos tempos e trazer ao mesmo tempo o contexto em que as ideias espíritas nasceram na França daquela época. \n
URL:https://blog.livrariadavila.com.br/event/kardec-para-o-seculo-21-dora-incontri-ed-comenius/
LOCATION:Rua Fradique Coutinho\, 915 - Pinheiros\, São Paulo\, São Paulo\, 05416-011\, Brasil
GEO:-23.5592934;-46.6892019
X-APPLE-STRUCTURED-LOCATION;VALUE=URI;X-ADDRESS=Rua Fradique Coutinho 915 - Pinheiros São Paulo São Paulo 05416-011 Brasil;X-APPLE-RADIUS=500;X-TITLE=Rua Fradique Coutinho\, 915 - Pinheiros:geo:-46.6892019,-23.5592934
END:VEVENT
BEGIN:VEVENT
DTSTART;TZID=America/Sao_Paulo:20240222T190000
DTEND;TZID=America/Sao_Paulo:20240222T213000
DTSTAMP:20260422T092150
CREATED:20240209T152259Z
LAST-MODIFIED:20240209T152259Z
UID:121176-1708628400-1708637400@blog.livrariadavila.com.br
SUMMARY:ENSINAMENTOS ANTIGOS - RODRIGO HIDALGO - ED. LABRADOR
DESCRIPTION: \n  \nNesta obra\, que transcende os limites do mundo financeiro\, Rodrigo Hidalgo convida a uma jornada íntima de autodescoberta. Você não encontrará um guia tradicional para enriquecer rapidamente. Em vez disso\, mergulhará em um universo de reflexões sobre a vida\, o dinheiro e a mente humana. O livro questiona supostas “verdades” e paradigmas financeiros\, revelando uma abordagem mais consciente e significativa em relação ao capital. Embora o foco seja o mundo financeiro\, as lições vão muito além. Combinando experiências pessoais e conhecimentos sobre budismo e filosofia antiga\, entre outras áreas\, o autor nos presenteia com uma leitura transformadora\, que iluminará a jornada em direção aos nossos objetivos mais profundos e genuínos. \n
URL:https://blog.livrariadavila.com.br/event/ensinamentos-antigos-rodrigo-hidalgo-ed-labrador/
LOCATION:Av. Juscelino Kubitschek\, 2041 - Itaim Bibi\, São Paulo\, São Paulo\, 04543-011\, Brasil
GEO:-23.5914219;-46.6898224
X-APPLE-STRUCTURED-LOCATION;VALUE=URI;X-ADDRESS=Av. Juscelino Kubitschek 2041 - Itaim Bibi São Paulo São Paulo 04543-011 Brasil;X-APPLE-RADIUS=500;X-TITLE=Av. Juscelino Kubitschek\, 2041 - Itaim Bibi:geo:-46.6898224,-23.5914219
END:VEVENT
END:VCALENDAR