BEGIN:VCALENDAR
VERSION:2.0
PRODID:-//VILA - Blog - ECPv4.5.12.2//NONSGML v1.0//EN
CALSCALE:GREGORIAN
METHOD:PUBLISH
X-WR-CALNAME:VILA - Blog
X-ORIGINAL-URL:https://blog.livrariadavila.com.br
X-WR-CALDESC:Events for VILA - Blog
BEGIN:VEVENT
DTSTART;TZID=America/Sao_Paulo:20240224T140000
DTEND;TZID=America/Sao_Paulo:20240224T160000
DTSTAMP:20260422T054741
CREATED:20240223T122048Z
LAST-MODIFIED:20240223T122048Z
UID:121294-1708783200-1708790400@blog.livrariadavila.com.br
SUMMARY:CONTAÇÃO DE HISTÓRIAS – COLÉGIO OSWALD DE ANDRADE – LIVRARIA DA VILA
DESCRIPTION: \n
URL:https://blog.livrariadavila.com.br/event/contacao-de-historias-colegio-oswald-de-andrade-livraria-da-vila-3/
LOCATION:Rua Fradique Coutinho\, 915 - Pinheiros\, São Paulo\, São Paulo\, 05416-011\, Brasil
GEO:-23.5592934;-46.6892019
X-APPLE-STRUCTURED-LOCATION;VALUE=URI;X-ADDRESS=Rua Fradique Coutinho 915 - Pinheiros São Paulo São Paulo 05416-011 Brasil;X-APPLE-RADIUS=500;X-TITLE=Rua Fradique Coutinho\, 915 - Pinheiros:geo:-46.6892019,-23.5592934
END:VEVENT
BEGIN:VEVENT
DTSTART;TZID=America/Sao_Paulo:20240224T150000
DTEND;TZID=America/Sao_Paulo:20240224T180000
DTSTAMP:20260422T054741
CREATED:20240115T124616Z
LAST-MODIFIED:20240115T124616Z
UID:120928-1708786800-1708797600@blog.livrariadavila.com.br
SUMMARY:O CARDEAL E A BRUXA NA INQUISIÇÃO ESPANHOLA - SERGIO NAVARRO E FERNANDA ALPISTE – ED. PARAQUEDAS
DESCRIPTION: \n  \n“Essa culpa vou carregar pelo resto de meus dias\, pois uma senhora que muito me ajudou terminou seus dias na fogueira da inquisição\, tentando me proteger.” \nTodos os dias\, o Cardeal Lucca di Varesi reza para que a crueldade humana termine. Em missão designada pelo Papa Sisto IV\, ele é encaminhado para Sevilha\, na Espanha\, como membro do Tribunal da Inquisição Espanhola. Será que um representante do Vaticano poderia contribuir para evitar um grande número de mortos naquele massacre? \nEsse romance de Sergio Navarro e Fernanda Alpiste conta a história do Cardeal Lucca\, um homem muito estudioso e dedicado às funções que lhe são designadas pela Igreja. Para isso\, sempre mantém uma postura sóbria e madura. Porém\, também tem uma essência alegre e descontraída. Durante sua viagem até Sevilha\, ele e seus ordenanças fazem uma pausa para descansar e conhecem um acampamento cigano. Ali\, Lucca deixa transparecer seu lado descontraído e faz muitos amigos\, incluindo a cigana Maria\, que posteriormente lhe apresenta a bruxa Sinforosa. \nAo entrar em contato com a bruxa\, a vida do Cardeal passa a ter outro sentido. Ele começa a ter visões sobre suas vidas passadas e a compreender mais sobre si mesmo. No entanto\, a amizade entre um Cardeal e uma bruxa acaba virando motivo de perseguição da inquisição espanhola. \n
URL:https://blog.livrariadavila.com.br/event/o-cardeal-e-a-bruxa-na-inquisicao-espanhola-sergio-navarro-e-fernanda-alpiste-ed-paraquedas/
LOCATION:Av. Higienópolis\, 618 – Higienópolis\, São Paulo\, SP\, 01238-000\, Brasil
GEO:-23.542049;-46.6577148
X-APPLE-STRUCTURED-LOCATION;VALUE=URI;X-ADDRESS=Av. Higienópolis 618 – Higienópolis São Paulo SP 01238-000 Brasil;X-APPLE-RADIUS=500;X-TITLE=Av. Higienópolis\, 618 – Higienópolis:geo:-46.6577148,-23.542049
END:VEVENT
BEGIN:VEVENT
DTSTART;TZID=America/Sao_Paulo:20240224T150000
DTEND;TZID=America/Sao_Paulo:20240224T180000
DTSTAMP:20260422T054741
CREATED:20240215T194910Z
LAST-MODIFIED:20240215T194910Z
UID:121213-1708786800-1708797600@blog.livrariadavila.com.br
SUMMARY:CONFIDENCIAL EXECUTIVOS DIRETORES & GERENTES - WELLINGTON RIOS - INDEPENDENTE
DESCRIPTION: \n  \n\n\n\nConfidencial Executivos: Diretores & Gerentes\n\n\nTrabalho em equipe;\n\n\nOrientações para Gestores;\n\n\nRecursos Humanos no Brasil;\n\n\nConhecendo o Modelo Mental;\n\n\nPersonalidades profissionais;\n\n\nVisão Sistêmica para Diretores;\n\n\nTrabalhos durante a pandemia;\n\n\nOrientações do bom profissional;\n\n\nMeio ambiente na área de trabalho;\n\n\nConhecendo soluções para conflitos;\n\n\nEntrevista de emprego: como proceder;\n\n\nViagens internacionais a trabalho e adaptação;\n\n\nDesenvolvimento de produto: as dificuldades e as soluções;\n\n\nMetodologia para controle de projetos e desenvolvimentos;\n\n\nTemas atuais que todos os Diretores e Gerentes precisam saber;\n\n\nEntretenimento: recomendações de ótimas músicas e filmes.\n\n\n\n
URL:https://blog.livrariadavila.com.br/event/confidencial-executivos-diretores-gerentes-wellington-rios-independente/
LOCATION:Av. Roque Petroni Júnior\, 1089\, São Paulo\, São Paulo\, 04833001\, Brasil
END:VEVENT
BEGIN:VEVENT
DTSTART;TZID=America/Sao_Paulo:20240224T160000
DTEND;TZID=America/Sao_Paulo:20240224T190000
DTSTAMP:20260422T054741
CREATED:20240129T170652Z
LAST-MODIFIED:20240129T170652Z
UID:121066-1708790400-1708801200@blog.livrariadavila.com.br
SUMMARY:ENTREGA – RIMA AWADA ZAHRA – ED. DO BRASIL
DESCRIPTION:\n\n\n\n\n\nPara que alguns possam viver vidas confortáveis e seguras\, muitas outras pessoas precisam atuar em funções fundamentais. No entanto\, esses profissionais frequentemente são ignorados\, ou até desprezados. Essa realidade cruel não pode mais ter espaço nos dias de hoje. Em Entrega\, Rima Awada Zahra faz uma homenagem a esses profissionais que\, mais do que reconhecimento\, merecem nosso agradecimento. ​\n\n\n\n\n
URL:https://blog.livrariadavila.com.br/event/entrega-rima-awada-zahra-ed-do-brasil-2/
LOCATION:Alameda Lorena\, 1501\, São Paulo\, São Paulo\, 01424-005\, Brasil
END:VEVENT
BEGIN:VEVENT
DTSTART;TZID=America/Sao_Paulo:20240224T180000
DTEND;TZID=America/Sao_Paulo:20240224T210000
DTSTAMP:20260422T054741
CREATED:20240130T155957Z
LAST-MODIFIED:20240130T155957Z
UID:121077-1708797600-1708808400@blog.livrariadavila.com.br
SUMMARY:NUMEROLOGIA - CLARISSE FERREIRA – ED. MAHATMA
DESCRIPTION: \n  \nNumerologia para além dos números \n
URL:https://blog.livrariadavila.com.br/event/numerologia-clarisse-ferreira-ed-mahatma/
LOCATION:Avenida do Batel\, nº 1868 – Loja 314 piso L3\, Curitiba\, Paraná\, 80420-090\, Brasil
GEO:-25.443012;-49.2899507
X-APPLE-STRUCTURED-LOCATION;VALUE=URI;X-ADDRESS=Avenida do Batel nº 1868 – Loja 314 piso L3 Curitiba Paraná 80420-090 Brasil;X-APPLE-RADIUS=500;X-TITLE=Avenida do Batel\, nº 1868 – Loja 314 piso L3:geo:-49.2899507,-25.443012
END:VEVENT
END:VCALENDAR