BEGIN:VCALENDAR
VERSION:2.0
PRODID:-//VILA - Blog - ECPv4.5.12.2//NONSGML v1.0//EN
CALSCALE:GREGORIAN
METHOD:PUBLISH
X-WR-CALNAME:VILA - Blog
X-ORIGINAL-URL:https://blog.livrariadavila.com.br
X-WR-CALDESC:Events for VILA - Blog
BEGIN:VEVENT
DTSTART;TZID=America/Sao_Paulo:20240227T183000
DTEND;TZID=America/Sao_Paulo:20240227T203000
DTSTAMP:20260422T010058
CREATED:20240202T175803Z
LAST-MODIFIED:20240202T175803Z
UID:121123-1709058600-1709065800@blog.livrariadavila.com.br
SUMMARY:CLUBE DO LIVRO - LIVRARIA DA VILA
DESCRIPTION: \n  \nPublicado originalmente em 1966\, Flores para Algernon foi o grande expoente da carreira do escritor\, ganhador do prêmio Nebula e inspiração para o filme Os Dois Mundos de Charly (1968) – que garantiu a Cliff Robertson o Oscar de Melhor Ator. E com mais de 5 milhões de exemplares vendidos e referência dentro das escolas dos Estados Unidos\, a obra surgiu sobre as palavras de um homem de 32 anos e 68 de QI: Charlie Gordon. Com excesso de erros no início do romance\, os relatos de Charlie revelam sua condição limitada\, consequência de uma grave deficiência intelectual\, que ao menos o mantém protegido dentro de um “mundo” particular – indiferente às gozações dos colegas de trabalho e intocado por tragédias familiares. Porém\, ao participar de uma cirurgia revolucionária que aumenta o seu QI\, ele não apenas se torna mais inteligente que os próprios médicos que o operaram\, como também vira testemunha de uma nova realidade: ácida\, crua e problemática. Se o conhecimento é uma benção\, Daniel Keyes constrói um personagem complexo e intrigante\, que questiona essa sorte e reflete sobre suas relações sociais e a própria existência. E tudo isso ao lado de Algernon\, seu rato de estimação e a primeira cobaia bem-sucedida no processo cirúrgico. Perturbador e profundo\, Flores para Algernon é tão contemporâneo quanto na época de sua primeira publicação\, debatendo visões de mundo\, relações interpessoais e\, claro\, a percepção sobre nós mesmos. Assim\, se você está preparado para explorar as realidades de Charlie Gordon\, também é a chance para perguntar: afinal\, o mundo que sempre percebemos a nossa volta realmente existe? \n
URL:https://blog.livrariadavila.com.br/event/clube-do-livro-livraria-da-vila-7/
LOCATION:Rua Fradique Coutinho\, 915 - Pinheiros\, São Paulo\, São Paulo\, 05416-011\, Brasil
GEO:-23.5592934;-46.6892019
X-APPLE-STRUCTURED-LOCATION;VALUE=URI;X-ADDRESS=Rua Fradique Coutinho 915 - Pinheiros São Paulo São Paulo 05416-011 Brasil;X-APPLE-RADIUS=500;X-TITLE=Rua Fradique Coutinho\, 915 - Pinheiros:geo:-46.6892019,-23.5592934
END:VEVENT
BEGIN:VEVENT
DTSTART;TZID=America/Sao_Paulo:20240227T180000
DTEND;TZID=America/Sao_Paulo:20240227T210000
DTSTAMP:20260422T010058
CREATED:20240117T182601Z
LAST-MODIFIED:20240117T182601Z
UID:120969-1709056800-1709067600@blog.livrariadavila.com.br
SUMMARY:NAS ESQUINAS DO MUNDO - PAULO MENDONÇA – ED. PARAQUEDAS
DESCRIPTION: \n  \nPassear “Nas esquinas do mundo” pela lente P&B do celular de Paulo Mendonça é como perambular pelas ruas de cidades ao redor do globo\, ouvindo música\, mesmo que não haja som algum por perto. Mas tampouco é necessário. As imagens e as legendas fazem as canções ganharem vida na imaginação. Ainda que não se conheça “Preciso me encontrar”\, do Cartola\, ou “Hey Jude”\, dos Beatles\, todos nós já nos deparamos com músicos de rua\, suas vozes e seus instrumentos\, encantando o passeio e as calçadas de cidades como Rio de Janeiro\, Paris\, Lisboa e Nova York. \nSobre o autor \nPaulo Mendonça é administrador de empresas e possui longa experiência como dirigente de entidades do mercado financeiro e de capitais brasileiro. Enquanto diretor geral da Andima\, foi responsável pela formulação e implantação do Certificado do Audiovisual\, título que possibilitou o processo de retomada da produção cinematográfica brasileira no ano de 1993. \nFoi membro do Conselho Superior de Cinema e do Comitê Gestor do FSA – Fundo Setorial do Audiovisual da Ancine\, além de membro do Conselho Curador da Fundação Padre Anchieta (Tv Cultura). \nDurante quinze anos\, Mendonça foi diretor geral e responsável pela coprodução de mais de trezentos filmes do Canal Brasil de televisão por assinatura\, uma associação entre o Grupo Globo e uma empresa que reúne os maiores produtores cinematográficos brasileiros. E\, desde 2017\, é vice-presidente da Academia Brasileira de Cinema e Audiovisual. \nComo compositor\, foi autor de sucessos como “Sangue Latino” do grupo Secos e Molhados\, dentre muitos outros. Escreveu para teatro\, música e cinema\, sendo roteirista do cultuado filme Pra Frente Brasil\, de Roberto Farias\, e diretor de A Casa Tomada\, baseado num conto de Julio Cortázar. \n
URL:https://blog.livrariadavila.com.br/event/nas-esquinas-do-mundo-paulo-mendonca-ed-paraquedas/
LOCATION:Rua Fradique Coutinho\, 915 - Pinheiros\, São Paulo\, São Paulo\, 05416-011\, Brasil
GEO:-23.5592934;-46.6892019
X-APPLE-STRUCTURED-LOCATION;VALUE=URI;X-ADDRESS=Rua Fradique Coutinho 915 - Pinheiros São Paulo São Paulo 05416-011 Brasil;X-APPLE-RADIUS=500;X-TITLE=Rua Fradique Coutinho\, 915 - Pinheiros:geo:-46.6892019,-23.5592934
END:VEVENT
END:VCALENDAR