BEGIN:VCALENDAR
VERSION:2.0
PRODID:-//VILA - Blog - ECPv4.5.12.2//NONSGML v1.0//EN
CALSCALE:GREGORIAN
METHOD:PUBLISH
X-WR-CALNAME:VILA - Blog
X-ORIGINAL-URL:https://blog.livrariadavila.com.br
X-WR-CALDESC:Events for VILA - Blog
BEGIN:VEVENT
DTSTART;TZID=America/Sao_Paulo:20240228T170000
DTEND;TZID=America/Sao_Paulo:20240228T200000
DTSTAMP:20260421T232445
CREATED:20240126T150314Z
LAST-MODIFIED:20240129T160341Z
UID:121049-1709139600-1709150400@blog.livrariadavila.com.br
SUMMARY:A ARTE DO CLOWN E O HUMOR NA ESCOLA - HENRIQUE CESARINO PESSOA – ED. ARTÊRA
DESCRIPTION: \n  \n\n\n\n\nEsta obra apresenta uma proposta pedagógica autêntica e singular: trazer o Clown para sala de aula como uma possibilidade de resgatar o ato de aprender dentro da escola com graciosidade\, amorosidade\, humor e a delicadeza da transformação humana. O autor faz uma breve apresentação sobre a arte do Clown enquanto estética e sobre o humor na filosofia\, realiza considerações pedagógicas e considerações finais apresentando os benefícios que o processo de descoberta de seu Clown pode nos oferecer\, como inclusão\, ludicidade\, aprimoramento do relacionamento interpessoal\, entre outros.\n\n\n\n\n
URL:https://blog.livrariadavila.com.br/event/a-arte-do-clown-e-o-humor-na-escola-henrique-cesarino-pessoa-ed-artera/
LOCATION:Rua Fradique Coutinho\, 915 - Pinheiros\, São Paulo\, São Paulo\, 05416-011\, Brasil
GEO:-23.5592934;-46.6892019
X-APPLE-STRUCTURED-LOCATION;VALUE=URI;X-ADDRESS=Rua Fradique Coutinho 915 - Pinheiros São Paulo São Paulo 05416-011 Brasil;X-APPLE-RADIUS=500;X-TITLE=Rua Fradique Coutinho\, 915 - Pinheiros:geo:-46.6892019,-23.5592934
END:VEVENT
BEGIN:VEVENT
DTSTART;TZID=America/Sao_Paulo:20240228T180000
DTEND;TZID=America/Sao_Paulo:20240228T210000
DTSTAMP:20260421T232445
CREATED:20240117T204642Z
LAST-MODIFIED:20240117T204642Z
UID:120975-1709143200-1709154000@blog.livrariadavila.com.br
SUMMARY:MOSCA BRANCA – PRISCILLA ZACHARIAS - ED. NOVO SÉCULO
DESCRIPTION:\n\n\n\n\n\nSua ascensão profissional é uma questão de mudança de rota\, de mentalidade ou de atitude? Depois de investir tempo e dinheiro em formações técnicas e cansada de ver pessoas menos qualificadas assumindo posições que poderiam ser suas\, Priscilla Zacharias desenvolveu um modelo de atuação profissional que a fez saltar de analista a sócia em apenas seis anos. Em Mosca Branca\, Priscilla não apenas identifica os comportamentos que transformaram sua trajetória\, mas também revela como eles são na prática. Com técnicas aplicáveis a profissionais de todas as áreas e níveis. A abordagem dos nove capítulos dinâmicos ultrapassa barreiras ao questionar o apego a antigos modelos de sucesso\, os quais nos cegam para novas oportunidades. Nestas páginas você será desafiado a romper esses paradigmas do empreendedorismo corporativo e a explorar novos horizontes. Prepare-se para se destacar em qualquer ambiente de negócio a partir de agora.\n\n\n\n\n
URL:https://blog.livrariadavila.com.br/event/mosca-branca-priscilla-zacharias-ed-novo-seculo/
LOCATION:Av. Juscelino Kubitschek\, 2041 - Itaim Bibi\, São Paulo\, São Paulo\, 04543-011\, Brasil
GEO:-23.5914219;-46.6898224
X-APPLE-STRUCTURED-LOCATION;VALUE=URI;X-ADDRESS=Av. Juscelino Kubitschek 2041 - Itaim Bibi São Paulo São Paulo 04543-011 Brasil;X-APPLE-RADIUS=500;X-TITLE=Av. Juscelino Kubitschek\, 2041 - Itaim Bibi:geo:-46.6898224,-23.5914219
END:VEVENT
END:VCALENDAR