BEGIN:VCALENDAR
VERSION:2.0
PRODID:-//VILA - Blog - ECPv4.5.12.2//NONSGML v1.0//EN
CALSCALE:GREGORIAN
METHOD:PUBLISH
X-WR-CALNAME:VILA - Blog
X-ORIGINAL-URL:https://blog.livrariadavila.com.br
X-WR-CALDESC:Events for VILA - Blog
BEGIN:VEVENT
DTSTART;TZID=America/Sao_Paulo:20240229T180000
DTEND;TZID=America/Sao_Paulo:20240229T210000
DTSTAMP:20260421T213359
CREATED:20240130T193325Z
LAST-MODIFIED:20240130T193325Z
UID:121091-1709229600-1709240400@blog.livrariadavila.com.br
SUMMARY:O PODER DO E: CARREIRA E MATERNIDADE - KAREN WASMAN E PAOLA JAGHER – ED. INVERSO
DESCRIPTION:\n\n\n\n\n\n“Esse não é mais um livro sobre maternidade e carreira. Ele foi gerado a partir das jornadas pessoais de duas mães e executivas\, sem a intenção de estabelecer receitas ou modelos de sucesso de “supermulheres”. Compartilham aprendizados\, dores e amores da jornada de ser mãe e trabalhar\, sob o olhar e perspectiva de vidas reais. Abordam desafios e incertezas — questões tão comuns a várias mulheres — mas que por muito tempo tem sido vividos de maneira solitária. O poder do e tem como tema central a potência da maternidade e como a vontade de ser mãe não deve implicar escolher entre isso ou aquilo\, mas\, sim\, somar: papéis\, vontades e desejos. Esta obra pretende te fazer refletir e te impulsionar a ser tudo o que quiser\, como mulher\, como mãe e como pessoa que está em constante evolução e\, consequentemente\, transformação.”\n\n\n\n\n
URL:https://blog.livrariadavila.com.br/event/o-poder-do-e-carreira-e-maternidade-karen-wasman-e-paola-jagher-ed-inverso/
LOCATION:Av. Juscelino Kubitschek\, 2041 - Itaim Bibi\, São Paulo\, São Paulo\, 04543-011\, Brasil
GEO:-23.5914219;-46.6898224
X-APPLE-STRUCTURED-LOCATION;VALUE=URI;X-ADDRESS=Av. Juscelino Kubitschek 2041 - Itaim Bibi São Paulo São Paulo 04543-011 Brasil;X-APPLE-RADIUS=500;X-TITLE=Av. Juscelino Kubitschek\, 2041 - Itaim Bibi:geo:-46.6898224,-23.5914219
END:VEVENT
BEGIN:VEVENT
DTSTART;TZID=America/Sao_Paulo:20240229T180000
DTEND;TZID=America/Sao_Paulo:20240229T210000
DTSTAMP:20260421T213359
CREATED:20240130T203045Z
LAST-MODIFIED:20240130T203045Z
UID:121095-1709229600-1709240400@blog.livrariadavila.com.br
SUMMARY:COMO FALAR SOBRE SEXUALIDADE COM AS CRIANÇAS - LEILIANE ROCHA – ED. ASTRAL CULTURAL
DESCRIPTION:\n\n\n\n\n\nSexualidade e sexo não são a mesma coisa.E é justamente essa confusão que deixa paise adultos responsáveis tão perdidos quandose trata da educação sexual infantil. A sexualidade na infância nada tem a ver com a práticasexual\, e sim com a forma como cada pessoa se percebe ese relaciona com as outras. Ela se inicia na gestação e visaà busca pelo bem-estar\, além do entendimento do própriocorpo\, englobando desde informações básicas referentesao corpo\, órgãos sexuais\, sexo\, até discussões e reflexõesmais profundas sobre valores\, sentimentos\, emoções eatitudes que se relacionem com a vida.Neste livro\, a psicóloga Leiliane Rocha\, especialistaem sexualidade humana\, ensina aos pais e responsáveiscada fase do desenvolvimento da sexualidade infantil ecomo oferecer educação sexual às crianças\, de zero aosdoze anos\, detalhando\, inclusive\, quais palavras usar aoresponder às principais dúvidas dos pequenos\, como aclássica “De onde vêm os bebês?”\, de acordo com cadafaixa etária.Este livro reúne um conteúdo prático e completopara você conversar com leveza e segurança sobre osassuntos mais delicados desse tema e saber lidar comsituações embaraçosas do universo da sexualidadeinfantil\, respeitando o desenvolvimento físico\, emocional\,psicológico\, cognitivo e sexual de cada criança.\n\n\n\n\n
URL:https://blog.livrariadavila.com.br/event/como-falar-sobre-sexualidade-com-as-criancas-leiliane-rocha-ed-astral-cultural/
LOCATION:Rua Fradique Coutinho\, 915 - Pinheiros\, São Paulo\, São Paulo\, 05416-011\, Brasil
GEO:-23.5592934;-46.6892019
X-APPLE-STRUCTURED-LOCATION;VALUE=URI;X-ADDRESS=Rua Fradique Coutinho 915 - Pinheiros São Paulo São Paulo 05416-011 Brasil;X-APPLE-RADIUS=500;X-TITLE=Rua Fradique Coutinho\, 915 - Pinheiros:geo:-46.6892019,-23.5592934
END:VEVENT
BEGIN:VEVENT
DTSTART;TZID=America/Sao_Paulo:20240229T180000
DTEND;TZID=America/Sao_Paulo:20240229T210000
DTSTAMP:20260421T213359
CREATED:20240208T190752Z
LAST-MODIFIED:20240221T131810Z
UID:121161-1709229600-1709240400@blog.livrariadavila.com.br
SUMMARY:14 COMPETÊNCIAS ESSENCIAIS PARA O EDUCADOR PARENTAL - BETE P. RODRIGUES - ED. MANOLE
DESCRIPTION: \n  \nEste livro destina-se a educadores parentais profissionais\, profissionais da saúde e educação\, e qualquer pessoa interessada em aprender sobre essa profissão. A autora compartilha suas experiências na área e destaca a importância da reflexão e do desenvolvimento pessoal. Ela define o educador parental como alguém que educa pais e cuidadores. A autora enfatiza a necessidade de preparação e competências essenciais para essa profissão. \nEla discute a educação socioemocional e como ela se relaciona com o papel do educador parental. A autora aborda a importância do autocuidado e fornece nove hábitos para manter a saúde emocional. O livro explora as competências necessárias\, que envolvem conhecimento\, habilidades e atitudes. \nA autora lembra que educar pais é crucial para criar lares harmoniosos e impactar positivamente gerações futuras. Ela enfatiza que a profissão de educador parental não é nova e possui raízes históricas. O livro incentiva a reflexão sobre a preparação necessária para seguir essa carreira\, destacando a importância do estudo\, abertura\, autoconhecimento\, definição de metas e evitando julgamentos. \nNo geral\, o livro oferece insights sobre a profissão de educador parental\, a importância da educação socioemocional e as competências necessárias para ter sucesso nessa área. \n
URL:https://blog.livrariadavila.com.br/event/14-competencias-essenciais-para-o-educador-parental-bete-p-rodrigues-ed-manole/
LOCATION:Rua Fradique Coutinho\, 915 - Pinheiros\, São Paulo\, São Paulo\, 05416-011\, Brasil
GEO:-23.5592934;-46.6892019
X-APPLE-STRUCTURED-LOCATION;VALUE=URI;X-ADDRESS=Rua Fradique Coutinho 915 - Pinheiros São Paulo São Paulo 05416-011 Brasil;X-APPLE-RADIUS=500;X-TITLE=Rua Fradique Coutinho\, 915 - Pinheiros:geo:-46.6892019,-23.5592934
END:VEVENT
END:VCALENDAR