BEGIN:VCALENDAR
VERSION:2.0
PRODID:-//VILA - Blog - ECPv4.5.12.2//NONSGML v1.0//EN
CALSCALE:GREGORIAN
METHOD:PUBLISH
X-WR-CALNAME:VILA - Blog
X-ORIGINAL-URL:https://blog.livrariadavila.com.br
X-WR-CALDESC:Events for VILA - Blog
BEGIN:VEVENT
DTSTART;TZID=America/Sao_Paulo:20240302T110000
DTEND;TZID=America/Sao_Paulo:20240302T130000
DTSTAMP:20260421T182005
CREATED:20240126T135911Z
LAST-MODIFIED:20240126T135911Z
UID:121046-1709377200-1709384400@blog.livrariadavila.com.br
SUMMARY:EUDICE - CAROLINA DELBONI – ED. BIRUTA
DESCRIPTION: \n  \n\n\n\n\nAo explorar e extrapolar as palavras que estão no dicionário\, Carolina Delboni faz um convite a pequenos e grandes leitores para se divertirem com o surgimento das palavras em um lugar completamente novo: a cidade de Eudice!Assim como as palavras do livro\, as brincadeiras brotam com a leitura de Eudice\, trazendo diversas referências à brasilidade presentes tanto no texto quanto nas ilustrações.\n\n\n\n\n
URL:https://blog.livrariadavila.com.br/event/eudice-carolina-delboni-ed-biruta/
LOCATION:Rua Fradique Coutinho\, 915 - Pinheiros\, São Paulo\, São Paulo\, 05416-011\, Brasil
GEO:-23.5592934;-46.6892019
X-APPLE-STRUCTURED-LOCATION;VALUE=URI;X-ADDRESS=Rua Fradique Coutinho 915 - Pinheiros São Paulo São Paulo 05416-011 Brasil;X-APPLE-RADIUS=500;X-TITLE=Rua Fradique Coutinho\, 915 - Pinheiros:geo:-46.6892019,-23.5592934
END:VEVENT
BEGIN:VEVENT
DTSTART;TZID=America/Sao_Paulo:20240302T140000
DTEND;TZID=America/Sao_Paulo:20240302T170000
DTSTAMP:20260421T182005
CREATED:20240207T191738Z
LAST-MODIFIED:20240207T191738Z
UID:121154-1709388000-1709398800@blog.livrariadavila.com.br
SUMMARY:NOVOS INÍCIOS E NOVA JORNADA - SILMARA REGINA CARLOS - INDEPENDENTE
DESCRIPTION: \n  \n  \n
URL:https://blog.livrariadavila.com.br/event/novos-inicios-e-nova-jornada-silmara-regina-carlos-independente/
LOCATION:Espaço - Alameda Terracota\, 545\, São Paulo\, São Paulo\, 11 4210-2231
END:VEVENT
BEGIN:VEVENT
DTSTART;TZID=America/Sao_Paulo:20240302T150000
DTEND;TZID=America/Sao_Paulo:20240302T180000
DTSTAMP:20260421T182005
CREATED:20240123T124010Z
LAST-MODIFIED:20240123T124010Z
UID:121001-1709391600-1709402400@blog.livrariadavila.com.br
SUMMARY:DINO SAMUEL - MARINA BASTOS – ED. CIRANDA NA ESCOLA
DESCRIPTION:\n\n\n\n\n\nDino Samuel ainda não sabia rugir. Então\, saiu à procura de um professor. Encontrou vários\, mas será que algum deles conseguiu fazê-lo encontrar a própria voz? De acordo com Marina Bastos\, esta história nasceu por vontade de encontrar a própria voz. Continuar\, sim\, ouvindo a voz das pessoas\, mas valorizar a que vem de dentro: a própria voz. Ilustrado por Mathias Townsend\, um livro que diverte e leva à reflexão.\n\n\n\n\n
URL:https://blog.livrariadavila.com.br/event/dino-samuel-marina-bastos-ed-ciranda-na-escola/
LOCATION:Rua Fradique Coutinho\, 915 - Pinheiros\, São Paulo\, São Paulo\, 05416-011\, Brasil
GEO:-23.5592934;-46.6892019
X-APPLE-STRUCTURED-LOCATION;VALUE=URI;X-ADDRESS=Rua Fradique Coutinho 915 - Pinheiros São Paulo São Paulo 05416-011 Brasil;X-APPLE-RADIUS=500;X-TITLE=Rua Fradique Coutinho\, 915 - Pinheiros:geo:-46.6892019,-23.5592934
END:VEVENT
BEGIN:VEVENT
DTSTART;TZID=America/Sao_Paulo:20240302T150000
DTEND;TZID=America/Sao_Paulo:20240302T180000
DTSTAMP:20260421T182005
CREATED:20240215T184822Z
LAST-MODIFIED:20240215T184822Z
UID:121210-1709391600-1709402400@blog.livrariadavila.com.br
SUMMARY:MINHA AUTONOMIA - IARA MASTINE - ED. LITERARE
DESCRIPTION: \n  \n“Minha Autonomia” é um encantador livro em caixa infantil criado pela renomada neuropsicóloga Iara Mastine\, que mergulha no universo da autonomia infantil de maneira lúdica e educativa. Nele\, pais e cuidadores são convidados a refletir sobre o papel crucial que desempenham no desenvolvimento independente das crianças. Ilustrado por Karyne Kuy\, a obra explora a definição da autonomia como a habilidade de tomar decisões e agir de forma independente\, promovendo o empoderamento e crescimento pessoal desde os primeiros passos da infância. Com atividades interativas e questionamentos inspiradores\, “Minha Autonomia” proporciona uma jornada reflexiva sobre a promoção da liberdade e responsabilidade na relação entre adultos e crianças. Os leitores encontrarão valiosas reflexões sobre regras e rotinas familiares\, práticas educativas e a conscientização do papel decisivo que desempenhamos na construção da autonomia infantil. Este livro em caixa não apenas estimula a autoestima dos pequenos\, mas também se torna uma ferramenta essencial para oferecer insights práticos para cultivar um ambiente que favoreça o desenvolvimento infantil adequado. O material deste livro em caixa pode auxiliar pais\, mães e profissionais que trabalham com crianças. Contém 100 cartas para promover a autonomia\, a conscientização da rotina\, o encorajamento e a promoção da autoestima saudável. \n
URL:https://blog.livrariadavila.com.br/event/minha-autonomia-iara-mastine-ed-literare/
LOCATION:Alameda Lorena\, 1501\, São Paulo\, São Paulo\, 01424-005\, Brasil
END:VEVENT
BEGIN:VEVENT
DTSTART;TZID=America/Sao_Paulo:20240302T150000
DTEND;TZID=America/Sao_Paulo:20240302T180000
DTSTAMP:20260421T182005
CREATED:20240223T195914Z
LAST-MODIFIED:20240223T195914Z
UID:121318-1709391600-1709402400@blog.livrariadavila.com.br
SUMMARY:COMO EDUCAR SEU CÃOZINHO - ALEXANDRE ROSSI – ED. CARAMELO
DESCRIPTION:\n\n\n\n\n\nO especialista em comportamento animal Alexandre Rossi\, o Dr. Pet\, uniu-se à Turma da Mônica e seus cãezinhos para ensinar a você como educar seu pet. Será que ele pode aprender a fazer xixi no lugar certo? E se ele sentir saudade quando você sair? É correto brigar com o cãozinho quando ele faz bagunça? Essas e muitas outras dicas legais foram reunidas neste livro para que você possa cuidar desse integrante da família com todo o amor que ele merece.\n\n\n\n\n
URL:https://blog.livrariadavila.com.br/event/como-educar-seu-caozinho-alexandre-rossi-ed-caramelo/
LOCATION:Av. Higienópolis\, 618 – Higienópolis\, São Paulo\, SP\, 01238-000\, Brasil
GEO:-23.542049;-46.6577148
X-APPLE-STRUCTURED-LOCATION;VALUE=URI;X-ADDRESS=Av. Higienópolis 618 – Higienópolis São Paulo SP 01238-000 Brasil;X-APPLE-RADIUS=500;X-TITLE=Av. Higienópolis\, 618 – Higienópolis:geo:-46.6577148,-23.542049
END:VEVENT
END:VCALENDAR