BEGIN:VCALENDAR
VERSION:2.0
PRODID:-//VILA - Blog - ECPv4.5.12.2//NONSGML v1.0//EN
CALSCALE:GREGORIAN
METHOD:PUBLISH
X-WR-CALNAME:VILA - Blog
X-ORIGINAL-URL:https://blog.livrariadavila.com.br
X-WR-CALDESC:Events for VILA - Blog
BEGIN:VEVENT
DTSTART;TZID=America/Sao_Paulo:20240305T180000
DTEND;TZID=America/Sao_Paulo:20240305T210000
DTSTAMP:20260421T132356
CREATED:20240220T150241Z
LAST-MODIFIED:20240220T150241Z
UID:121249-1709661600-1709672400@blog.livrariadavila.com.br
SUMMARY:CAOS E AMOR - BECKY KORICH - FARIA E SILVA EDITORA
DESCRIPTION: \n  \n“Muitos cronistas querem ser escritores. Becky Korich não precisa querer — é. Contrariando a ideia de que ser cronista é flanar pelas ruas à cata de imprevistos\, ela consegue flanar perfeitamente sem sair de casa ou até de si mesma. E com razão: existe lugar mais cheio de imprevistos do que o mundo interior de alguém? Não. Mas só se o dito cronista for um escritor de verdade. E\, como “Caos e Amor” comprova em cada página\, Becky é essa escritora.” — Ruy Castro \n
URL:https://blog.livrariadavila.com.br/event/caos-e-amor-becky-korich-faria-e-silva-editora/
LOCATION:Av. Higienópolis\, 618 – Higienópolis\, São Paulo\, SP\, 01238-000\, Brasil
GEO:-23.542049;-46.6577148
X-APPLE-STRUCTURED-LOCATION;VALUE=URI;X-ADDRESS=Av. Higienópolis 618 – Higienópolis São Paulo SP 01238-000 Brasil;X-APPLE-RADIUS=500;X-TITLE=Av. Higienópolis\, 618 – Higienópolis:geo:-46.6577148,-23.542049
END:VEVENT
BEGIN:VEVENT
DTSTART;TZID=America/Sao_Paulo:20240305T190000
DTEND;TZID=America/Sao_Paulo:20240305T213000
DTSTAMP:20260421T132356
CREATED:20240131T185038Z
LAST-MODIFIED:20240201T194804Z
UID:121104-1709665200-1709674200@blog.livrariadavila.com.br
SUMMARY:EMPRESA DE FAMÍLIA - HELDER DE AZEVEDO - SAINT PAUL EDITORA
DESCRIPTION: \n  \nEmpresas familiares são muito relevantes para merecer o destino trágico de sua vasta maioria: sua morte. Evitar que isso aconteça é o objetivo deste livro\, que oferece uma abordagem de base social e um conjunto de ferramentas acessível a todo empreendedor. \n
URL:https://blog.livrariadavila.com.br/event/empresa-de-familia-helder-de-azevedo-saint-paul-editora/
LOCATION:Av. Juscelino Kubitschek\, 2041 - Itaim Bibi\, São Paulo\, São Paulo\, 04543-011\, Brasil
GEO:-23.5914219;-46.6898224
X-APPLE-STRUCTURED-LOCATION;VALUE=URI;X-ADDRESS=Av. Juscelino Kubitschek 2041 - Itaim Bibi São Paulo São Paulo 04543-011 Brasil;X-APPLE-RADIUS=500;X-TITLE=Av. Juscelino Kubitschek\, 2041 - Itaim Bibi:geo:-46.6898224,-23.5914219
END:VEVENT
END:VCALENDAR