BEGIN:VCALENDAR
VERSION:2.0
PRODID:-//VILA - Blog - ECPv4.5.12.2//NONSGML v1.0//EN
CALSCALE:GREGORIAN
METHOD:PUBLISH
X-WR-CALNAME:VILA - Blog
X-ORIGINAL-URL:https://blog.livrariadavila.com.br
X-WR-CALDESC:Events for VILA - Blog
BEGIN:VEVENT
DTSTART;TZID=America/Sao_Paulo:20240307T150000
DTEND;TZID=America/Sao_Paulo:20240307T170000
DTSTAMP:20260421T095628
CREATED:20240227T162639Z
LAST-MODIFIED:20240227T162639Z
UID:121352-1709823600-1709830800@blog.livrariadavila.com.br
SUMMARY:LANÇAMENTO DO LIVRO: AQUI É MATRICE E ENCONTRO #MÃESNALIVRARIA – ED. TIMO
DESCRIPTION: \n  \nPara celebrar nossos 18 anos (cerca de um ano de gestação e 17 anos de atuação concreta – SIM\, a gente conta diferente assim!)\, no final de 2023 fizemos um convite para as amigas mais próximas que participaram\ne/ou participam da Matrice – Ação de Apoio à Amamentação\, para que elas escrevessem suas impressões a respeito de seus processos de amamentação e sua vivência no grupo. O objetivo era materializar os registros em um livro colaborativo\, sem fins lucrativos\, que tivesse a nossa cara\, tornando pública nossas próprias prosas\, nossas histórias plurais\, diversas\, únicas e ao mesmo tempo tão universais sobre nossas vivências no aleitamento materno\, driblando os estereótipos das ‘histórias únicas” de amamentação que tanto nos contam…\nAlém deste pedido\, demos uma busca no nosso e-mail e no grupo do Facebook\, que reúne cerca de 15 mil mulheres (e só mulheres\, aprovadas uma a uma)\, para separar os textos que\, há anos\, são partilhados com as hashtags #relato e #relatodeamamentacao.\nEste livro é o resultado deste movimento todo. É um recorte pequeno\, sabemos disso\, mas a leitura destes relatos é potente demais. \n  \n \n  \n  \n
URL:https://blog.livrariadavila.com.br/event/lancamento-do-livro-aqui-e-matrice-e-encontro-maesnalivraria-ed-timo/
LOCATION:Rua Fradique Coutinho\, 915 - Pinheiros\, São Paulo\, São Paulo\, 05416-011\, Brasil
GEO:-23.5592934;-46.6892019
X-APPLE-STRUCTURED-LOCATION;VALUE=URI;X-ADDRESS=Rua Fradique Coutinho 915 - Pinheiros São Paulo São Paulo 05416-011 Brasil;X-APPLE-RADIUS=500;X-TITLE=Rua Fradique Coutinho\, 915 - Pinheiros:geo:-46.6892019,-23.5592934
END:VEVENT
BEGIN:VEVENT
DTSTART;TZID=America/Sao_Paulo:20240307T180000
DTEND;TZID=America/Sao_Paulo:20240307T210000
DTSTAMP:20260421T095628
CREATED:20240223T144143Z
LAST-MODIFIED:20240223T144143Z
UID:121303-1709834400-1709845200@blog.livrariadavila.com.br
SUMMARY:LÍDERES QUE CURAM - ANTONELLA SATYRO – ED. BUZZ
DESCRIPTION:\n\n\n\n\n\nSer um bom líder não significa ter status ou ter todas as respostas: significa saber conduzir pessoas de modo que elas se desenvolvam com as melhores ferramentas disponíveis. Trata-se de sempre colocar o ser humano em primeiro lugar. Para isso\, é preciso aprender a lidar com toda a sorte de sentimentos. Não apenas os bons — que costumam ganhar mais compartilhamentos —\, mas também aqueles dos quais\, com frequência\, queremos fugir\, como dor\, raiva\, angústia\, ansiedade e inveja. Encarar\, assumir e ressignificar tais emoções é a marca de lideranças inspiradoras. Em uma escrita leve e prazerosa\, Antonella Satyro\, CEO e fundadora da Human Skills Manifesto\, uma edtech que tem como propósito humanizar líderes\, CEOs\, organizações e startups\, compartilha os aprendizados que acumulou ao longo de sua trajetória profissional. O resultado é um livro inspirador que deve ser referência para as lideranças de um futuro que já está aí.\n\n\n\n\n
URL:https://blog.livrariadavila.com.br/event/lideres-que-curam-antonella-satyro-ed-buzz/
LOCATION:Av. Juscelino Kubitschek\, 2041 - Itaim Bibi\, São Paulo\, São Paulo\, 04543-011\, Brasil
GEO:-23.5914219;-46.6898224
X-APPLE-STRUCTURED-LOCATION;VALUE=URI;X-ADDRESS=Av. Juscelino Kubitschek 2041 - Itaim Bibi São Paulo São Paulo 04543-011 Brasil;X-APPLE-RADIUS=500;X-TITLE=Av. Juscelino Kubitschek\, 2041 - Itaim Bibi:geo:-46.6898224,-23.5914219
END:VEVENT
BEGIN:VEVENT
DTSTART;TZID=America/Sao_Paulo:20240307T180000
DTEND;TZID=America/Sao_Paulo:20240307T210000
DTSTAMP:20260421T095628
CREATED:20240226T191117Z
LAST-MODIFIED:20240226T191117Z
UID:121334-1709834400-1709845200@blog.livrariadavila.com.br
SUMMARY:A RAPOSA E O FLAMINGO - BRUNO MENDONÇA COÊLHO – ED. CONSTRUTORES DE MEMÓRIAS
DESCRIPTION: \n  \nEm A Raposa e o Flamingo\, o psiquiatra e escritor Bruno Mendonça Coêlho nos convida a uma viagem pelo deserto mais seco do mundo\, onde uma raposa solitária e um flamingo se encontram por acaso e descobrem o valor de uma amizade improvável. Nesta obra filosófica e sensível\, o autor explora temas como o destino\, a solidão e a força dos encontros por meio de diálogos profundos e reflexivos entre os personagens. O livro é ilustrado pelo próprio autor em aquarela\, com traços delicados e precisos\, que retratam a beleza e a aridez do cenário desértico. A Raposa e o Flamingo é um livro surpreendente\, que pode ser apreciado por leitores de qualquer idade\, pela sua força atemporal e profundidade literária. O livro é o terceiro da série de literatura infantil de Bruno Mendonça Coêlho\, e será lançado em 2024 pela Construtores de Memórias em edição limitada. \n  \n  \n
URL:https://blog.livrariadavila.com.br/event/a-raposa-e-o-flamingo-bruno-mendonca-coelho-ed-construtores-de-memorias/
LOCATION:Av. Higienópolis\, 618 – Higienópolis\, São Paulo\, SP\, 01238-000\, Brasil
GEO:-23.542049;-46.6577148
X-APPLE-STRUCTURED-LOCATION;VALUE=URI;X-ADDRESS=Av. Higienópolis 618 – Higienópolis São Paulo SP 01238-000 Brasil;X-APPLE-RADIUS=500;X-TITLE=Av. Higienópolis\, 618 – Higienópolis:geo:-46.6577148,-23.542049
END:VEVENT
END:VCALENDAR