BEGIN:VCALENDAR
VERSION:2.0
PRODID:-//VILA - Blog - ECPv4.5.12.2//NONSGML v1.0//EN
CALSCALE:GREGORIAN
METHOD:PUBLISH
X-WR-CALNAME:VILA - Blog
X-ORIGINAL-URL:https://blog.livrariadavila.com.br
X-WR-CALDESC:Events for VILA - Blog
BEGIN:VEVENT
DTSTART;TZID=America/Sao_Paulo:20240308T180000
DTEND;TZID=America/Sao_Paulo:20240308T210000
DTSTAMP:20260421T084506
CREATED:20240220T133210Z
LAST-MODIFIED:20240220T133210Z
UID:121243-1709920800-1709931600@blog.livrariadavila.com.br
SUMMARY:TI DE SALTO VOLUME IV - ORG. SYLVIA BELLIO - ED. ÁRVORE DIGITAL
DESCRIPTION: \n  \nO livro reune o depoimento de mais de 20 mulheres que atuam na área de TI. Elas contam desafios profissionais e pessoais enfrentados\, como o machismo e preconceito. \n
URL:https://blog.livrariadavila.com.br/event/ti-de-salto-volume-iv-org-sylvia-bellio-ed-arvore-digital/
LOCATION:Av. Juscelino Kubitschek\, 2041 - Itaim Bibi\, São Paulo\, São Paulo\, 04543-011\, Brasil
GEO:-23.5914219;-46.6898224
X-APPLE-STRUCTURED-LOCATION;VALUE=URI;X-ADDRESS=Av. Juscelino Kubitschek 2041 - Itaim Bibi São Paulo São Paulo 04543-011 Brasil;X-APPLE-RADIUS=500;X-TITLE=Av. Juscelino Kubitschek\, 2041 - Itaim Bibi:geo:-46.6898224,-23.5914219
END:VEVENT
BEGIN:VEVENT
DTSTART;TZID=America/Sao_Paulo:20240308T180000
DTEND;TZID=America/Sao_Paulo:20240308T210000
DTSTAMP:20260421T084506
CREATED:20240307T141148Z
LAST-MODIFIED:20240307T141148Z
UID:121486-1709920800-1709931600@blog.livrariadavila.com.br
SUMMARY:CURA ESPIRITUAL - THOMAS MEYER – ED. WAY UNITY
DESCRIPTION: \n  \num relato vívido e inspirador de como a obra consumada da Cruz transformou a vida do autor\, tocando sua alma e desencadeando uma série de eventos sobrenaturais que incluem curas físicas e espirituais. Em uma narrativa que vai além de palavras impressas\, o autor compartilha sua jornada sincera e apaixonada\, oferecendo aos leitores uma visão íntima do poder restaurador da Cruz. Cada palavra é um testemunho do poder transformador da graça divina\, um convite para que os leitores também experimentem a libertação e a alegria que vêm ao abraçar a obra consumada de Cristo na Cruz. \n
URL:https://blog.livrariadavila.com.br/event/cura-espiritual-thomas-meyer-ed-way-unity/
LOCATION:Av. Roque Petroni Júnior\, 1089\, São Paulo\, São Paulo\, 04833001\, Brasil
END:VEVENT
BEGIN:VEVENT
DTSTART;TZID=America/Sao_Paulo:20240308T190000
DTEND;TZID=America/Sao_Paulo:20240308T213000
DTSTAMP:20260421T084506
CREATED:20240118T184805Z
LAST-MODIFIED:20240118T184805Z
UID:120983-1709924400-1709933400@blog.livrariadavila.com.br
SUMMARY:A CLÍNICA NA PANDEMIA - CELIA BRANDÃO – ED. APPRIS
DESCRIPTION: \n  \nCapítulos escritos por profissionais altamente gabaritados e muito experientes refletem sobre o tema da pandemia da Covid-19\, em seus mais diversos ângulos. Eles alimentam-nos e expandem nossas percepções sobre a inventividade desenvolvida\, a princípio por necessidade\, e atualmente por praticidade\, sobre novas formas de ser e exercer nossa profissão.\nSão também um alarme para nos posicionarmos frente a atitudes espúrias políticas de nossos governantes. Este livro não só reflete e denuncia\, mas também nos dá esperança\, esperança daquela transformação que vem depois da tempestade\, da vida que ressurge como os novos brotos depois da terra arrasada. \n
URL:https://blog.livrariadavila.com.br/event/a-clinica-na-pandemia-celia-brandao-ed-appris/
LOCATION:Av. Higienópolis\, 618 – Higienópolis\, São Paulo\, SP\, 01238-000\, Brasil
GEO:-23.542049;-46.6577148
X-APPLE-STRUCTURED-LOCATION;VALUE=URI;X-ADDRESS=Av. Higienópolis 618 – Higienópolis São Paulo SP 01238-000 Brasil;X-APPLE-RADIUS=500;X-TITLE=Av. Higienópolis\, 618 – Higienópolis:geo:-46.6577148,-23.542049
END:VEVENT
END:VCALENDAR