BEGIN:VCALENDAR
VERSION:2.0
PRODID:-//VILA - Blog - ECPv4.5.12.2//NONSGML v1.0//EN
CALSCALE:GREGORIAN
METHOD:PUBLISH
X-WR-CALNAME:VILA - Blog
X-ORIGINAL-URL:https://blog.livrariadavila.com.br
X-WR-CALDESC:Events for VILA - Blog
BEGIN:VEVENT
DTSTART;TZID=America/Sao_Paulo:20240310T110000
DTEND;TZID=America/Sao_Paulo:20240310T140000
DTSTAMP:20260421T054539
CREATED:20240116T183229Z
LAST-MODIFIED:20240116T183229Z
UID:120958-1710068400-1710079200@blog.livrariadavila.com.br
SUMMARY:O PLANETA DE A A ZEBRA - GILLES EDUAR – ED. WMF MARTINS FONTES
DESCRIPTION: \n  \n\n\n\n\nVocê está pronto para embarcar em uma grande Viagem pelo Mundo? Em cada lugar\, muitas descobertas! A viagem começa na Savana Africana\, passa por Veneza\, atravessa a Índia\, as geleiras do Alasca\, a China e muito mais… A cada página um jogo de procure e ache. Cabe a você encontrar os nomes que correspondem a diferentes objetos\, plantas\, animais\, profissões\, além de arquiteturas e vestimentas de todos os tipos. Nesta aventura você será desafiado a encontrar as imagens correspondentes a mais de 500 palavras escondidas em ricas paisagens.\n\n\n\n\n
URL:https://blog.livrariadavila.com.br/event/o-planeta-de-a-a-zebra-gilles-eduar-ed-wmf-martins-fontes/
LOCATION:Rua Fradique Coutinho\, 915 - Pinheiros\, São Paulo\, São Paulo\, 05416-011\, Brasil
GEO:-23.5592934;-46.6892019
X-APPLE-STRUCTURED-LOCATION;VALUE=URI;X-ADDRESS=Rua Fradique Coutinho 915 - Pinheiros São Paulo São Paulo 05416-011 Brasil;X-APPLE-RADIUS=500;X-TITLE=Rua Fradique Coutinho\, 915 - Pinheiros:geo:-46.6892019,-23.5592934
END:VEVENT
END:VCALENDAR