BEGIN:VCALENDAR
VERSION:2.0
PRODID:-//VILA - Blog - ECPv4.5.12.2//NONSGML v1.0//EN
CALSCALE:GREGORIAN
METHOD:PUBLISH
X-WR-CALNAME:VILA - Blog
X-ORIGINAL-URL:https://blog.livrariadavila.com.br
X-WR-CALDESC:Events for VILA - Blog
BEGIN:VEVENT
DTSTART;TZID=America/Sao_Paulo:20240313T180000
DTEND;TZID=America/Sao_Paulo:20240313T210000
DTSTAMP:20260421T005333
CREATED:20240126T125018Z
LAST-MODIFIED:20240126T125018Z
UID:121040-1710352800-1710363600@blog.livrariadavila.com.br
SUMMARY:SOCIEDADE DE RISCO DIGITAL - RAFAEL ALMEIDA DE OLIVEIRA REIS – ED. LUMEN JURIS
DESCRIPTION: \n  \nPartindo das teorias da Sociedade em Rede de Manuel Castells e a Sociedade de Risco de Ulrich Beck\, a presente obra aborda os impactos à privacidade criados pelo emprego das Tecnologias da Informação e Comunicação (TICs) e como eles podem criar riscos com características catastróficas para toda a humanidade\, demandando a avaliação de alternativas sociais e regulatórias para a sua mitigação. Com a constatação de que a sociedade moderna vivencia um expressivo processo de transformação capitaneado pelas novas tecnologias desde o advento da Internet até os marcos tecnológicos do Big Data e da Inteligência Artificial\, foi constatada uma nova realidade hiperconectada marcada por riscos à privacidade e democracia. Essa criação sistemática de riscos à privacidade na Sociedade Informacional passa a expressar uma modalidade diferenciada da teoria clássica da Sociedade de Risco\, revelando os seus novos contornos digitais em uma sociedade altamente conectada. Para compreender quais são os impactos e alternativas regulatórias para esse complexo ambiente\, a obra examina o regime de proteção de dados pessoais no Brasil\, identificando a relação dos riscos com a Lei Geral de Proteção de Dados (Lei n. 13.709/2018) e métodos empresariais para mitigação das ameaças criadas pelo uso das TICs por meio de ferramentas como o Privacy by Design\, Privacy-enhancing technologies (PETs) e a regulação por arquitetura. \n  \n  \n
URL:https://blog.livrariadavila.com.br/event/sociedade-de-risco-digital-rafael-almeida-de-oliveira-reis-ed-lumen-juris/
LOCATION:Avenida do Batel\, nº 1868 – Loja 314 piso L3\, Curitiba\, Paraná\, 80420-090\, Brasil
GEO:-25.443012;-49.2899507
X-APPLE-STRUCTURED-LOCATION;VALUE=URI;X-ADDRESS=Avenida do Batel nº 1868 – Loja 314 piso L3 Curitiba Paraná 80420-090 Brasil;X-APPLE-RADIUS=500;X-TITLE=Avenida do Batel\, nº 1868 – Loja 314 piso L3:geo:-49.2899507,-25.443012
END:VEVENT
BEGIN:VEVENT
DTSTART;TZID=America/Sao_Paulo:20240313T183000
DTEND;TZID=America/Sao_Paulo:20240313T210000
DTSTAMP:20260421T005333
CREATED:20240206T173514Z
LAST-MODIFIED:20240206T173514Z
UID:121143-1710354600-1710363600@blog.livrariadavila.com.br
SUMMARY:O CINEMA QUE VIVI - JEREMIAS MOREIRA - INDEPENDENTE
DESCRIPTION: \n  \nO cinema encontrou sua linguagem e se transformou no maior veículo de comunicação e entretenimento até surgir a televisão.\nMas\, ele continua a base de todo audiovisual e das imagens que nos comunicam algo todos os dias.\nCom sua sintaxe dramatúrgica\, riqueza de invenção e ilimitada capacidade de expansão\, o cinema incorpora as inovações.\nTelevisão\, cinema e publicidade pela visão de quem esteve dentro e desenvolveu um método de trabalho próprio\, bastante eficaz.\nContagiado pela magia do cinema\, Jeremias Moreira\, veio para São Paulo em busca do sonho de trabalhar nessa atividade.\nContou com a confluência dos astros que o colocou no caminho do cineasta Luis Sérgio Person\, de quem foi assistente por 3 anos.\nForam anos de muito trabalho e bastante aprendizagem. Dez anos depois\, nos campos de Borborema e Tabatinga\, no interior de SP\, ele dirigiu seu primeiro filme: O Menino da Porteira.\nEssa a história que O cinema que vivi\, conta e Jeremias Moreira transmite conhecimento e experiência que adquiriu\, tais como: dividir uma cena em planos (decupar)\, montar\, enquadrar\, dirigir atores… \n
URL:https://blog.livrariadavila.com.br/event/o-cinema-que-vivi-jeremias-moreira-independente/
LOCATION:Rua Fradique Coutinho\, 915 - Pinheiros\, São Paulo\, São Paulo\, 05416-011\, Brasil
GEO:-23.5592934;-46.6892019
X-APPLE-STRUCTURED-LOCATION;VALUE=URI;X-ADDRESS=Rua Fradique Coutinho 915 - Pinheiros São Paulo São Paulo 05416-011 Brasil;X-APPLE-RADIUS=500;X-TITLE=Rua Fradique Coutinho\, 915 - Pinheiros:geo:-46.6892019,-23.5592934
END:VEVENT
BEGIN:VEVENT
DTSTART;TZID=America/Sao_Paulo:20240313T180000
DTEND;TZID=America/Sao_Paulo:20240313T210000
DTSTAMP:20260421T005333
CREATED:20240223T201343Z
LAST-MODIFIED:20240223T211905Z
UID:121321-1710352800-1710363600@blog.livrariadavila.com.br
SUMMARY:A NAU DOS LOUCOS - AUGUSTO MORENO DOS ANJOS – ED. VISEU
DESCRIPTION: \n  \nquem define os limites da sanidade? O que distingue um surto ocasional de uma sindrome persistente? Você tem certeza de que não está à beira da loucura? Estas são algumas das questões intrigantes exploradas de maneira cativante neste livro. Ao longo de uma série de contos envolventes\, mergulhamos em relatos que abordam uma ampla gama de experiências ligadas à loucura\, síndromes\, traumas e transtornos\, cada um mais curioso que o outro. Navegue conosco pelos recantos mais profundos da mente humana e descubra que a linha entre sanidade e loucura pode ser mais tênue e difusa do que se imagina. Prepare-se para uma jornada literária que desafia as convenções e revala que a loucura pode estar mais presente no nosso cotidiano do que ousamos admitir. \n
URL:https://blog.livrariadavila.com.br/event/a-nau-dos-loucos-augusto-moreno-dos-anjos-ed-independente/
LOCATION:Rua Fradique Coutinho\, 915 - Pinheiros\, São Paulo\, São Paulo\, 05416-011\, Brasil
GEO:-23.5592934;-46.6892019
X-APPLE-STRUCTURED-LOCATION;VALUE=URI;X-ADDRESS=Rua Fradique Coutinho 915 - Pinheiros São Paulo São Paulo 05416-011 Brasil;X-APPLE-RADIUS=500;X-TITLE=Rua Fradique Coutinho\, 915 - Pinheiros:geo:-46.6892019,-23.5592934
END:VEVENT
END:VCALENDAR