BEGIN:VCALENDAR
VERSION:2.0
PRODID:-//VILA - Blog - ECPv4.5.12.2//NONSGML v1.0//EN
CALSCALE:GREGORIAN
METHOD:PUBLISH
X-WR-CALNAME:VILA - Blog
X-ORIGINAL-URL:https://blog.livrariadavila.com.br
X-WR-CALDESC:Events for VILA - Blog
BEGIN:VEVENT
DTSTART;TZID=America/Sao_Paulo:20240314T180000
DTEND;TZID=America/Sao_Paulo:20240314T210000
DTSTAMP:20260420T231230
CREATED:20240131T125423Z
LAST-MODIFIED:20240131T125423Z
UID:121100-1710439200-1710450000@blog.livrariadavila.com.br
SUMMARY:PARA ENTENDER ROTHBARD - ADRIANO PARANAIBA – ED. LVM
DESCRIPTION: \n  \nPara entender Rothbard vai além de uma simples biografia. Escrito com uma abordagem clara e objetiva\, Adriano Paranaiba nos apresenta o essencial sobre esse importantíssimo autor\, não só para a Escola Austríaca de Economia\, mas para as\nciências econômicas como um todo. \nAqui somos guiados no pensamento de Rothbard\, como uma espécie de ponto de partida para iniciar suas leituras – e estudos – sobre a perspectiva rothbardiana\, que é fundamentada em três pilares: economia\, ética e história. Esteja avisado: se pouco ou nada conhece a respeito de seus conceitos\, o conteúdo deste livro o fará reavaliar sua percepção sobre governo\, economia e liberdade individual. \nA leitura desatará amarras e elucidará os ideais do libertarianismo e do livre mercado\, assim como desvendará o antigo inimigo da liberdade: o Estado. Dito isso\, mergulhe em um profundo\, rico e esclarecedor pensamento de um dos maiores gênios da economia: Murray Newton Rothbard. \n
URL:https://blog.livrariadavila.com.br/event/para-entender-rothbard-adriano-paranaiba-ed-lvm/
LOCATION:SHIN CA 04\, BLOCO A\, Brasília\, Distrito federal\, 71503-504\, Brasil
END:VEVENT
BEGIN:VEVENT
DTSTART;TZID=America/Sao_Paulo:20240314T190000
DTEND;TZID=America/Sao_Paulo:20240314T213000
DTSTAMP:20260420T231230
CREATED:20240123T191856Z
LAST-MODIFIED:20240123T191856Z
UID:121013-1710442800-1710451800@blog.livrariadavila.com.br
SUMMARY:MULHERES FORTALECENDO MULHERES - HELENA LARIUCCI\, CÁTIA MENDONÇA – ED. JURUÁ
DESCRIPTION: \n  \nPrefácio de Lilian Albuquerque – Posfácio de Ana Ma. Afonso R. Bernal \nO livro é composto por 21 (vinte um) artigos de mulheres que carregam na alma experiências incríveis e inspiradoras. \nAqui você vai encontrar histórias de mães\, filhas\, avós\, profissionais da área do Direito\, médicas\, empresárias\, educadoras\, psicólogas\, mulheres essas que resistem diariamente às adversidades da sociedade. \nOs contos de amor\, de autoconhecimento\, de superação\, farão o leitor rir muito ou chorar copiosamente\, outros servirão de inspiração\, talvez causando reflexão e mudança do ser\, para mais amorosidade em sua vida. \nAo final\, temos a certeza de que todos que se deleitarem da leitura vão querer participar do Movimento Ressignificar\, contar sua história e quem sabe participar da próxima edição. \nBoa leitura! \nInstagram: movressignificar \n
URL:https://blog.livrariadavila.com.br/event/mulheres-fortalecendo-mulheres-helena-lariucci-catia-mendonca-ed-jurua/
LOCATION:Rua Fradique Coutinho\, 915 - Pinheiros\, São Paulo\, São Paulo\, 05416-011\, Brasil
GEO:-23.5592934;-46.6892019
X-APPLE-STRUCTURED-LOCATION;VALUE=URI;X-ADDRESS=Rua Fradique Coutinho 915 - Pinheiros São Paulo São Paulo 05416-011 Brasil;X-APPLE-RADIUS=500;X-TITLE=Rua Fradique Coutinho\, 915 - Pinheiros:geo:-46.6892019,-23.5592934
END:VEVENT
BEGIN:VEVENT
DTSTART;TZID=America/Sao_Paulo:20240314T190000
DTEND;TZID=America/Sao_Paulo:20240314T213000
DTSTAMP:20260420T231230
CREATED:20240227T192523Z
LAST-MODIFIED:20240227T192523Z
UID:121362-1710442800-1710451800@blog.livrariadavila.com.br
SUMMARY:A BAILARINA E A FLOR - FERNANDA KING – ED. ARTÊIRINHA
DESCRIPTION: \n  \nTem criança que sonha em ser super-herói\, outras querem pilotar aviões. E a nossa heroína queria ser BAILARINA! Mas quem nunca sentiu um frio na barriga na hora de subir ao palco ou de apresentar aquele trabalho na frente da turma? Na nossa história\, a bailarina se preparou muito para o grande dia\, só que estava muito nervosa. E algumas coisas não saíram conforme o esperado… E aí\, será que ela vai conseguir superar os desafios e fazer um lindo espetáculo? \nE como devemos resolver situações que estão fora do nosso controle? Devemos sofrer por antecipação? Crianças pequenas já sentem ansiedade? \nEste livro aborda essas e outras questões importantes\, como a participação ativa da família na vida dos filhos\, presença\, amor e muito acolhimento! \n
URL:https://blog.livrariadavila.com.br/event/a-bailarina-e-a-flor-fernanda-king-ed-arteirinha/
LOCATION:Alameda Lorena\, 1501\, São Paulo\, São Paulo\, 01424-005\, Brasil
END:VEVENT
END:VCALENDAR