BEGIN:VCALENDAR
VERSION:2.0
PRODID:-//VILA - Blog - ECPv4.5.12.2//NONSGML v1.0//EN
CALSCALE:GREGORIAN
METHOD:PUBLISH
X-WR-CALNAME:VILA - Blog
X-ORIGINAL-URL:https://blog.livrariadavila.com.br
X-WR-CALDESC:Events for VILA - Blog
BEGIN:VEVENT
DTSTART;TZID=America/Sao_Paulo:20240318T180000
DTEND;TZID=America/Sao_Paulo:20240318T210000
DTSTAMP:20260420T165557
CREATED:20240227T133424Z
LAST-MODIFIED:20240227T133424Z
UID:121346-1710784800-1710795600@blog.livrariadavila.com.br
SUMMARY:SILÊNCIO. RESPIRAÇÃO. PRESENÇA - BRUNA SANCHEZ – ED. VISEU
DESCRIPTION: \n  \nUm caminho de volta ao Ser \n
URL:https://blog.livrariadavila.com.br/event/sile%cc%82ncio-respirac%cc%a7a%cc%83o-presenc%cc%a7a-bruna-sanchez-ed-viseu/
LOCATION:Rua Fradique Coutinho\, 915 - Pinheiros\, São Paulo\, São Paulo\, 05416-011\, Brasil
GEO:-23.5592934;-46.6892019
X-APPLE-STRUCTURED-LOCATION;VALUE=URI;X-ADDRESS=Rua Fradique Coutinho 915 - Pinheiros São Paulo São Paulo 05416-011 Brasil;X-APPLE-RADIUS=500;X-TITLE=Rua Fradique Coutinho\, 915 - Pinheiros:geo:-46.6892019,-23.5592934
END:VEVENT
BEGIN:VEVENT
DTSTART;TZID=America/Sao_Paulo:20240318T180000
DTEND;TZID=America/Sao_Paulo:20240318T210000
DTSTAMP:20260420T165557
CREATED:20240305T183410Z
LAST-MODIFIED:20240305T183410Z
UID:121466-1710784800-1710795600@blog.livrariadavila.com.br
SUMMARY:DOAÇÃO INÚTIL - EMÍLIO MORSCHEL – ED. INVERSO
DESCRIPTION: \n  \nEm Doação Inútil – Reflexões sobre o sentido da ajuda\, somos levados em uma jornada introspectiva e provocativa através das vivências de Emílio Morschel. Sua história é um constante questionamento sobre os limites e a natureza da ajuda que oferecemos aos outros. \n
URL:https://blog.livrariadavila.com.br/event/doacao-inutil-emilio-morschel-ed-inverso/
LOCATION:Avenida do Batel\, nº 1868 – Loja 314 piso L3\, Curitiba\, Paraná\, 80420-090\, Brasil
GEO:-25.443012;-49.2899507
X-APPLE-STRUCTURED-LOCATION;VALUE=URI;X-ADDRESS=Avenida do Batel nº 1868 – Loja 314 piso L3 Curitiba Paraná 80420-090 Brasil;X-APPLE-RADIUS=500;X-TITLE=Avenida do Batel\, nº 1868 – Loja 314 piso L3:geo:-49.2899507,-25.443012
END:VEVENT
BEGIN:VEVENT
DTSTART;TZID=America/Sao_Paulo:20240318T180000
DTEND;TZID=America/Sao_Paulo:20240318T210000
DTSTAMP:20260420T165557
CREATED:20240314T202724Z
LAST-MODIFIED:20240314T202724Z
UID:121598-1710784800-1710795600@blog.livrariadavila.com.br
SUMMARY:ZÊNITE - SUEN TOMINAGA – ED. WAY UNITY
DESCRIPTION: \n  \nExplore o caminho para transcender os limites das conquistas materiais e alcançar a plenitude em todas as esferas da vida.\nCom uma narrativa envolvente você mergulhará em experiências físicas\, emocionais e espirituais para descobrir e vivenciar que a vida plena está ao alcance\nde todos\nCom uma abordagem prática e ativacional\, Suen Tominaga revela como a confiança em Deus e a transformação de desafios em oportunidades são cruciais para alcançar os mais altos e perenes resultados.\nAssim como o sol atinge o zênite no céu por meio de um movimento constante\, alcançar o ápice da prosperidade exige ação e determinação. Este livro não é apenas uma leitura\, mas um convite para iniciar a jornada em direção ao seu próprio\nPONTO MAIS ALTO da prosperidade. \n
URL:https://blog.livrariadavila.com.br/event/zenite-suen-tominaga-ed-way-unity/
LOCATION:Av. Juscelino Kubitschek\, 2041 - Itaim Bibi\, São Paulo\, São Paulo\, 04543-011\, Brasil
GEO:-23.5914219;-46.6898224
X-APPLE-STRUCTURED-LOCATION;VALUE=URI;X-ADDRESS=Av. Juscelino Kubitschek 2041 - Itaim Bibi São Paulo São Paulo 04543-011 Brasil;X-APPLE-RADIUS=500;X-TITLE=Av. Juscelino Kubitschek\, 2041 - Itaim Bibi:geo:-46.6898224,-23.5914219
END:VEVENT
BEGIN:VEVENT
DTSTART;TZID=America/Sao_Paulo:20240318T190000
DTEND;TZID=America/Sao_Paulo:20240318T213000
DTSTAMP:20260420T165557
CREATED:20240208T192125Z
LAST-MODIFIED:20240208T192125Z
UID:121167-1710788400-1710797400@blog.livrariadavila.com.br
SUMMARY:ESQUEÇA SUA MELHOR VERSÃO - JULIANA GOES - ED. GENTE
DESCRIPTION: \nEJA QUEM ESCREVE O PRÓPRIO ROTEIRO E QUEM DECIDE MUDAR A NARRATIVA QUANDO BEM ENTENDER Vivemos em uma era na qual somos incentivados a sempre buscar a nossa melhor versão\, mas\, ao olharmos para o mundo on-line e conectado\, todos parecem ser perfeitos e viver vidas idealizadas. Então você dá o seu melhor\, avança\, mas em vez de chegar no destino planejado e sentir orgulho de si mesmo(a)\, paralisa e percebe que as suas expectativas não estão alinhadas com o que você construiu. Juliana Goes\, autora\, palestrante e especialista em desenvolvimento humano feminino\, traz aqui um mapa seguro e bem-construído para que você possa se dar uma nova chance de reencontrar seu valor e despertar o potencial que existe em você. Com este livro\, você entenderá como: Olhar de forma realista para a sua própria realidade; Identificar a sua versão atual a partir da auto-observação; Utilizar a força da autenticidade para avançar; Usar mapa de acolhimento\, sustentação e expansão para se tornar protagonista da sua vida; Abraçar os recomeços e aceitá-los como parte da sua jornada. \n
URL:https://blog.livrariadavila.com.br/event/esqueca-sua-melhor-versao-juliana-goes-ed-gente/
LOCATION:Alameda Lorena\, 1501\, São Paulo\, São Paulo\, 01424-005\, Brasil
END:VEVENT
BEGIN:VEVENT
DTSTART;TZID=America/Sao_Paulo:20240318T190000
DTEND;TZID=America/Sao_Paulo:20240318T213000
DTSTAMP:20260420T165557
CREATED:20240228T160027Z
LAST-MODIFIED:20240228T160027Z
UID:121380-1710788400-1710797400@blog.livrariadavila.com.br
SUMMARY:DIREITO ANTITRUSTE - EDUARDO MOLAN GABAN E JULIANA OLIVEIRA DOMINGUES – ED. SARAIVA JURÍDICOS
DESCRIPTION:\n\n\n\n\n\nNessa obra\, que já pode ser considerada um clássico da matéria no Brasil\, os professores Eduardo Gaban e Juliana Domingues expõem conceitos fundamentais a compreensão acadêmica do direito antitruste brasileiro e lançam luzes importantes sobre suas novas fronteiras\, em áreas como compliance\, propriedade intelectual e reparação de danos. Este livro tornou-se obra de referência para pesquisadores e advogados com enfoque pragmático para maximizar a utilização do livro na operação do Direito Antitruste\, os autores preocupam-se\, do início ao fim\, em apresentar os institutos e conceito seguidos do completo debate doutrinário e jurisprudencial. Ilustram as lições com exemplos\, modelos e referencias jurisprudenciais atualizadas\, provenientes\, sobretudo\, do Superior Tribunal de Justiça\, do Supremo Tribunal Federal e do CADE. Discorrem\,ademais\, sobre as multiplas aplicacoes do Direito Antitruste em práticas correlatas como Merger & Acquisition (M&A)\, compliance concorrencial\, compliance anticorrupção\, propriedade intelectual\, direito trabalhista\, reparação de danos e enfrentam o tema da especialização da justiça. Essa combinação de metodologia e conteúdo confere à obra poderoso valor prático\, especialmente aos advogados que militam ou pretendem militar na área. Dividida em quatro partes principais\, essa nova edição se inicia examinando as bases constitucionais do Direito Antitruste no país (Parte I)\, fornecendo assim um sólido fundamento para o restante da obra. Em seguida\, é apresentada a evolução do Antitruste ao longo da história\, com destaque para sua atuação (Parte II). A dimensão internacional do Antitruste e a promoção da defesa da concorrência são exploradas na Parte III\, fornecendo insights valiosos sobre as melhores práticas e as experiências de outras jurisdições globais. A Parte IV analisa as fronteiras do Antitruste\, abordando temas como a política de leniência\, ações de reparação de danos e a relação do direito antitruste com o direito premial e anticorrupção. Além disso\, o livro destaca a importância da jurisprudência do CADE\, do poder judiciário brasileiro e de outras jurisdições globais\, bem como a doutrina nacional e internacional\, proporcionando uma visão abrangente e aprofundada do Direito Antitruste. Data de fechamento: 04/10/2023.\n\n\n\n\n
URL:https://blog.livrariadavila.com.br/event/direito-antitruste-eduardo-molan-gaban-e-juliana-oliveira-domingues-ed-saraiva-juridicos/
LOCATION:Av. Higienópolis\, 618 – Higienópolis\, São Paulo\, SP\, 01238-000\, Brasil
GEO:-23.542049;-46.6577148
X-APPLE-STRUCTURED-LOCATION;VALUE=URI;X-ADDRESS=Av. Higienópolis 618 – Higienópolis São Paulo SP 01238-000 Brasil;X-APPLE-RADIUS=500;X-TITLE=Av. Higienópolis\, 618 – Higienópolis:geo:-46.6577148,-23.542049
END:VEVENT
END:VCALENDAR