BEGIN:VCALENDAR
VERSION:2.0
PRODID:-//VILA - Blog - ECPv4.5.12.2//NONSGML v1.0//EN
CALSCALE:GREGORIAN
METHOD:PUBLISH
X-WR-CALNAME:VILA - Blog
X-ORIGINAL-URL:https://blog.livrariadavila.com.br
X-WR-CALDESC:Events for VILA - Blog
BEGIN:VEVENT
DTSTART;TZID=America/Sao_Paulo:20240319T180000
DTEND;TZID=America/Sao_Paulo:20240319T210000
DTSTAMP:20260420T151920
CREATED:20240215T143028Z
LAST-MODIFIED:20240215T143028Z
UID:121204-1710871200-1710882000@blog.livrariadavila.com.br
SUMMARY:UM NOVO JEITO DE ENSINAR E INFLUENCIAR PESSOAS - ARIOVALDO SILVA JR - ED. GENTE
DESCRIPTION: \n  \nDescubra como uma comunicação impactante é capaz de influenciar pessoas e te levar ao sucesso! “Uma boa comunicação se faz na rotina de trabalho\, nas pequenas reuniões e apresentações\, e não apenas em eventos solenes. E nessas situações\, ou você se destaca ou continua se apagando.” Todos temos o potencial para alcançar o próximo nível em nossas carreiras\, mas é comum sentir que algo nos impede de dar esse passo. Ariovaldo Alberto da Silva Junior\, CEO e fundador da Synapse Consultoria e Treinamento\, mostra que a resposta é mais simples do que parece: para se diferenciar profissionalmente e conquistar o sucesso é preciso saber se comunicar bem. A maioria das pessoas com formação técnica não teve uma formação igualmente robusta em relação às chamadas soft skills\, particularmente aquelas que permitem transmitir conhecimento do jeito certo e de maneira completa. Em Um novo jeito de ensinar e influenciar pessoas o autor ensina o caminho das pedras para mudar essa realidade e aprender a se expressar com coragem\, convicção e clareza e\, assim\, influenciar pessoas e promover ideias. Aqui você irá: Entender as características de uma comunicação impactante e que influencia as pessoas\, e como isso pode levar ao sucesso; Aprender a compartilhar conhecimento de modo eficaz e transformador; Descobrir como prender a atenção do ouvinte\, independentemente do tamanho da sua audiência; Fomentar o engajamento e as ações do seu público durante e após uma apresentação; Planejar e criar apresentações\, palestras\, aulas e seminários poderosos e instigantes\, e utilizar as ferramentas de persuasão ao seu favor. Chegou a hora de mudar a sua vida com uma comunicação eficaz e poderosa! \n
URL:https://blog.livrariadavila.com.br/event/um-novo-jeito-de-ensinar-e-influenciar-pessoas-ariovaldo-silva-jr-ed-gente-3/
LOCATION:Av. Juscelino Kubitschek\, 2041 - Itaim Bibi\, São Paulo\, São Paulo\, 04543-011\, Brasil
GEO:-23.5914219;-46.6898224
X-APPLE-STRUCTURED-LOCATION;VALUE=URI;X-ADDRESS=Av. Juscelino Kubitschek 2041 - Itaim Bibi São Paulo São Paulo 04543-011 Brasil;X-APPLE-RADIUS=500;X-TITLE=Av. Juscelino Kubitschek\, 2041 - Itaim Bibi:geo:-46.6898224,-23.5914219
END:VEVENT
BEGIN:VEVENT
DTSTART;TZID=America/Sao_Paulo:20240319T180000
DTEND;TZID=America/Sao_Paulo:20240319T210000
DTSTAMP:20260420T151920
CREATED:20240222T174250Z
LAST-MODIFIED:20240223T121739Z
UID:121288-1710871200-1710882000@blog.livrariadavila.com.br
SUMMARY:KARDEC PARA O SÉCULO 21 - DORA INCONTRI - ED. COMENIUS
DESCRIPTION: \n  \nDora Incontri se propõe nesse livro a fazer um encontro entre as ideias de Kardec do século 19 com correntes do pensamento contemporâneo. Um diálogo crítico\, para reler Kardec em nossos tempos e trazer ao mesmo tempo o contexto em que as ideias espíritas nasceram na França daquela época. \n
URL:https://blog.livrariadavila.com.br/event/kardec-para-o-seculo-21-dora-incontri-ed-comenius-2/
LOCATION:Rua Fradique Coutinho\, 915 - Pinheiros\, São Paulo\, São Paulo\, 05416-011\, Brasil
GEO:-23.5592934;-46.6892019
X-APPLE-STRUCTURED-LOCATION;VALUE=URI;X-ADDRESS=Rua Fradique Coutinho 915 - Pinheiros São Paulo São Paulo 05416-011 Brasil;X-APPLE-RADIUS=500;X-TITLE=Rua Fradique Coutinho\, 915 - Pinheiros:geo:-46.6892019,-23.5592934
END:VEVENT
BEGIN:VEVENT
DTSTART;TZID=America/Sao_Paulo:20240319T180000
DTEND;TZID=America/Sao_Paulo:20240319T210000
DTSTAMP:20260420T151920
CREATED:20240229T144107Z
LAST-MODIFIED:20240229T144107Z
UID:121387-1710871200-1710882000@blog.livrariadavila.com.br
SUMMARY:TIRANDO OS PÉS DO CHÃO - GUSTAVO CRUZ – ED. VISEU
DESCRIPTION: \n  \nTirando os pés do chão: dez encontros com o\nplano astral é uma obra que convida os leitores a\ndesvendarem um mundo para além daquilo que os\nolhos físicos podem perceber. Com uma linguagem\nacessível e histórias pessoais fascinantes\, o autor\ncompartilha suas experiências no plano astral e\ndesvenda técnicas que qualquer pessoa pode utilizar\npara explorar esse universo.\nO livro desmistifica a ideia de que a prática é reservada\na apenas alguns poucos\, oferecendo uma\njornada de autoconhecimento e expansão da consciência\nacessível a todos. Para aqueles que desejam\naprofundar ainda mais sua prática\, a obra encerra\ncom um Guia Prático para a Jornada Astral em dez\npassos\, fornecendo um roteiro detalhado para conduzir\nsua própria exploração no plano astral. \n
URL:https://blog.livrariadavila.com.br/event/tirando-os-pes-do-chao-gustavo-cruz-ed-viseu/
LOCATION:Avenida do Batel\, nº 1868 – Loja 314 piso L3\, Curitiba\, Paraná\, 80420-090\, Brasil
GEO:-25.443012;-49.2899507
X-APPLE-STRUCTURED-LOCATION;VALUE=URI;X-ADDRESS=Avenida do Batel nº 1868 – Loja 314 piso L3 Curitiba Paraná 80420-090 Brasil;X-APPLE-RADIUS=500;X-TITLE=Avenida do Batel\, nº 1868 – Loja 314 piso L3:geo:-49.2899507,-25.443012
END:VEVENT
BEGIN:VEVENT
DTSTART;TZID=America/Sao_Paulo:20240319T190000
DTEND;TZID=America/Sao_Paulo:20240319T213000
DTSTAMP:20260420T151920
CREATED:20240222T195126Z
LAST-MODIFIED:20240222T195126Z
UID:121287-1710874800-1710883800@blog.livrariadavila.com.br
SUMMARY:NA COZINHA - JULIANA GUEIROS – ED. INTRÍNSECA
DESCRIPTION:\n\n\n\n\n\nChef carioca que conquistou uma legião de seguidores na pandemia traz mais de 150 receitas e dicas para quem quer enriquecer a própria relação com a comidaA culinária está na vida da chef Juliana Gueiros desde que ela se entende por gente: praticamente criada na bancada da cozinha de casa\, Juliana preparou a primeira refeição sozinha aos sete anos. Ao longo das duas décadas seguintes\, transformou esse amor pela comida em um propósito de vida e obteve um treinamento de excelência. Após se formar no Le Cordon Bleu Paris e trabalhar em restaurantes pelo mundo\, cursou administração e aprendeu muito sobre a parte burocrática da gastronomia.Em 2019\, decidiu mudar seu foco — em vez das cozinhas dos restaurantes\, passou a preparar refeições sob demanda para escritórios e grupos de pessoas. Aí veio a pandemia\, com muito mais gente de home office e tendo que cozinhar em casa\, e sua vida se transformou novamente: após o pedido de “socorro” de uma amiga\, começou a publicar no Instagram receitas simples e acabou ajudando não só seu círculo mais próximo de parentes e amigos\, como também dezenas de milhares de novos seguidores. Hoje são mais de 200 mil pessoas acompanhando as receitas da carioca que ganhou o mundo.O próximo passo de Juliana foi transformar em livro a sua experiência e mostrar que a culinária pode ser leve e descomplicada.Dividido em doze capítulos — que perpassam temas como “carnes”\, “legumes” e “ovos” —\, Na cozinha oferece técnicas e práticas para que o leitor “ganhe cada vez mais confiança para brincar e saborear esse fantástico mundo que é a gastronomia”. Com um passo a passo detalhado\, sugestões de variações\, dicas e curiosidades\, Juliana traz preparos com diferentes níveis de complexidade de modo a contemplar não só quem já tem noções culinárias\, mas também quem sempre quis aprender e não sabe por onde começar. E todos estão convidados. Afinal\, como diz a autora\, “às vezes\, o que pode ser banal e simples para um é revolucionário para outro”.\n\n\n\n\n
URL:https://blog.livrariadavila.com.br/event/na-cozinha-juliana-gueiros-ed-intrinseca/
LOCATION:Alameda Lorena\, 1501\, São Paulo\, São Paulo\, 01424-005\, Brasil
END:VEVENT
END:VCALENDAR