BEGIN:VCALENDAR
VERSION:2.0
PRODID:-//VILA - Blog - ECPv4.5.12.2//NONSGML v1.0//EN
CALSCALE:GREGORIAN
METHOD:PUBLISH
X-WR-CALNAME:VILA - Blog
X-ORIGINAL-URL:https://blog.livrariadavila.com.br
X-WR-CALDESC:Events for VILA - Blog
BEGIN:VEVENT
DTSTART;TZID=America/Sao_Paulo:20240321T150000
DTEND;TZID=America/Sao_Paulo:20240321T170000
DTSTAMP:20260420T121352
CREATED:20240314T135803Z
LAST-MODIFIED:20240314T135957Z
UID:121572-1711033200-1711040400@blog.livrariadavila.com.br
SUMMARY:#MATURIDADE NA LIVRARIA - TECER\, RELAXAR E TRANSBORDAR - ANA BACH E NURIA TORRENTS - ED. TIMO
DESCRIPTION: \n  \nO Maturidade na Livraria\, em sua primeira edição\, convida para uma roda de leitura\, amorosa e afetiva\, prioritariamente dirigida a mulheres e mães na maturidade\, onde todos são bem-vindos. \n  \nNa roda\, vamos ler fragmentos do livro-oráculo A TECELÃ (Bárbara Black Koltuv). \n  \nSe isso parece um novelo cheio de nós para você\, vamos começar a desemaranhar? \n  \nFiar é um processo cíclico\, assim como a alternância das fases lunares\, das estações\, da vida e da morte\, do início e do fim. Assim como os ciclos do feminino e das mulheres. Tecer é um ato criativo e expansivo: fios\, cordas\, redes e tecidos foram usados como símbolos da criação do mundo e da vida humana. \n  \nNo encontro\, Ana Bach\, parteira da maturidade\, acolhedora de lágrimas\, psicóloga\, atriz e locutora\, junto a Nuria Torrents\, psicóloga\, com especialização em Jung\, Sandplay e terapia de casal e familia conduzem um encontro de fiandeiras\, com sos novelos\, os tecidos\, como as aranhas e os teares. Acompanhadas de Ana Basaglia\, publisher da Editora Timo\, e Mariângela Cruz\, parteira da maturidade\, artista\, aromaterapeuta e veterinária. \n  \nEm linguagem mais junguiana\, TECER é cuidar da integração entre inconsciente e consciente\, claro e escuro\, luz e sombra. \n  \nEm nosso encontro\, iremos: \n✔️ Conectarmo-nos com nossa intuição \n✔️ Cuidar da alma feminina \n✔️ Tecer com linhas coloridas \n✔️ Promover partilhas que curam \n  \nVocê é uma teia vibrante em constante transformação! \n  \n“uma mulher é uma experiência e uma energia feminina que tece\, que é tecida\, que é desfeita e que se movimenta“. – B.B.K. \n  \nMaturidade na Livraria – 21/03 \n15 às 17h \nGratuito \nLivraria da Vila – São Paulo – SP \n
URL:https://blog.livrariadavila.com.br/event/maturidade-na-livraria-tecer-relaxar-e-transbordar-ana-bach-e-nuria-torrents-ed-timo/
LOCATION:Rua Fradique Coutinho\, 915 - Pinheiros\, São Paulo\, São Paulo\, 05416-011\, Brasil
GEO:-23.5592934;-46.6892019
X-APPLE-STRUCTURED-LOCATION;VALUE=URI;X-ADDRESS=Rua Fradique Coutinho 915 - Pinheiros São Paulo São Paulo 05416-011 Brasil;X-APPLE-RADIUS=500;X-TITLE=Rua Fradique Coutinho\, 915 - Pinheiros:geo:-46.6892019,-23.5592934
END:VEVENT
BEGIN:VEVENT
DTSTART;TZID=America/Sao_Paulo:20240321T180000
DTEND;TZID=America/Sao_Paulo:20240321T210000
DTSTAMP:20260420T121352
CREATED:20240116T202938Z
LAST-MODIFIED:20240119T124345Z
UID:120961-1711044000-1711054800@blog.livrariadavila.com.br
SUMMARY:DESVENDANDO O SUCESSO EMPRESARIAL - MARCILIO R. MACHADO – ED. SAINT PAUL
DESCRIPTION: \n  \nNeste livro\, o autor revela como as lições de Drucker moldaram sua carreira e seu sucesso na empresa Famex Importadora e Exportadora. As lições e os insights de Drucker forneceram orientação estratégica para a Famex. Suas ideias moldaram a forma como a empresa abordou a administração\, a tomada de decisões e o desenvolvimento de estratégias de negócios. \n
URL:https://blog.livrariadavila.com.br/event/desvendando-o-sucesso-empresarial-marcilio-r-machado-ed-saint-paul/
LOCATION:Av. Juscelino Kubitschek\, 2041 - Itaim Bibi\, São Paulo\, São Paulo\, 04543-011\, Brasil
GEO:-23.5914219;-46.6898224
X-APPLE-STRUCTURED-LOCATION;VALUE=URI;X-ADDRESS=Av. Juscelino Kubitschek 2041 - Itaim Bibi São Paulo São Paulo 04543-011 Brasil;X-APPLE-RADIUS=500;X-TITLE=Av. Juscelino Kubitschek\, 2041 - Itaim Bibi:geo:-46.6898224,-23.5914219
END:VEVENT
BEGIN:VEVENT
DTSTART;TZID=America/Sao_Paulo:20240321T183000
DTEND;TZID=America/Sao_Paulo:20240321T210000
DTSTAMP:20260420T121352
CREATED:20240214T183027Z
LAST-MODIFIED:20240215T131614Z
UID:121198-1711045800-1711054800@blog.livrariadavila.com.br
SUMMARY:HOMEM MÉDICO - FERNANDO NOBRE - ED. NOVO SÉCULO
DESCRIPTION: \n  \nVencedor do prêmio Jabuti 2006 na categoria ciências da saúde\, Fernando Nobre vem ao público com um envolvente romance. Homem médico apresenta a história de Dr. Reinaldo\, um clínico às voltas com os dilemas da profissão. Tendo de lidar com uma série de questões de difícil resolução\, o protagonista nos mostra a importância da humanização no cuidado com o paciente. \n
URL:https://blog.livrariadavila.com.br/event/homem-medico-fernando-nobre-ed-novo-seculo/
LOCATION:Av. Rebouças\, 3970 Piso 1 - Pinheiros\, São Paulo\, São Paulo\, 05402-600
END:VEVENT
BEGIN:VEVENT
DTSTART;TZID=America/Sao_Paulo:20240321T180000
DTEND;TZID=America/Sao_Paulo:20240321T210000
DTSTAMP:20260420T121352
CREATED:20240220T180449Z
LAST-MODIFIED:20240305T173338Z
UID:121252-1711044000-1711054800@blog.livrariadavila.com.br
SUMMARY:REVISÃO DO LANÇAMENTO TRIBUTÁRIO: HIPÓTESES E LIMITES - TÚLIO TERCEIRO NETO PARENTE MIRANDA - ED. NOESES
DESCRIPTION: \n  \nObra cuja temática é a revisão do lançamento tributário: hipóteses e limites. \nDiferencial – Livro didático\, uma vez que a partir de 4 perguntas\, (“o que é a revisão do lançamento tributário? Em que circunstâncias ela pode ser realizada? Por quem? E\, por fim\, até quando?”) o autor vai tecendo suas reflexões\, sem esquecer a importância de primeiramente conceituar o instituto em questão\, para depois se aprofundar de forma detalhada\, apoiando-se em consulta da doutrina dos clássicos\, além de filosofia e dos estudos de direito administrativo. \nDestaque – Estudo didático só podia resultar no delineamento e diferenciação entre a competência do juízo e a atribuição do agente fiscal no que tange às hipóteses de revisão do lançamento tributário. Sem dúvida\, imprescindível para todos os profissionais militantes da área tributária. \nEstrutura – Obra formada por: Introdução; Capítulo I – Pressupostos epistemológicos; Capítulo II – Lançamento tributário; Capítulo III – Lançamento como ato administrativo; Capítulo IV – Alterabilidade do lançamento tributário; Capítulo V – Revisão do lançamento tributário; Capítulo VI – A revisão do lançamento tributário na experiência brasileira; Conclusões; Referências. \n
URL:https://blog.livrariadavila.com.br/event/revisao-do-lancamento-tributario-hipoteses-e-limites-tulio-terceiro-neto-parente-miranda-ed-noeses/
LOCATION:Alameda Lorena\, 1501\, São Paulo\, São Paulo\, 01424-005\, Brasil
END:VEVENT
BEGIN:VEVENT
DTSTART;TZID=America/Sao_Paulo:20240321T180000
DTEND;TZID=America/Sao_Paulo:20240321T210000
DTSTAMP:20260420T121352
CREATED:20240305T202112Z
LAST-MODIFIED:20240305T202112Z
UID:121482-1711044000-1711054800@blog.livrariadavila.com.br
SUMMARY:A REVOLUÇÃO SILENCIOSA: DESCANSAR - JULIA DUARTE - INDEPENDENTE
DESCRIPTION: \n  \nNos dias atuais\, a exaustão feminina tomou conta das conversas. Desde a cultura do “não descansar” para produzir mais\, passando pelo trabalho invisível\, aquele realizado dentro de casa e que não é pago\, até a dificuldade em se desconectar das pressões sociais.\nDe um lado\, a tripla jornada\, a carga mental e a tensão no mercado de trabalho\, temas recorrentes em diversas pesquisas nacionais e mundiais. Do outro lado\, a falta de tempo e o desespero silencioso das mulheres é visível. Só não vê quem não quer.\nPara a sociedade a doutrinação feminina é um alívio. Para as mulheres uma mudança estrutural é a única solução possível: parar de tentar fazer tudo ao mesmo tempo.\nDescansar é o nome do jogo. Por isso\, este livro vai te mostrar que a transformação não precisa ser feita com barulho. A ideia é impor limites sem lamentos\, filtrar as prioridades\, manter a integridade com sua alma e o elo com seus valores. No fim\, você só fica com o que é fundamental na sua vida. \n
URL:https://blog.livrariadavila.com.br/event/a-revolucao-silenciosa-descansar-julia-duarte-independente/
LOCATION:R. Treze de Maio\, 1947 - Bela Vista\, São Paulo\, São Paulo\, 01327-900
END:VEVENT
BEGIN:VEVENT
DTSTART;TZID=America/Sao_Paulo:20240321T170000
DTEND;TZID=America/Sao_Paulo:20240321T210000
DTSTAMP:20260420T121352
CREATED:20240308T191958Z
LAST-MODIFIED:20240308T191958Z
UID:121531-1711040400-1711054800@blog.livrariadavila.com.br
SUMMARY:A MENSAGEIRA SELVAGEM - ISABELE MOREIRA – ED. LUZ DA SERRA
DESCRIPTION: \n  \n\n\n\n\nQuanto mais uma mulher se reconhece como mensageira e decide expor sua mensagem\, mais ela precisa investigar quem ela é para além do comum\, do aceitável e do imposto. Mais ela precisará lapidar sua própria forma de existir\, sua autenticidade. Tomando como partida a incrível (e às vezes nada fácil) jornada de uma mulher que decide criar um negócio digital do zero\, apostando todas as suas fichas no fato de que ela tem uma mensagem relevante para o mundo\, Isabele Moreira mostra que o empreendedorismo feminino não é apenas um conjunto de sorte e estratégia. Ainda enquanto planeja os primeiros passos\, essa mulher descobre que sabe bem menos do que deveria sobre si mesma\, e então\, em paralelo ao projeto mais desafiador de sua vida\, sente uma vontade incontrolável de mergulhar em um processo de autodescoberta. Tornar-se uma mensageira de sua própria voz expõe essa heroína a uma cansativa dualidade entre a necessidade de ser perfeita e de dar conta de tudo\, imposta todos os dias pela sociedade\, e a voz interna que insiste em dizer que há algo especial para ela no mundo. Transformar um sonho em projeto e esse projeto em realidade vai exigir dessa mulher que ela revisite seus medos\, crenças e memórias\, e que faça uma viagem de volta àquilo de mais selvagem\, intuitivo e primário que existe nela. A busca não será mais sobre ser uma mensageira\, mas uma mensageira selvagem. Para que ela consiga seguir esse instinto e alcance a liberdade de viver de um projeto baseado em sua própria autenticidade\, um caminho precisa ser percorrido. Spoiler: é um processo deslumbrante e assustador – na mesma proporção. Você está pronta para esse mergulho?\n\n\n\n\n
URL:https://blog.livrariadavila.com.br/event/a-mensageira-selvagem-isabele-moreira-ed-luz-da-serra/
LOCATION:Av. Higienópolis\, 618 – Higienópolis\, São Paulo\, SP\, 01238-000\, Brasil
GEO:-23.542049;-46.6577148
X-APPLE-STRUCTURED-LOCATION;VALUE=URI;X-ADDRESS=Av. Higienópolis 618 – Higienópolis São Paulo SP 01238-000 Brasil;X-APPLE-RADIUS=500;X-TITLE=Av. Higienópolis\, 618 – Higienópolis:geo:-46.6577148,-23.542049
END:VEVENT
BEGIN:VEVENT
DTSTART;TZID=America/Sao_Paulo:20240321T190000
DTEND;TZID=America/Sao_Paulo:20240321T213000
DTSTAMP:20260420T121352
CREATED:20240301T203943Z
LAST-MODIFIED:20240318T150201Z
UID:121432-1711047600-1711056600@blog.livrariadavila.com.br
SUMMARY:ADMINISTRAÇÃO ENXUTA (LEAN OFFICE) - JOÃO HENRIQUE ESCAMIA – ED. ÁS
DESCRIPTION: \n  \n  \n  \n  \n
URL:https://blog.livrariadavila.com.br/event/administracao-enxuta-lean-office-joao-henrique-escamia-ed-as/
LOCATION:Avenida do Batel\, nº 1868 – Loja 314 piso L3\, Curitiba\, Paraná\, 80420-090\, Brasil
GEO:-25.443012;-49.2899507
X-APPLE-STRUCTURED-LOCATION;VALUE=URI;X-ADDRESS=Avenida do Batel nº 1868 – Loja 314 piso L3 Curitiba Paraná 80420-090 Brasil;X-APPLE-RADIUS=500;X-TITLE=Avenida do Batel\, nº 1868 – Loja 314 piso L3:geo:-49.2899507,-25.443012
END:VEVENT
END:VCALENDAR