BEGIN:VCALENDAR
VERSION:2.0
PRODID:-//VILA - Blog - ECPv4.5.12.2//NONSGML v1.0//EN
CALSCALE:GREGORIAN
METHOD:PUBLISH
X-WR-CALNAME:VILA - Blog
X-ORIGINAL-URL:https://blog.livrariadavila.com.br
X-WR-CALDESC:Events for VILA - Blog
BEGIN:VEVENT
DTSTART;TZID=America/Sao_Paulo:20240324T160000
DTEND;TZID=America/Sao_Paulo:20240324T180000
DTSTAMP:20260420T071759
CREATED:20240229T213044Z
LAST-MODIFIED:20240229T213044Z
UID:121409-1711296000-1711303200@blog.livrariadavila.com.br
SUMMARY:CLUBE DE LEITURA - LIVRARIA DA VILA
DESCRIPTION: \n
URL:https://blog.livrariadavila.com.br/event/clube-de-leitura-livraria-da-vila-5/
LOCATION:Rua Fradique Coutinho\, 915 - Pinheiros\, São Paulo\, São Paulo\, 05416-011\, Brasil
GEO:-23.5592934;-46.6892019
X-APPLE-STRUCTURED-LOCATION;VALUE=URI;X-ADDRESS=Rua Fradique Coutinho 915 - Pinheiros São Paulo São Paulo 05416-011 Brasil;X-APPLE-RADIUS=500;X-TITLE=Rua Fradique Coutinho\, 915 - Pinheiros:geo:-46.6892019,-23.5592934
END:VEVENT
BEGIN:VEVENT
DTSTART;TZID=America/Sao_Paulo:20240324T150000
DTEND;TZID=America/Sao_Paulo:20240324T200000
DTSTAMP:20260420T071759
CREATED:20240308T152745Z
LAST-MODIFIED:20240308T191514Z
UID:121519-1711292400-1711310400@blog.livrariadavila.com.br
SUMMARY:UMA FAMÍLIA FELIZ - RAPHAEL MONTES – ED. COMPANHIA DAS LETRAS
DESCRIPTION:\n\n \n\n\n\n\nEm Uma família feliz\, o mestre do suspense Raphael Montes desbrava as tensões das relações familiares e do mundo de aparências de um condomínio perfeito\, em uma trama complexa sobre infância e maternidade. Do criador da série original Bom dia\, Verônica (Netflix) e da novela Beleza fatal (HBO). Eva tem a vida perfeita. Seu marido é um jovem advogado em ascensão. Suas filhas gêmeas são lindas\, inteligentes e saudáveis. Seu trabalho\, a arte reborn\, é um sucesso na internet. À sua volta\, tudo está à mão: o Blue Paradise\, condomínio fechado de classe média-alta na Barra da Tijuca\, oferece todo tipo de serviço para que ela não precise sair do conforto de seu lar. Eva tem a vida perfeita — até descobrir que está grávida e seu mundo virar de cabeça para baixo.Conhecido por seus suspenses de tirar o fôlego\, com mais de 500 mil exemplares vendidos\, Raphael Montes inova ao começar este thriller psicológico pelo último capítulo. Assim\, como uma bomba-relógio prestes a detonar\, acompanhamos os caminhos surpreendentes e as tensões que levam essa família feliz a um final avassalador. Uma história original de Raphael Montes deu origem ao livro e ao longa-metragem Uma família feliz\, com Grazi Massafera e Reynaldo Gianecchini e direção de José Eduardo Belmonte. “Um thriller que coloca o dedo na ferida das famílias idealizadas.” — Vera Iaconelli “Um suspense arrebatador! Eva é uma personagem complexa\, vive no fio da navalha sob expectativas sociais tentando equilibrar as exigências da maternidade e as pressões de uma vida de aparências. Sem dúvida\, muitas mulheres vão se identificar. Essa história me arrepiou desde o primeiro momento!” — Grazi Massafera\n\n\n\n\n\n\n\n\n\n
URL:https://blog.livrariadavila.com.br/event/uma-familia-feliz-raphael-montes-ed-companhia-das-letras/
LOCATION:Rua Fradique Coutinho\, 915 - Pinheiros\, São Paulo\, São Paulo\, 05416-011\, Brasil
GEO:-23.5592934;-46.6892019
X-APPLE-STRUCTURED-LOCATION;VALUE=URI;X-ADDRESS=Rua Fradique Coutinho 915 - Pinheiros São Paulo São Paulo 05416-011 Brasil;X-APPLE-RADIUS=500;X-TITLE=Rua Fradique Coutinho\, 915 - Pinheiros:geo:-46.6892019,-23.5592934
END:VEVENT
END:VCALENDAR