BEGIN:VCALENDAR
VERSION:2.0
PRODID:-//VILA - Blog - ECPv4.5.12.2//NONSGML v1.0//EN
CALSCALE:GREGORIAN
METHOD:PUBLISH
X-WR-CALNAME:VILA - Blog
X-ORIGINAL-URL:https://blog.livrariadavila.com.br
X-WR-CALDESC:Events for VILA - Blog
BEGIN:VEVENT
DTSTART;TZID=America/Sao_Paulo:20240326T183000
DTEND;TZID=America/Sao_Paulo:20240326T210000
DTSTAMP:20260420T035634
CREATED:20240220T205059Z
LAST-MODIFIED:20240222T164507Z
UID:121261-1711477800-1711486800@blog.livrariadavila.com.br
SUMMARY:COMO FAZEMOS TERAPIA - STEPHEN PAUL ADLER - REINO EDITORIAL
DESCRIPTION: \n  \n“Como Fazemos Terapia” é um convite para uma jornada reveladora pelo universo das terapias\, conduzido por um seleto time de terapeutas convidados pelo renomado Psicanalista e PH.D em Psicologia Dr. Stephen Paul Adler\, um dos maiores especialistas em Hipnose Ericksoniana em todo o mundo. \nCom uma linguagem acessível e envolvente\, este livro oferece uma visão detalhada dos processos terapêuticos empregados por cada profissional\, apresentando técnicas\, abordagens e filosofias que fundamentam seu trabalho. Ao compartilhar suas experiências e insights\, os terapeutas mostram como a terapia pode ser um caminho transformador para o autoconhecimento e o bem-estar emocional. “Como Fazemos Terapia” é um guia indispensável para aqueles que buscam novas abordagens para lidar com suas emoções e também para os profissionais que desejam aprimorar suas práticas terapêuticas. \n
URL:https://blog.livrariadavila.com.br/event/como-fazemos-terapia-stephen-paul-adler-reino-editorial/
LOCATION:Av. Higienópolis\, 618 – Higienópolis\, São Paulo\, SP\, 01238-000\, Brasil
GEO:-23.542049;-46.6577148
X-APPLE-STRUCTURED-LOCATION;VALUE=URI;X-ADDRESS=Av. Higienópolis 618 – Higienópolis São Paulo SP 01238-000 Brasil;X-APPLE-RADIUS=500;X-TITLE=Av. Higienópolis\, 618 – Higienópolis:geo:-46.6577148,-23.542049
END:VEVENT
BEGIN:VEVENT
DTSTART;TZID=America/Sao_Paulo:20240326T180000
DTEND;TZID=America/Sao_Paulo:20240326T210000
DTSTAMP:20260420T035634
CREATED:20240229T160411Z
LAST-MODIFIED:20240229T160440Z
UID:121390-1711476000-1711486800@blog.livrariadavila.com.br
SUMMARY:À SUA MODA  E À SUA MODA 2 - AYSHA CORRÊA\, LUCIANA ULRICH\, RACHEL JORDAN E SILVIA SCIGLIANO – ED. STUDIO IMMAGINE/ 4 TALKS
DESCRIPTION: \n  \nA Consultoria de Imagem é uma profissão que cresce cada vez mais no Brasil\, mas que ainda é pouco documentada no país. Buscando preencher essa lacuna\, as especialistas Aysha Corrêa\, Luciana Ulrich\, Rachel Jordan e Silvia Scigliano reúnem neste livro informações valiosas tanto para profissionais da área como também para quem procura saber mais sobre assuntos como coloração pessoal\, estilo\, tendências\, praticidade e comportamento profissional. Com uma linguagem leve e acessível\, este é um guia para todos os interessados em saber como a imagem pessoal pode influenciar nosso cotidiano. \n \n  \n“À Sua Moda 2: Conversas com Profissionais da Consultoria de Imagem” é uma obra que revela o crescimento notável da profissão de consultor de imagem no Brasil. Publicado durante a pandemia da Covid-19\, o primeiro volume\, “À Sua Moda: Guia de Consultoria de Imagem”\, das especialistas as especialistas Aysha Corrêa\, Luciana Ulrich\, Rachel Jordan e Silvia Scigliano\, conquistou o público com sua abordagem inovadora. O sucesso inspirou a criação deste segundo volume\, que explora novos horizontes na profissão. As autoras\, junto a nove especialistas\, compartilham suas experiências em nichos como varejo\, personal shopping\, noivas\, morfopsicologia\, peles negras\, moda masculina\, personal branding\, plus size e moda inclusiva. As conversas convidam os leitores a se envolverem com as possibilidades da consultoria de imagem. Com um estilo leve e direto\, “À Sua Moda 2” visa informar e divertir\, proporcionando uma leitura enriquecedora para quem quer expandir os horizontes da consultoria de imagem. Garanta já a sua próxima leitura. \n
URL:https://blog.livrariadavila.com.br/event/a-sua-moda-e-a-sua-moda-2-aysha-correa-luciana-ulrich-rachel-jordan-e-silvia-scigliano-ed-studio-immagine-4-talks/
LOCATION:Rua Fradique Coutinho\, 915 - Pinheiros\, São Paulo\, São Paulo\, 05416-011\, Brasil
GEO:-23.5592934;-46.6892019
X-APPLE-STRUCTURED-LOCATION;VALUE=URI;X-ADDRESS=Rua Fradique Coutinho 915 - Pinheiros São Paulo São Paulo 05416-011 Brasil;X-APPLE-RADIUS=500;X-TITLE=Rua Fradique Coutinho\, 915 - Pinheiros:geo:-46.6892019,-23.5592934
END:VEVENT
BEGIN:VEVENT
DTSTART;TZID=America/Sao_Paulo:20240326T180000
DTEND;TZID=America/Sao_Paulo:20240326T210000
DTSTAMP:20260420T035634
CREATED:20240305T130848Z
LAST-MODIFIED:20240305T130848Z
UID:121460-1711476000-1711486800@blog.livrariadavila.com.br
SUMMARY:A ARTE DA SUPERAÇÃO EM 24H - CARLOS COELHO – ED. ANJO
DESCRIPTION: \n  \nA ARTE DE SUPERAÇÃO EM APENAS 24 HORAS \n
URL:https://blog.livrariadavila.com.br/event/a-arte-da-superacao-em-24h-carlos-coelho-ed-anjo/
LOCATION:Av. Juscelino Kubitschek\, 2041 - Itaim Bibi\, São Paulo\, São Paulo\, 04543-011\, Brasil
GEO:-23.5914219;-46.6898224
X-APPLE-STRUCTURED-LOCATION;VALUE=URI;X-ADDRESS=Av. Juscelino Kubitschek 2041 - Itaim Bibi São Paulo São Paulo 04543-011 Brasil;X-APPLE-RADIUS=500;X-TITLE=Av. Juscelino Kubitschek\, 2041 - Itaim Bibi:geo:-46.6898224,-23.5914219
END:VEVENT
BEGIN:VEVENT
DTSTART;TZID=America/Sao_Paulo:20240326T180000
DTEND;TZID=America/Sao_Paulo:20240326T210000
DTSTAMP:20260420T035634
CREATED:20240319T134534Z
LAST-MODIFIED:20240319T134534Z
UID:121637-1711476000-1711486800@blog.livrariadavila.com.br
SUMMARY:ALAVANCAGEM - PAULO DE VILHENA – ED. DVS
DESCRIPTION: \n  \n\n\n\n\nConstruir um negócio próspero é um desafio que exige esforço e disciplina. Mas também é preciso saber canalizar os recursos de forma eficaz. A alavancagem fornece justamente a possibilidade de impulsionar negócios de maneira contrária à lógica com a qual nos acostumamos: ao alavancar os negócios\, o crescimento pode ser inversamente proporcional ao esforço aplicado. Para isso\, é preciso identificar os pontos estratégicos nos quais se concentrar. Cada empresa tem as próprias fortalezas e fraquezas\, e conhecê-las é essencial para evitar erros e maximizar a vantagem competitiva que a diferencia da concorrência e aumenta suas chances de sucesso. Com planejamento\, é possível não apenas erguer a empresa\, mas torná-la mais eficiente e competitiva no mercado. Por isso\, em vez de se concentrar em aspectos comportamentais\, “Alavancagem: A chave do crescimento empresarial!” propõe uma abordagem “raiz”\, orientada ao cerne do crescimento empresarial: o incremento nas vendas\, a maximização dos lucros e a gestão eficaz. Com mais de três décadas de experiência no mundo empresarial\, duas delas inteiramente dedicadas a ajudar empresários a alcançar o sucesso\, Paulo de Vilhena traz uma perspectiva prática e embasada para alavancar negócios com estratégias únicas e adaptadas às características deles. Afinal\, o planejamento é a pedra angular para um crescimento sustentável. Como empresários\, somos responsáveis pelo destino de nossos negócios. E a alavancagem é o caminho para transformar desafios em oportunidades e conduzir os negócios ao sucesso duradouro.\n\n\n\n\n
URL:https://blog.livrariadavila.com.br/event/alavancagem-paulo-de-vilhena-ed-dvs/
LOCATION:Avenida do Batel\, nº 1868 – Loja 314 piso L3\, Curitiba\, Paraná\, 80420-090\, Brasil
GEO:-25.443012;-49.2899507
X-APPLE-STRUCTURED-LOCATION;VALUE=URI;X-ADDRESS=Avenida do Batel nº 1868 – Loja 314 piso L3 Curitiba Paraná 80420-090 Brasil;X-APPLE-RADIUS=500;X-TITLE=Avenida do Batel\, nº 1868 – Loja 314 piso L3:geo:-49.2899507,-25.443012
END:VEVENT
BEGIN:VEVENT
DTSTART;TZID=America/Sao_Paulo:20240326T180000
DTEND;TZID=America/Sao_Paulo:20240326T210000
DTSTAMP:20260420T035634
CREATED:20240325T172048Z
LAST-MODIFIED:20240325T172048Z
UID:121710-1711476000-1711486800@blog.livrariadavila.com.br
SUMMARY:A BOA-FÉ OBJETIVA NAS RELAÇÕES JURÍDICO-TRIBUTÁRIAS\, 100 ANOS DE IMPOSTO DE RENDA NO BRASIL E COMENTÁRIOS À LEI COMPLEMENTAR Nº 187/2021 - JIMIR DONIAK JR\, JOÃO PAULO LYRA\, RENATO NUNES\, CLÁUDIA FONSECA MORATO PAVAN\, MARCOS VINÍCIUS OTTONI E TERESA DE SOUZA DIAS GUTIERREZ – ED. QUARTIER LATIN
DESCRIPTION: \n  \nSOBRE O AUTOR: Jimir Doniak Jr. é advogado atuante na área tributária e no agronegócio\, com mais de 30 anos de experiência. Formado pela Universidade de Brasília\, é mestre e doutor em direito tributário pela Pontifícia Universidade Católica de São Paulo – PUC/SP\, além de ter especializações em direito societário pelo INSPER/SP e em direito internacional e europeu pela Universitè Jean Moulin – Lyon 3 (França). Foi Conselheiro do CARF e é autor de diversos estudos publicados\, tendo coordenado vários livros sobre importantes temas do direito tributário e do agronegócio. —- PREFÁCIO: ROQUE CARRAZZA\, Professor Emérito e Titular da Cadeira de Direito Tributário da Faculdade de Direito da Pontifícia Universidade Católica de São São Paulo (PUC-SP) – Advogado e Consultor Tributário: “”Registro\, outrossim\, que Jimir Doniak Jr. não se contentou em simplesmente concluir – de modo muito bem fundamentado\, diga-se de passagem – que o Poder Público se encontra jungido ao princípio da boa-fé objetiva. Isso seria pouco para quem sabe e se habituou\, na atividade profissional\, a aplicar os estudos acadêmicos à vivência prática\, na linha do pensamento de Lourival Vilanova\, sempre lembrado por Paulo de Barros Carvalho\, para quem: “O jurista é o ponto de interseção entre a teoria e a prática\, entre a ciência e a experiência”. Não foi por outro motivo que a obra identificou os deveres específicos decorrentes da boa-fé objetiva\, aos quais o Poder Público é obrigado a se submeter. Segundo penso\, é nesse ponto que o livro será particularmente útil aos que lidam com o Direito Tributário\, mormente aos advogados\, aos integrantes da Administração Fiscal e aos julgadores. . Em diversos aspectos\, compartilho das conclusões da presente obra. Tal como o autor\, também me parece fundamental considerar a boa- -fé objetiva\, em casos de mudança de entendimento da Administração Fiscal\, acerca da interpretação e aplicação das normas tributárias.”” \n  \n \n  \nAUTORES DO LIVRO: “Alessandra Okuma\, Ana Paula Saunders\, Bruno Fajersztajn e Elidie Palma Bifano\, Carlos Augusto Daniel Neto\, Edison Carlos Fernandes\, Fabiana Carsoni Fernandes\, Fernando Daniel de Moura Fonseca e Isabela Batista Santos\, Jimir Doniak Jr. e Alessandra Mie Ikehara Katori\, João Paulo Barbosa Lyra e Marcelo Magalhães Peixoto\, Livia De Carli Germano\, Michell Przepiorka\, Caio Cezar Soares Malpighi e Jeferson Teodorovicz\, Martha Leão\, Miguel Delgado Gutierrez\, Ludmila Mara Monteiro de Oliveira\, Pedro Anan Junior\, Rodrigo Maito da Silveira.” ——– TEMAS DO LIVRO: “…estudos sobre o tratamento pelo IR da atualização monetária e dos juros moratórios\, a intersecção entre a interpretação das normas juscontábeis e das normas tributárias\, alienação de participação societária sem perda de controle\, efeitos do julgamento da ADI nº 2.446 no planejamento tributário\, reflexões sobre o contencioso no CARF a respeito da amortização do ágio\, as intrincadas questões relativas à disciplina no IR da transferência de tecnologia e da importação de serviços\, análise da jurisprudência do CARF a propósito dos fundos de investimento em participações e consolidação dos resultados na tributação de investimentos no exterior.”- PREFÁCIO: “Sob o ponto-de-vista constitucional\, a grande alteração\, ao longo de todas essas décadas\, foi\, em 1988\, a introdução obrigatória dos critérios da generalidade\, da universalidade e da progressividade (art. 153\, parágrafo 2º\, inciso I)\, os quais deram nova feição do imposto de renda\, tornando-o mais compatível com sua própria natureza.” —-Ricardo Mariz de Oliveira \n \n  \nAUTORES: Claudia Fonseca Morato Pavan e Marcos Vinícius Ottoni\, Renato Nunes\, Janaina Rodrigues Pereira e Adriana Almeida Sales de Melo\, Teresa de Souza Dias Gutierrez e Rogéria Leoni Cruz\, Marina Acosta de Mendonça\, Simone Horta Andrade e João Paulo Bachur\, Brunno Carrijo\, Carolina Paschoalini\, Lucas Barducco e Sabrina Nerón Balthazar e Thiago Ferreira Cabral. ——————— APRESENTAÇÃO: IVES GANDRA MARTINS – “Para assegurar seu intento\, o constituinte pôs a salvo da exigência tributária a renda\, o patrimônio e as demais receitas das instituições que\, de forma beneficente\, ou seja\, sem finalidade lucrativa\, se dediquem à assistência social\, à educação e à saúde” \n
URL:https://blog.livrariadavila.com.br/event/a-boa-fe-objetiva-nas-relacoes-juridico-tributarias-100-anos-de-imposto-de-renda-no-brasil-e-comentarios-a-lei-complementar-no-1872021-jimir-doniak-jr-joao-paulo-lyra-renato-nunes-claudia-fonse/
LOCATION:Alameda Lorena\, 1501\, São Paulo\, São Paulo\, 01424-005\, Brasil
END:VEVENT
BEGIN:VEVENT
DTSTART;TZID=America/Sao_Paulo:20240326T193000
DTEND;TZID=America/Sao_Paulo:20240326T213000
DTSTAMP:20260420T035634
CREATED:20240229T181924Z
LAST-MODIFIED:20240311T120831Z
UID:121394-1711481400-1711488600@blog.livrariadavila.com.br
SUMMARY:PEDAGOGIA DO EBÓ - BEATRIZ MARTINS MOURA – ED. APPRIS
DESCRIPTION: \n  \n\n\n\n\nEste trabalho se faz no encruzilhar dos caminhos de Mãe Dora de Oyá\, Makota Kidoiale e meu. Seguindo suas narrativas e suas histórias\, caminhamos juntas entre seus terreiros e as universidades em que atuaram como professoras por meio do Projeto Encontro de Saberes. O livro trata\, a partir do conceito-chave de pedagogia do ebó\, sobre uma reflexão acerca das transformações produzidas por duas mestras dos conhecimentos tradicionais na universidade\, em termos espistêmicos\, metodológicos e pedagógicos. Interessa-me perceber como a educação se consolida enquanto um projeto coletivo de suas comunidades\, liderado por elas\, e que tem\, no encontro com as universidades\, mais um elemento importante\, que permite pensar sobre as reelaborações feitas por elas naqueles espaços. Considerando que os terreiros de religiões de matriz africana formam epistemicamente este país\, trazemos as mestras para a centralidade da produção analítica e intelectual deste trabalho. A costura entre suas histórias e a minha é o modo que encontrei para dar\, neste texto\, o tom do que foi a construção da pesquisa e da obra. Ao longo do livro\, são transversalizados temas como educação\, universidade\, políticas afirmativas e insubmissão.\n\n\n\n\n
URL:https://blog.livrariadavila.com.br/event/pedagogia-do-ebo-beatriz-martins-moura-ed-appris/
LOCATION:SHIN CA 04\, BLOCO A\, Brasília\, Distrito federal\, 71503-504\, Brasil
END:VEVENT
END:VCALENDAR