BEGIN:VCALENDAR
VERSION:2.0
PRODID:-//VILA - Blog - ECPv4.5.12.2//NONSGML v1.0//EN
CALSCALE:GREGORIAN
METHOD:PUBLISH
X-WR-CALNAME:VILA - Blog
X-ORIGINAL-URL:https://blog.livrariadavila.com.br
X-WR-CALDESC:Events for VILA - Blog
BEGIN:VEVENT
DTSTART;TZID=America/Sao_Paulo:20240327T180000
DTEND;TZID=America/Sao_Paulo:20240327T210000
DTSTAMP:20260420T021140
CREATED:20240315T211315Z
LAST-MODIFIED:20240315T211315Z
UID:121614-1711562400-1711573200@blog.livrariadavila.com.br
SUMMARY:CONTRA & INTELIGÊNCIA 4.0 - LUIS FERNANDO BAPTISTELLA – ED. LITERARE
DESCRIPTION:\n\n\n\n\n\n“Contra & Inteligência 4.0” oferece uma exploração profunda e envolvente sobre as ferramentas cruciais da Inteligência e Contrainteligência\, fundamentais para a tomada de decisões estratégicas em organizações. Este livro mergulha nos aspectos técnicos e práticos que sustentam essas atividades. Escrito por Luis Fernando Baptistella\, autor com uma distinta carreira no Setor de Inteligência\, esta obra vai além do convencional\, combinando uma rica experiência prática com uma sólida base teórica. Ao fazer isso\, oferece aos leitores uma perspectiva única e bem contextualizada sobre a aplicação e desenvolvimento da Inteligência e Contrainteligência. Entre temas estão: conceitos\, definições\, exemplos atuais\, como a tentativa de venda de segredos militares para o Brasil e a operação de agentes estrangeiros passando-se por nacionais brasileiros\, que fazem deste livro uma leitura de apoio a acadêmicos e profissionais que atuam em assessoria estratégica e na segurança corporativa\, principalmente\, no setor de Contrainteligência. Este livro não apenas desvenda um tema frequentemente mal compreendido\, mas também o faz de maneira acessível e cativante. Ao unir teoria rigorosa e prática\, “Contra &amp; Inteligência 4.0” não só amplia os conhecimentos\, mas também inspira um interesse crescente nos campos da Inteligência e Contrainteligência\, essenciais tanto no ambiente corporativo quanto no acadêmico. Convidamos profissionais\, acadêmicos e entusiastas a mergulhar nesta leitura enriquecedora\, que lança uma nova luz sobre um tema de importância vital.\n\n\n\n\n
URL:https://blog.livrariadavila.com.br/event/contra-inteligencia-4-0-luis-fernando-baptistella-ed-literare/
LOCATION:Av. Juscelino Kubitschek\, 2041 - Itaim Bibi\, São Paulo\, São Paulo\, 04543-011\, Brasil
GEO:-23.5914219;-46.6898224
X-APPLE-STRUCTURED-LOCATION;VALUE=URI;X-ADDRESS=Av. Juscelino Kubitschek 2041 - Itaim Bibi São Paulo São Paulo 04543-011 Brasil;X-APPLE-RADIUS=500;X-TITLE=Av. Juscelino Kubitschek\, 2041 - Itaim Bibi:geo:-46.6898224,-23.5914219
END:VEVENT
BEGIN:VEVENT
DTSTART;TZID=America/Sao_Paulo:20240327T190000
DTEND;TZID=America/Sao_Paulo:20240327T213000
DTSTAMP:20260420T021140
CREATED:20240123T124643Z
LAST-MODIFIED:20240129T155457Z
UID:121004-1711566000-1711575000@blog.livrariadavila.com.br
SUMMARY:LÍDER POR AMOR - ANGELO OTAVIO – ED. FIGURATI
DESCRIPTION:\n\n\n\n\n\nSó existe um tipo de líder nato: aquele que AMA o que faz e AMA fazer isso com AMOR. Amar é uma escolha e um comportamento\, é um desejo inegociável de fazer o que é correto\, ser duro com quem ama e gentil com quem não concorda. Ser líder não é apenas estudar ou se esforçar; ser líder é ser exemplo. Que a vida promova em todos que lerem esse livro o mesmo que estou sentido agora\, que não é apenas um sentimento de missão cumprida\, mas um sentimento indescritível de liberdade\, e só serão libertos aqueles que se expuserem a julgamento. E não somente esperando absolvição ou punição\, pois são apenas fatos\, personagens\, situações e momentos vividos em família\, com amigos e pessoas do bem\, que sempre estarão dispostas a seguir em frente e nunca desistir.\n\n\n\n\n
URL:https://blog.livrariadavila.com.br/event/lider-por-amor-angelo-otavio-ed-figurati/
LOCATION:Rua Fradique Coutinho\, 915 - Pinheiros\, São Paulo\, São Paulo\, 05416-011\, Brasil
GEO:-23.5592934;-46.6892019
X-APPLE-STRUCTURED-LOCATION;VALUE=URI;X-ADDRESS=Rua Fradique Coutinho 915 - Pinheiros São Paulo São Paulo 05416-011 Brasil;X-APPLE-RADIUS=500;X-TITLE=Rua Fradique Coutinho\, 915 - Pinheiros:geo:-46.6892019,-23.5592934
END:VEVENT
BEGIN:VEVENT
DTSTART;TZID=America/Sao_Paulo:20240327T183000
DTEND;TZID=America/Sao_Paulo:20240327T213000
DTSTAMP:20260420T021140
CREATED:20240304T155727Z
LAST-MODIFIED:20240304T155727Z
UID:121440-1711564200-1711575000@blog.livrariadavila.com.br
SUMMARY:A SAGA DA FAMÍLIA EMPRESÁRIA - JOÃO MARCOS VARELLA - INDEPENDENTE
DESCRIPTION: \n  \nPorque tantas empresas não duram além da segunda ou terceira geração é uma questão desafiadora. Quantos empresários tendo respostas para ela tomariam decisões imediatamente para preservar seu patrimônio? Família e empresa são partes de um sistema integrado. Mudanças de um lado afetam o outro. Ao longo do tempo compartilham o crescimento da companhia e os ciclos familiares (de crianças aos filhos adultos). A atenção do empresário está quase sempre focada no planejamento e na organização da empresa para o seu bom funcionamento. Contudo\, o planejamento e a organização da família quase nunca atendem a sua evolução e podem surgir problemas que afetam o bem-estar e o relacionamento entre os seus membros\, com possibilidade de reflexos graves no negócio. Para muitas famílias\, falta o apoio para se organizarem como uma equipe\, falta se comunicarem bem e falta compartilharem uma visão de futuro para preservar o patrimônio da família. É bastante desafiador conciliar as diferenças que surgem sob a forma de expectativas\, interesses e necessidades. Por meio de histórias de personagens fictícios\, baseadas em situações reais vividas pelo autor como conselheiro e mentor de famílias empresárias\, o livro propõe reflexões e discussões fundamentais sobre Governança Familiar\, trazendo pistas e estimulando ações para harmonizar e alinhar distintas visões\, objetivos e planos de vida. Afinal\, cuidar das relações e do planejamento familiar é tão importante quanto dedicar atenção à empresa! João Marcos Varella\, o autor\, é especialista em Governança Familiar. Durante 22 anos\, aconselhou mais de 2.000 donos de empresas e descobriu que o comportamento do empresário é o maior risco do negócio. Como evolução desse trabalho\, casos de sócios da mesma família e depois a sucessão familiar passaram a ser suas atividades principais. \n
URL:https://blog.livrariadavila.com.br/event/a-saga-da-familia-empresaria-joao-marcos-varella-independente/
LOCATION:Avenida do Batel\, nº 1868 – Loja 314 piso L3\, Curitiba\, Paraná\, 80420-090\, Brasil
GEO:-25.443012;-49.2899507
X-APPLE-STRUCTURED-LOCATION;VALUE=URI;X-ADDRESS=Avenida do Batel nº 1868 – Loja 314 piso L3 Curitiba Paraná 80420-090 Brasil;X-APPLE-RADIUS=500;X-TITLE=Avenida do Batel\, nº 1868 – Loja 314 piso L3:geo:-49.2899507,-25.443012
END:VEVENT
END:VCALENDAR