BEGIN:VCALENDAR
VERSION:2.0
PRODID:-//VILA - Blog - ECPv4.5.12.2//NONSGML v1.0//EN
CALSCALE:GREGORIAN
METHOD:PUBLISH
X-WR-CALNAME:VILA - Blog
X-ORIGINAL-URL:https://blog.livrariadavila.com.br
X-WR-CALDESC:Events for VILA - Blog
BEGIN:VEVENT
DTSTART;TZID=America/Sao_Paulo:20240402T080000
DTEND;TZID=America/Sao_Paulo:20240402T170000
DTSTAMP:20260419T153557
CREATED:20240402T162448Z
LAST-MODIFIED:20240402T162448Z
UID:121798-1712044800-1712077200@blog.livrariadavila.com.br
SUMMARY:#MÃESNALIVRARIA - DIÁRIO DE UMA MÃE PSICANALISTA - KENIA ARCHAS - ED. TIMO
DESCRIPTION: \n  \nUma mãe tem muita história para contar. Não há mãe que não tenha um relato curioso\, engraçado\, ansioso\, saudoso – e tanto mais. Agora\, adicione a isso o gosto pela escrita e o fato dela ser psicanalista. Esse foi o caminho de Kenia Archas\, psicanalista e nova autora da Editora Timo. \nCom o título “Diário de uma mãe psicanalista”\, Kenia traz um belo recorte de tempo sobre seu maternar\, de 2020a 2023. O resultado\, claro\, é de muita sensibilidade e boas doses de uma maternidade que a maioria de nos sabemos como é. \nKENIA ARCHAS é psicóloga e psicanalista há mais de 20 anos. Estudou psicanálise na Universidade de Paris 8 e coordena supervisões e grupos de estudo\, além de atuar na clínica. Desde pequena gosta de literatura. E é mãe do Jorge\, que a inspirou a escrever e contar as histórias deste livro. \nVamos juntas conhecer mais da jornada de Kenia? \n
URL:https://blog.livrariadavila.com.br/event/maesnalivraria-diario-de-uma-mae-psicanalista-kenia-archas-ed-timo/
END:VEVENT
BEGIN:VEVENT
DTSTART;TZID=America/Sao_Paulo:20240402T180000
DTEND;TZID=America/Sao_Paulo:20240402T210000
DTSTAMP:20260419T153557
CREATED:20240314T201538Z
LAST-MODIFIED:20240314T201538Z
UID:121595-1712080800-1712091600@blog.livrariadavila.com.br
SUMMARY:A CORTESIA DA CASA - MARTA BARCELLOS – ED. RECORD
DESCRIPTION:\n\n\n\n\n\nVencedora dos prêmios Sesc e Biblioteca Nacional na categoria Conto\, Marta Barcellos estreia no romance com A cortesia da casa\, trama ambientada em um spa de luxo da serra fluminense. Denise\, uma mulher de meia-idade que se hospeda no Spa Montana\, na região serrana do Rio de Janeiro\, se esforça para cumprir seu papel social e se manter na superficialidade. Em meio a uma rotina que normaliza contagens de calorias\, cirurgias plásticas e situações escatológicas\, ela tenta se adequar aos padrões estabelecidos por uma elite que parece tão perdida quanto ela. A narrativa é delicada e as observações e incômodos da personagem se revelam gradativamente nos detalhes: os problemas com o marido\, o filho\, a nora e a amiga Lena\, cuja rotina movimentada e boêmia ela acompanha em encontros ocasionais\, e cujo interesse na vida de Denise esconde um segredo. Com um trabalho de ocultamento na linguagem e sem resvalar para a caricatura\, A cortesia da casa se vale do ambiente artificial do spa para mostrar a crise de meia idade de uma mulher que subitamente se sente descartada – pelo marido Vicente\, pelo filho Bruno\, pelo mercado de trabalho – e começa a ter episódios de compulsão alimentar. O leitor acessa as brechas das narrativas que a personagem cria para si própria\, e entrevê o desamparo e o vazio deixado pela falta dos homens de quem ela cuidou. Neste romance instigante\, Marta Barcellos traz\, com beleza\, humor e ironia\, um comentário sobre frivolidade e uma crítica de classe sutil e irônica sobre uma mulher em crise. “A narrativa sagaz da autora provoca em nós\, os leitores\, sentimentos ambíguos: nos diverte e desagrada a frivolidade de Denise ao mesmo tempo que compreendemos os mecanismos sociais e patriarcais que a forjaram. Torcemos para que ela rompa a casca e se revele ou se descubra. Ou se liberte. Efeito comovente construído com maestria por Marta Barcellos.” – Claudia Lage\n\n\n\n\n
URL:https://blog.livrariadavila.com.br/event/a-cortesia-da-casa-marta-barcellos-ed-record/
LOCATION:Rua Fradique Coutinho\, 915 - Pinheiros\, São Paulo\, São Paulo\, 05416-011\, Brasil
GEO:-23.5592934;-46.6892019
X-APPLE-STRUCTURED-LOCATION;VALUE=URI;X-ADDRESS=Rua Fradique Coutinho 915 - Pinheiros São Paulo São Paulo 05416-011 Brasil;X-APPLE-RADIUS=500;X-TITLE=Rua Fradique Coutinho\, 915 - Pinheiros:geo:-46.6892019,-23.5592934
END:VEVENT
BEGIN:VEVENT
DTSTART;TZID=America/Sao_Paulo:20240402T180000
DTEND;TZID=America/Sao_Paulo:20240402T210000
DTSTAMP:20260419T153557
CREATED:20240319T195703Z
LAST-MODIFIED:20240319T195703Z
UID:121643-1712080800-1712091600@blog.livrariadavila.com.br
SUMMARY:O FIM DA DEPRESSÃO  - JULIO CERQUETANE – ED. LITERARE
DESCRIPTION:\n\n\n\n\n\nNuma diferente proposta\, o autor revela detalhes conhecidos apenas por quem vivenciou o processo de depressão\, desde as causas até a vitória e a libertação\, meia década depois\, quando finalmente se libertou da mochila do sofrimento. A obra não possui nenhuma pretensão acadêmica\, não visa defender qualquer tese\, não tem a ousadia de propor uma “nova cura”. Ao contrário\, mostra como foi o fim da sua luta contra a doença\, revelando as três etapas principais do processo: antes\, durante e depois da depressão. Se a pessoa que vive os seus embates emocionais espera uma solução fácil contra essa que é uma das doenças mais agressivas de todos os tempos\, apenas conhecer o conteúdo e não se tratar é insuficiente. No entanto\, se está disposta a fazer o que a medicina determina e além disso\, entender como um deprimido venceu e se libertou\, as páginas trazem um conteúdo organizado e estruturado para servir como uma espécie de ajuda aos que enfrentam a depressão\, aos que convivem com a pessoa deprimida e aos que precisam se prevenir.\n\n\n\n\n
URL:https://blog.livrariadavila.com.br/event/o-fim-da-depressao-julio-cerquetane-ed-literare/
LOCATION:Av. Juscelino Kubitschek\, 2041 - Itaim Bibi\, São Paulo\, São Paulo\, 04543-011\, Brasil
GEO:-23.5914219;-46.6898224
X-APPLE-STRUCTURED-LOCATION;VALUE=URI;X-ADDRESS=Av. Juscelino Kubitschek 2041 - Itaim Bibi São Paulo São Paulo 04543-011 Brasil;X-APPLE-RADIUS=500;X-TITLE=Av. Juscelino Kubitschek\, 2041 - Itaim Bibi:geo:-46.6898224,-23.5914219
END:VEVENT
BEGIN:VEVENT
DTSTART;TZID=America/Sao_Paulo:20240402T180000
DTEND;TZID=America/Sao_Paulo:20240402T210000
DTSTAMP:20260419T153557
CREATED:20240326T152446Z
LAST-MODIFIED:20240326T152446Z
UID:121723-1712080800-1712091600@blog.livrariadavila.com.br
SUMMARY:MEU FILHO TÁ ONLINE DEMAIS - ANA ESCOBAR – ED. MANOLE
DESCRIPTION:\n\n\n\n\n\nHoje\, pais e escolas estão repletos de dúvidas de como resolver o grude que se tornou a tela na vida de muitas crianças e jovens (…). Está na hora de arcar com os custos dessa relação tão próxima de filhos e de alunos com seus aparelhos eletrônicos\, a fim de reacertar rumos\, reduzir danos e prevenir outros tantos. Prefácio de ROSELY SAYÃO\,Psicóloga\, consultora educacional e colunista deeducação da Folha de S.Paulo\, Estadão e Radio Band News FM Ficar sem tecnologia é impossível. A tecnologia tem um papel essencial em nossas vidas.Mas não deve ter um papel vital. Há um limite que deve ser definido por cada um de nós.• Como educar nossos filhos na era eletrônica?• Qual a idade mais adequada para a criança ter o seu próprio celular?• O uso de redes sociais pode gerar mais ansiedade e/ou depressão?• Quais os prós e contras da Inteligência Artificial (IA) como uma ferramenta de ensino?\n\n\n\n\n
URL:https://blog.livrariadavila.com.br/event/meu-filho-ta-online-demais-ana-escobar-ed-manole/
LOCATION:Av. Higienópolis\, 618 – Higienópolis\, São Paulo\, SP\, 01238-000\, Brasil
GEO:-23.542049;-46.6577148
X-APPLE-STRUCTURED-LOCATION;VALUE=URI;X-ADDRESS=Av. Higienópolis 618 – Higienópolis São Paulo SP 01238-000 Brasil;X-APPLE-RADIUS=500;X-TITLE=Av. Higienópolis\, 618 – Higienópolis:geo:-46.6577148,-23.542049
END:VEVENT
END:VCALENDAR