BEGIN:VCALENDAR
VERSION:2.0
PRODID:-//VILA - Blog - ECPv4.5.12.2//NONSGML v1.0//EN
CALSCALE:GREGORIAN
METHOD:PUBLISH
X-WR-CALNAME:VILA - Blog
X-ORIGINAL-URL:https://blog.livrariadavila.com.br
X-WR-CALDESC:Events for VILA - Blog
BEGIN:VEVENT
DTSTART;TZID=America/Sao_Paulo:20240807T180000
DTEND;TZID=America/Sao_Paulo:20240807T210000
DTSTAMP:20260425T161643
CREATED:20240711T200551Z
LAST-MODIFIED:20240711T200551Z
UID:123182-1723053600-1723064400@blog.livrariadavila.com.br
SUMMARY:A PROVA ORAL NO PROCESSO DO TRABALHO - FABRÍCIO GONÇALVES ZIPPERER – ED. MIZUNO
DESCRIPTION: \n  \nEste não é um livro tão somente sobre a prova oral no processo do trabalho. Trata-se de um livro que teve a intenção de provocar o leitor a encontrar alternativas\, instigando mudanças no processo construtivo da própria produção da prova em sala de audiência através da criatividade\, evitando o instituto persuasivo do crime de falso testemunho\, já que se evidencia\, na obra\, diversos casos em que as denúncias oriundas da Justiça do Trabalho são na sua grande maioria arquivadas pelo próprio Ministério Público Federal. Portanto\, o paradoxo da verdade e da mentira sempre foi e sempre será desenvolvido com base na argumentação pelos próprios sujeitos da relação\, já que a verdade nunca será simplesmente descoberta\, mas construída através de bons argumentos jurídicos e pela formação da própria linguagem de expressão\, sendo mais do que necessário o desenvolvimento de um ambiente processual adequado e que incentive a melhores práticas narrativas\, podendo se dar com a técnica dos nudges processuais\, em que discorreu-se detalhadamente sobre o poder das cores\, das vestimentas\, a força da linguagem corporal\, da posição espacial de partes\, testemunhas e do próprio jurisdicionado em sala de audiência\, um sistema informatizado de intimações que possa\, de fato\, contribuir e não dificultar o ambiente e até mesmo uma melhor utilização das multas coercitivas\, pois certamente teríamos uma Justiça do Trabalho no Brasil mais fortalecida\, célere\, dinâmica e conciliatória\, justificando a paz social entre o capital e o trabalho\, objetivo primordial. \n
URL:https://blog.livrariadavila.com.br/event/a-prova-oral-no-processo-do-trabalho-fabricio-goncalves-zipperer-ed-mizuno/
LOCATION:Avenida do Batel\, nº 1868 – Loja 314 piso L3\, Curitiba\, Paraná\, 80420-090\, Brasil
GEO:-25.443012;-49.2899507
X-APPLE-STRUCTURED-LOCATION;VALUE=URI;X-ADDRESS=Avenida do Batel nº 1868 – Loja 314 piso L3 Curitiba Paraná 80420-090 Brasil;X-APPLE-RADIUS=500;X-TITLE=Avenida do Batel\, nº 1868 – Loja 314 piso L3:geo:-49.2899507,-25.443012
END:VEVENT
BEGIN:VEVENT
DTSTART;TZID=America/Sao_Paulo:20240807T180000
DTEND;TZID=America/Sao_Paulo:20240807T210000
DTSTAMP:20260425T161643
CREATED:20240722T150047Z
LAST-MODIFIED:20240722T150047Z
UID:123364-1723053600-1723064400@blog.livrariadavila.com.br
SUMMARY:REPRESSÃO À CORRUPÇÃO NO BRASIL: DIFICULDADES E DESAFIOS NA UTILIZAÇÃO DE NOVAS FERRAMENTAS - VANIR FRIDRICZEWSKI E NICOLÁS RODRÍGUEZ GARCÍA – ED. TIRANT LO BLANCH
DESCRIPTION: \n  \nÉ com grande satisfação que trazemos ao leitor a monografia “Repressão à corrupção no Brasil: dificuldades e desafios na utilização de novas ferramentas (uma especial referência à disciplina da Lei de Improbidade Administrativa e da Lei Anticorrupção)”. Através desta obra procuramos fazer uma análise crítica do sistema brasileiro de enfrentamento à corrupção\, dedicando especial atenção às ferramentas regulamentadas pela Lei de Improbidade Administrativa e pela Lei Anticorrupção. \n
URL:https://blog.livrariadavila.com.br/event/repressao-a-corrupcao-no-brasil-dificuldades-e-desafios-na-utilizacao-de-novas-ferramentas-vanir-fridriczewski-e-nicolas-rodriguez-garcia-ed-tirant-lo-blanch/
LOCATION:ST COMERCIAL NORTE\, S/N – QUADRA5 BLOCO A\, Brasília\, Distrito Federal\, 70715-900\, Brasil
END:VEVENT
END:VCALENDAR