BEGIN:VCALENDAR
VERSION:2.0
PRODID:-//VILA - Blog - ECPv4.5.12.2//NONSGML v1.0//EN
CALSCALE:GREGORIAN
METHOD:PUBLISH
X-WR-CALNAME:VILA - Blog
X-ORIGINAL-URL:https://blog.livrariadavila.com.br
X-WR-CALDESC:Events for VILA - Blog
BEGIN:VEVENT
DTSTART;TZID=America/Sao_Paulo:20240823T180000
DTEND;TZID=America/Sao_Paulo:20240823T210000
DTSTAMP:20260420T083424
CREATED:20240724T204452Z
LAST-MODIFIED:20240724T204452Z
UID:123489-1724436000-1724446800@blog.livrariadavila.com.br
SUMMARY:MOVIMENTOS DA ABUNDÂNCIA FINANCEIRA – ORG. FÁBIO VIANA – ED. EXPRESSÃO E ARTE
DESCRIPTION: \n  \nVocê pode estar se perguntando: \nO que é Constelação Financeira? \nÉ uma prática terapêutica derivada da Constelação Sistêmica Familiar\, que permite ao terapeuta atuar com maestria no fascinante mundo das finanças e da prosperidade. Através das constelações financeiras\, somos capazes de desvendar os nós sistêmicos emocionais que nos mantêm presos em padrões financeiros limitantes. \n“Movimentos da Abundância Financeira” traz 14 aprendizados poderosos da Constelação Financeira\, que vão contribuir para que você obtenha a prosperidade financeira que deseja. \nCom esse livro\, você aprenderá a identificar e superar bloqueios financeiros\, atraindo abundância e prosperidade para a sua vida. São ensinamentos práticos e transformadores\, baseados em histórias reais de sucesso. \n
URL:https://blog.livrariadavila.com.br/event/movimentos-da-abundancia-financeira-org-fabio-viana-ed-expressao-e-arte/
LOCATION:Av. Higienópolis\, 618 – Higienópolis\, São Paulo\, SP\, 01238-000\, Brasil
GEO:-23.542049;-46.6577148
X-APPLE-STRUCTURED-LOCATION;VALUE=URI;X-ADDRESS=Av. Higienópolis 618 – Higienópolis São Paulo SP 01238-000 Brasil;X-APPLE-RADIUS=500;X-TITLE=Av. Higienópolis\, 618 – Higienópolis:geo:-46.6577148,-23.542049
END:VEVENT
BEGIN:VEVENT
DTSTART;TZID=America/Sao_Paulo:20240823T180000
DTEND;TZID=America/Sao_Paulo:20240823T210000
DTSTAMP:20260420T083424
CREATED:20240725T210036Z
LAST-MODIFIED:20240725T210036Z
UID:123530-1724436000-1724446800@blog.livrariadavila.com.br
SUMMARY:MULHERES COMPLIANCE NA PRÁTICA - VOLUME III - ANDRÉIA ROMA – ED. LEADER
DESCRIPTION: \n  \nConheça as histórias de mulheres que encontraram seu propósito no compliance. “Mulheres Compliance na Prática®” é uma coleção inspiradora de jornadas pessoais de mulheres que descobriram uma paixão profunda pelo compliance. Este livro revela como essas profissionais se conectaram com a área e seu propósito\, integrando ética e integridade nos núcleos de suas carreiras e vidas. Cada capítulo é uma exploração sincera de como o amor pelo compliance não só moldou suas trajetórias profissionais\, mas também reforçou seu compromisso em criar ambientes corporativos mais transparentes e justos. \n
URL:https://blog.livrariadavila.com.br/event/mulheres-compliance-na-pratica-volume-iii-andreia-roma-ed-leader/
LOCATION:Rua Fradique Coutinho\, 915 - Pinheiros\, São Paulo\, São Paulo\, 05416-011\, Brasil
GEO:-23.5592934;-46.6892019
X-APPLE-STRUCTURED-LOCATION;VALUE=URI;X-ADDRESS=Rua Fradique Coutinho 915 - Pinheiros São Paulo São Paulo 05416-011 Brasil;X-APPLE-RADIUS=500;X-TITLE=Rua Fradique Coutinho\, 915 - Pinheiros:geo:-46.6892019,-23.5592934
END:VEVENT
BEGIN:VEVENT
DTSTART;TZID=America/Sao_Paulo:20240823T180000
DTEND;TZID=America/Sao_Paulo:20240823T210000
DTSTAMP:20260420T083424
CREATED:20240806T202811Z
LAST-MODIFIED:20240806T202811Z
UID:123658-1724436000-1724446800@blog.livrariadavila.com.br
SUMMARY:O PODER DOS ECOSSISTEMAS - FELIPE PACHECO BORGES – ED. GENTE
DESCRIPTION:\n\n\n\n\n\nDESCUBRA COMO GERAR OPORTUNIDADES DE CRESCIMENTO E INOVAÇÃO CRIANDO UM ECOSSISTEMA DE NEGÓCIOS! Em O poder dos ecossistemas\, Felipe Pacheco Borges\, diretor executivo do Grupo Natalia Beauty\, onde desenvolveu sua expertise em ecossistemas empresariais na prática\, discute como a inovação e a expansão são cruciais na busca pelo sucesso em um ambiente de negócios cada vez mais complexo. Ao constatar que o isolamento empresarial é uma armadilha para o crescimento\, o autor amplia a visão tradicional de mercado e propõe estratégias para superar os desafios da competitividade e alcançar resultados exponenciais. Ele ressalta que a criação de ecossistemas de negócios é uma estratégia inteligente\, enfatizando a importância da colaboração e da integração durante esse processo. Com esta leitura\, você vai aprender como: Identificar e potencializar o core business da sua empresa para orientar decisões estratégicas e destacar-se no mercado; Adaptar-se de forma ágil às dinâmicas de mercado\, identificando oportunidades de crescimento; Criar planos de ação eficazes para preencher lacunas estratégicas e operacionais\, identificando parceiros essenciais e integrando-os ao seu ecossistema de negócios; Cultivar um ambiente colaborativo\, priorizando a inovação e a sustentabilidade. Amplie o seu alcance de mercado e preencha lacunas operacionais\, promovendo um ambiente onde todos prosperam!\n\n\n\n\n
URL:https://blog.livrariadavila.com.br/event/o-poder-dos-ecossistemas-felipe-pacheco-borges-ed-gente/
LOCATION:Av. Juscelino Kubitschek\, 2041 - Itaim Bibi\, São Paulo\, São Paulo\, 04543-011\, Brasil
GEO:-23.5914219;-46.6898224
X-APPLE-STRUCTURED-LOCATION;VALUE=URI;X-ADDRESS=Av. Juscelino Kubitschek 2041 - Itaim Bibi São Paulo São Paulo 04543-011 Brasil;X-APPLE-RADIUS=500;X-TITLE=Av. Juscelino Kubitschek\, 2041 - Itaim Bibi:geo:-46.6898224,-23.5914219
END:VEVENT
BEGIN:VEVENT
DTSTART;TZID=America/Sao_Paulo:20240823T183000
DTEND;TZID=America/Sao_Paulo:20240823T210000
DTSTAMP:20260420T083424
CREATED:20240819T134022Z
LAST-MODIFIED:20240820T140310Z
UID:123781-1724437800-1724446800@blog.livrariadavila.com.br
SUMMARY:(RE)ESCREVENDO MINHA HISTÓRIA - SUELI BENVENUTO – ED. LITERARE
DESCRIPTION:\n\n\n\n\n\nEste livro é uma narrativa inspiradora que delineia a trajetória de vida de Sueli Benvenuto\, uma mulher que transformou adversidades em oportunidades e sonhos em realidade. Desde a infância\, Sueli enfrentou inúmeros desafios e dificuldades\, que em vez de a desanimarem\, moldaram uma determinação inabalável e um desejo fervoroso de transcender suas origens humildes. A obra explora a paixão de Sueli pela leitura e escrita\, que lhe serviram como um refúgio e fonte de inspiração durante sua infância e adolescência. Com uma visão de longo prazo e uma vontade indomável de prosperar\, Sueli percorreu um caminho de superação e sucesso\, tornando-se a primeira pessoa em sua família a cursar uma faculdade e empreender. A narrativa apresenta a fundação da AlphaÔmega Traduções\, uma empresa que nasceu na sala de estar de Sueli e se expandiu para atender uma demanda global\, ultrapassando barreiras linguísticas e culturais. Este empreendimento\, iniciado durante a pandemia de Covid-19\, atendeu a uma necessidade urgente de saúde pública\, como também simbolizou a capacidade de Sueli de encontrar esperança e propósito em meio à crise. A história de Sueli é enriquecida por sua relação com a fé e com Deus\, que lhe proporcionou força e orientação em momentos críticos. “Reescrevendo Minha História” vai além de uma biografia\, visto que é um importante testemunho de como coragem\, determinação e fé podem nos ajudar a reinventar nossas vidas e escrever novos capítulos em nossa história pessoal. Sueli compartilha as valiosas lições que a vida lhe ensinou\, oferecendo ao leitor uma mensagem de esperança e a crença de que\, com perseverança\, é possível superar qualquer obstáculo e alcançar o sucesso.\n\n\n\n\n
URL:https://blog.livrariadavila.com.br/event/reescrevendo-minha-historia-sueli-benvenuto-ed-literare/
LOCATION:Alameda Lorena\, 1501\, São Paulo\, São Paulo\, 01424-005\, Brasil
END:VEVENT
END:VCALENDAR