BEGIN:VCALENDAR
VERSION:2.0
PRODID:-//VILA - Blog - ECPv4.5.12.2//NONSGML v1.0//EN
CALSCALE:GREGORIAN
METHOD:PUBLISH
X-WR-CALNAME:VILA - Blog
X-ORIGINAL-URL:https://blog.livrariadavila.com.br
X-WR-CALDESC:Events for VILA - Blog
BEGIN:VEVENT
DTSTART;TZID=America/Sao_Paulo:20240917T180000
DTEND;TZID=America/Sao_Paulo:20240917T210000
DTSTAMP:20260424T234932
CREATED:20240823T172129Z
LAST-MODIFIED:20240826T152128Z
UID:123887-1726596000-1726606800@blog.livrariadavila.com.br
SUMMARY:CFO MODERNO - PATRÍCIA VILAS BOAS AMARO - ED. BRASPORT
DESCRIPTION: \n  \n
URL:https://blog.livrariadavila.com.br/event/o-papel-do-cfo-moderno-patricia-vilas-boas-amaro-ed-brasport/
LOCATION:Av. Juscelino Kubitschek\, 2041 - Itaim Bibi\, São Paulo\, São Paulo\, 04543-011\, Brasil
GEO:-23.5914219;-46.6898224
X-APPLE-STRUCTURED-LOCATION;VALUE=URI;X-ADDRESS=Av. Juscelino Kubitschek 2041 - Itaim Bibi São Paulo São Paulo 04543-011 Brasil;X-APPLE-RADIUS=500;X-TITLE=Av. Juscelino Kubitschek\, 2041 - Itaim Bibi:geo:-46.6898224,-23.5914219
END:VEVENT
BEGIN:VEVENT
DTSTART;TZID=America/Sao_Paulo:20240917T180000
DTEND;TZID=America/Sao_Paulo:20240917T210000
DTSTAMP:20260424T234932
CREATED:20240828T154950Z
LAST-MODIFIED:20240828T154950Z
UID:123932-1726596000-1726606800@blog.livrariadavila.com.br
SUMMARY:LGPD PARA PEQUENAS EMPRESAS - ANA PAULA CANTO – ED. RT
DESCRIPTION:\n\n\n\n\n\n“Nos últimos anos\, a proteção de dados tem se tornado uma preocupação central para empresas de todos os tamanhos e segmentos. No entanto\, as pequenas empresas\, que representam uma parte significativa da economia global\, frequentemente enfrentam desafios únicos e substanciais nessa área. A falta de informação massiva voltada para esse público sobre a relevância e o impacto do tema pode causar desdobramentos indesejáveis\, ocasionando prejuízos em diversas frentes para essas empresas\, além de abalar sua credibilidade e a imagem perante clientes e parceiros. Entende-se que\, a depender do porte\, nem sempre a empresa pode investir em conformidade da forma esperada – contudo\, a lei deve ser cumprida. Com o intuito de colaborar com esse impasse\, apresentamos esta obra\, que pode agregar na construção dessa importante jornada. Com abordagem prática e linguagem acessível\, escrita por especialistas no tema\, a presente obra se mostra uma ferramenta essencial\, que visa contribuir para a conformidade de maneira prática e assertiva\, direcionada às pequenas e médias empresas.”\n\n\n\n\n
URL:https://blog.livrariadavila.com.br/event/lgpd-para-pequenas-empresas-ana-paula-canto-ed-rt/
LOCATION:Av. Higienópolis\, 618 – Higienópolis\, São Paulo\, SP\, 01238-000\, Brasil
GEO:-23.542049;-46.6577148
X-APPLE-STRUCTURED-LOCATION;VALUE=URI;X-ADDRESS=Av. Higienópolis 618 – Higienópolis São Paulo SP 01238-000 Brasil;X-APPLE-RADIUS=500;X-TITLE=Av. Higienópolis\, 618 – Higienópolis:geo:-46.6577148,-23.542049
END:VEVENT
BEGIN:VEVENT
DTSTART;TZID=America/Sao_Paulo:20240917T180000
DTEND;TZID=America/Sao_Paulo:20240917T210000
DTSTAMP:20260424T234932
CREATED:20240904T184235Z
LAST-MODIFIED:20240904T184235Z
UID:124010-1726596000-1726606800@blog.livrariadavila.com.br
SUMMARY:A GENTE MERECE SER FELIZ AGORA - LILI ALMEIDA – ED. ACADEMIA
DESCRIPTION:\n\n\n\n\nTUDO PODE SER DITO COM UMA COLHER DE MEL NA BOCA Em A gente merece ser feliz agora\, a chef de cozinha e comunicadora baiana Lili Almeida apresenta 101 reflexões que funcionam como momentos tanto de contemplação e questionamento quanto de encorajamento e esperança\, tão importantes nesse mundo caótico\, que muitas vezes nos faz esquecer de quem somos. As mensagens de bom-dia da autora\, propagadas para alimentar nossa vida com fé e gentileza\, mesclam a sabedoria de Lili\, uma exímia observadora da vida\, com ditados\, letras de músicas\, excertos de obras famosas e máximas ditas por grandes personagens da história. Fazendo uma espécie de chamamento\, esses textos convocam os leitores a usar sua luz própria para iluminar a si e a todos aqueles que atravessarem o seu caminho. A palavra alimenta e\, quando dita com gentileza\, pode abrir portas que nunca mais serão fechadas. “Quer um conselho? Como vão julgar você de qualquer jeito\, siga seu coração e faça o que te faz feliz.”\n\n\n\n\n
URL:https://blog.livrariadavila.com.br/event/a-gente-merece-ser-feliz-agora-lili-almeida-ed-academia/
LOCATION:Rua Fradique Coutinho\, 915 - Pinheiros\, São Paulo\, São Paulo\, 05416-011\, Brasil
GEO:-23.5592934;-46.6892019
X-APPLE-STRUCTURED-LOCATION;VALUE=URI;X-ADDRESS=Rua Fradique Coutinho 915 - Pinheiros São Paulo São Paulo 05416-011 Brasil;X-APPLE-RADIUS=500;X-TITLE=Rua Fradique Coutinho\, 915 - Pinheiros:geo:-46.6892019,-23.5592934
END:VEVENT
END:VCALENDAR