BEGIN:VCALENDAR
VERSION:2.0
PRODID:-//VILA - Blog - ECPv4.5.12.2//NONSGML v1.0//EN
CALSCALE:GREGORIAN
METHOD:PUBLISH
X-WR-CALNAME:VILA - Blog
X-ORIGINAL-URL:https://blog.livrariadavila.com.br
X-WR-CALDESC:Events for VILA - Blog
BEGIN:VEVENT
DTSTART;TZID=America/Sao_Paulo:20181027T150000
DTEND;TZID=America/Sao_Paulo:20181027T180000
DTSTAMP:20260422T042224
CREATED:20181001T184024Z
LAST-MODIFIED:20181001T184024Z
UID:22690-1540652400-1540663200@blog.livrariadavila.com.br
SUMMARY:Músicas para brincar: roda de música com Margareth Darezzo
DESCRIPTION:Roda de música com canções próprias publicadas nos livros “Canteiro Músicas para brincar” e “Quem vem lá?”  com brinquedos\, movimento e danças. \n\nMarhareth Darezzo: Arte educadora e Compositora\nMestre em Educação Especial pela Universidade Federal de São Carlos\, Especialista em Psicologia Infantil\, com Extensão Universitária em Neuropsicologia: emoção e cognição; aperfeiçoamento em Neurociências\, linguagem e aprendizado. Autora dos livros: Canteiro Músicas para brincar – Ática e  “Quem vem lá?” – Melhoramentos \n
URL:https://blog.livrariadavila.com.br/event/musicas-para-brincar-roda-de-musica-com-margareth-darezzo/
LOCATION:Rua Fradique Coutinho\, 915 - Pinheiros\, São Paulo\, São Paulo\, 05416-011\, Brasil
GEO:-23.5592934;-46.6892019
X-APPLE-STRUCTURED-LOCATION;VALUE=URI;X-ADDRESS=Rua Fradique Coutinho 915 - Pinheiros São Paulo São Paulo 05416-011 Brasil;X-APPLE-RADIUS=500;X-TITLE=Rua Fradique Coutinho\, 915 - Pinheiros:geo:-46.6892019,-23.5592934
CATEGORIES:ATIVIDADES INFANTIS,EVENTOS MUSICAIS
END:VEVENT
END:VCALENDAR