BEGIN:VCALENDAR
VERSION:2.0
PRODID:-//VILA - Blog - ECPv4.5.12.2//NONSGML v1.0//EN
CALSCALE:GREGORIAN
METHOD:PUBLISH
X-WR-CALNAME:VILA - Blog
X-ORIGINAL-URL:https://blog.livrariadavila.com.br
X-WR-CALDESC:Events for VILA - Blog
BEGIN:VEVENT
DTSTART;TZID=America/Sao_Paulo:20181103T150000
DTEND;TZID=America/Sao_Paulo:20181103T160000
DTSTAMP:20260421T170605
CREATED:20181017T160856Z
LAST-MODIFIED:20181017T160856Z
UID:23064-1541257200-1541260800@blog.livrariadavila.com.br
SUMMARY:Atividade infantil - Meu livro de bichos extraordinários\, de Catherine Leblanc
DESCRIPTION: \nVenha conhecer essa divertida história e fazer atividades incríveis! \nApoio: Vergara e Riba  \nEvento gratuito \n
URL:https://blog.livrariadavila.com.br/event/atividade-infantil-meu-livro-de-bichos-extraordinarios-de-catherine-leblanc/
LOCATION:Av. Higienópolis\, 618 – Higienópolis\, São Paulo\, SP\, 01238-000\, Brasil
GEO:-23.542049;-46.6577148
X-APPLE-STRUCTURED-LOCATION;VALUE=URI;X-ADDRESS=Av. Higienópolis 618 – Higienópolis São Paulo SP 01238-000 Brasil;X-APPLE-RADIUS=500;X-TITLE=Av. Higienópolis\, 618 – Higienópolis:geo:-46.6577148,-23.542049
CATEGORIES:ATIVIDADES INFANTIS
END:VEVENT
BEGIN:VEVENT
DTSTART;TZID=America/Sao_Paulo:20181103T150000
DTEND;TZID=America/Sao_Paulo:20181103T180000
DTSTAMP:20260421T170605
CREATED:20181029T154220Z
LAST-MODIFIED:20181029T154220Z
UID:23226-1541257200-1541268000@blog.livrariadavila.com.br
SUMMARY:Sonhei...
DESCRIPTION: De Alexiev Gandman  \nEd. Mercado Livros. \nHaverá atividade infantil (piso infantil) \n
URL:https://blog.livrariadavila.com.br/event/sonhei/
LOCATION:Avenida do Batel\, nº 1868 – Loja 314 piso L3\, Curitiba\, Paraná\, 80420-090\, Brasil
GEO:-25.443012;-49.2899507
X-APPLE-STRUCTURED-LOCATION;VALUE=URI;X-ADDRESS=Avenida do Batel nº 1868 – Loja 314 piso L3 Curitiba Paraná 80420-090 Brasil;X-APPLE-RADIUS=500;X-TITLE=Avenida do Batel\, nº 1868 – Loja 314 piso L3:geo:-49.2899507,-25.443012
CATEGORIES:ATIVIDADES INFANTIS,LANÇAMENTOS,SESSÕES DE AUTÓGRAFOS
END:VEVENT
END:VCALENDAR