BEGIN:VCALENDAR
VERSION:2.0
PRODID:-//VILA - Blog - ECPv4.5.12.2//NONSGML v1.0//EN
CALSCALE:GREGORIAN
METHOD:PUBLISH
X-WR-CALNAME:VILA - Blog
X-ORIGINAL-URL:https://blog.livrariadavila.com.br
X-WR-CALDESC:Events for VILA - Blog
BEGIN:VEVENT
DTSTART;TZID=America/Sao_Paulo:20181110T150000
DTEND;TZID=America/Sao_Paulo:20181110T160000
DTSTAMP:20260421T054804
CREATED:20181017T161534Z
LAST-MODIFIED:20181017T161534Z
UID:23069-1541862000-1541865600@blog.livrariadavila.com.br
SUMMARY:Atividade infantil - Histórias de ninar para garotas rebeldes\, de Elena Favilli
DESCRIPTION:Venha conhecer essa divertida história e fazer atividades incríveis! \nApoio: Vergara e Riba  \nEvento gratuito \n
URL:https://blog.livrariadavila.com.br/event/atividade-infantil-historias-de-ninar-para-garotas-rebeldes-de-elena-favilli/
LOCATION:Av. Higienópolis\, 618 – Higienópolis\, São Paulo\, SP\, 01238-000\, Brasil
GEO:-23.542049;-46.6577148
X-APPLE-STRUCTURED-LOCATION;VALUE=URI;X-ADDRESS=Av. Higienópolis 618 – Higienópolis São Paulo SP 01238-000 Brasil;X-APPLE-RADIUS=500;X-TITLE=Av. Higienópolis\, 618 – Higienópolis:geo:-46.6577148,-23.542049
CATEGORIES:ATIVIDADES INFANTIS
END:VEVENT
BEGIN:VEVENT
DTSTART;TZID=America/Sao_Paulo:20181110T160000
DTEND;TZID=America/Sao_Paulo:20181110T170000
DTSTAMP:20260421T054804
CREATED:20181106T181642Z
LAST-MODIFIED:20181106T181642Z
UID:23391-1541865600-1541869200@blog.livrariadavila.com.br
SUMMARY:Atividade infantil - Coisas arrepiantes e Coisas Melequentas\, de Ilan Brenman
DESCRIPTION: \nEvento gratuito \n
URL:https://blog.livrariadavila.com.br/event/atividade-infantil-coisas-arrepiantes-e-coisas-melequentas-de-ilan-brenman/
LOCATION:Rua Pamplona\, 1704\, São Paulo\, São Paulo\, 01405-000\, Brasil
GEO:-23.5702482;-46.6612794
X-APPLE-STRUCTURED-LOCATION;VALUE=URI;X-ADDRESS=Rua Pamplona 1704 São Paulo São Paulo 01405-000 Brasil;X-APPLE-RADIUS=500;X-TITLE=Rua Pamplona\, 1704:geo:-46.6612794,-23.5702482
CATEGORIES:ATIVIDADES INFANTIS
END:VEVENT
END:VCALENDAR