BEGIN:VCALENDAR
VERSION:2.0
PRODID:-//VILA - Blog - ECPv4.5.12.2//NONSGML v1.0//EN
CALSCALE:GREGORIAN
METHOD:PUBLISH
X-WR-CALNAME:VILA - Blog
X-ORIGINAL-URL:https://blog.livrariadavila.com.br
X-WR-CALDESC:Events for VILA - Blog
BEGIN:VEVENT
DTSTART;TZID=America/Sao_Paulo:20181118T150000
DTEND;TZID=America/Sao_Paulo:20181118T160000
DTSTAMP:20260420T165228
CREATED:20181015T161300Z
LAST-MODIFIED:20181015T161300Z
UID:22963-1542553200-1542556800@blog.livrariadavila.com.br
SUMMARY:Atividade infantil - Rapunzel
DESCRIPTION:Venha conhecer essa divertida história e fazer atividades incríveis! \nApoio: Vergara e Riba  \nEvento gratuito \n
URL:https://blog.livrariadavila.com.br/event/atividade-infantil-rapunzel/
LOCATION:Av. Moema\, 493\, São Paulo\, São Paulo\, 04077-022\, Brasil
GEO:-23.6060908;-46.6565273
X-APPLE-STRUCTURED-LOCATION;VALUE=URI;X-ADDRESS=Av. Moema 493 São Paulo São Paulo 04077-022 Brasil;X-APPLE-RADIUS=500;X-TITLE=Av. Moema\, 493:geo:-46.6565273,-23.6060908
CATEGORIES:ATIVIDADES INFANTIS
END:VEVENT
BEGIN:VEVENT
DTSTART;TZID=America/Sao_Paulo:20181118T150000
DTEND;TZID=America/Sao_Paulo:20181118T160000
DTSTAMP:20260420T165228
CREATED:20181015T194531Z
LAST-MODIFIED:20181015T194531Z
UID:23045-1542553200-1542556800@blog.livrariadavila.com.br
SUMMARY:Atividade infantil - Meu livro de formas - Dinos
DESCRIPTION:Venha conhecer essa divertida história e fazer atividades incríveis! \nApoio: Vergara e Riba  \nEvento gratuito \n
URL:https://blog.livrariadavila.com.br/event/atividade-infantil-meu-livro-de-formas-dinos/
LOCATION:Rua Fradique Coutinho\, 915 - Pinheiros\, São Paulo\, São Paulo\, 05416-011\, Brasil
GEO:-23.5592934;-46.6892019
X-APPLE-STRUCTURED-LOCATION;VALUE=URI;X-ADDRESS=Rua Fradique Coutinho 915 - Pinheiros São Paulo São Paulo 05416-011 Brasil;X-APPLE-RADIUS=500;X-TITLE=Rua Fradique Coutinho\, 915 - Pinheiros:geo:-46.6892019,-23.5592934
CATEGORIES:ATIVIDADES INFANTIS
END:VEVENT
END:VCALENDAR