BEGIN:VCALENDAR
VERSION:2.0
PRODID:-//VILA - Blog - ECPv4.5.12.2//NONSGML v1.0//EN
CALSCALE:GREGORIAN
METHOD:PUBLISH
X-WR-CALNAME:VILA - Blog
X-ORIGINAL-URL:https://blog.livrariadavila.com.br
X-WR-CALDESC:Events for VILA - Blog
BEGIN:VEVENT
DTSTART;TZID=America/Sao_Paulo:20250319T190000
DTEND;TZID=America/Sao_Paulo:20250319T213000
DTSTAMP:20260420T121635
CREATED:20250214T175907Z
LAST-MODIFIED:20250225T144033Z
UID:126175-1742410800-1742419800@blog.livrariadavila.com.br
SUMMARY:QUEM MEXEU NO MEU OVO? - ERIKA ROSSETTO - ED. ASINHA
DESCRIPTION: \nA galinha Gigi sonha em ter um filhote. Ela vai descobrir que para realizar seu sonho não basta botar um ovo. Precisará desvendar um mistério e se esforçar para proteger seu filho antes mesmo que ele nasça. \n
URL:https://blog.livrariadavila.com.br/event/quem-mexeu-no-meu-ovo-erika-rossetto-ed-asinha/
LOCATION:Avenida do Batel\, nº 1868 – Loja 314 piso L3\, Curitiba\, Paraná\, 80420-090\, Brasil
GEO:-25.443012;-49.2899507
X-APPLE-STRUCTURED-LOCATION;VALUE=URI;X-ADDRESS=Avenida do Batel nº 1868 – Loja 314 piso L3 Curitiba Paraná 80420-090 Brasil;X-APPLE-RADIUS=500;X-TITLE=Avenida do Batel\, nº 1868 – Loja 314 piso L3:geo:-49.2899507,-25.443012
CATEGORIES:SESSÕES DE AUTÓGRAFOS
END:VEVENT
BEGIN:VEVENT
DTSTART;TZID=America/Sao_Paulo:20250319T170000
DTEND;TZID=America/Sao_Paulo:20250319T213000
DTSTAMP:20260420T121635
CREATED:20250217T181144Z
LAST-MODIFIED:20250217T181144Z
UID:126203-1742403600-1742419800@blog.livrariadavila.com.br
SUMMARY:ENSEMBLE - ORG: MARIA PAULA FIDALGO\, NATASHA CASTRO\, ROBERTA SUPLICY\, ADRIANA ALCÂNTARA\, FLAVIA VIGIO\, CHRIS AYROSA\, SILVANA ABRAMOVAY\, PATRICIA CALAZANS\, ALEXANDRA AKIRA E AIMEE PEYRONNET - ED. REINO EDITORIAL
DESCRIPTION: \nEste livro é uma ode à união. Ele revela a força transformadora que emerge quando histórias individuais se entrelaçam em harmonia.\nA jornada de uma voz solo\, marcada por desafios e conquistas pessoais\, torna-se ainda mais potente ao fundir-se a outras vozes\, criando uma sinfonia de propósito com impacto global.\nÉ nisso que reside o poder sublime da união: em como ela transforma vidas\, potencializa sonhos e materializa realidades antes consideradas inatingíveis. E nesse grande espetáculo\, o apoio não vem apenas de outras mulheres. Homens que escolhem ser aliados genuínos têm um papel crucial nesse movimento. Eles não apenas apoiam\, mas ajudam a construir novas trilhas\, oferecendo oportunidades que transformam vidas. Quando homens e mulheres atua juntos\, com respeito e propósito\, abrem espaço para que talentos floresçam\, vozes sejam ouvidas e barreiras sejam superadas.\nCada relato aqui presente é como uma nota\, uma melodia única que se entrelaça com outras\, criando uma verdadeira obra de arte. Juntas\, essas vozes soam como uma orquestra no centro do palco: cada uma\, como um instrumento singular\, acrescenta uma nuance insubstituível à melodia. Umas trazem o ritmo\, outras a leveza\, o drama\, a alegria\, o brilho. Só o ato de romper o silêncio e compartilhar nossas histórias já é uma conquista grandiosa para cada uma de nós. Mas o encantamento se da mesmo quando as histórias se complementam\, compondo algo extraordinário — uma harmonia coletiva de coragem e criatividade. Essa sinfonia\, composta por vozes e gestos de apoio mútuo vindos dos quatro cantos do mundo\, é mais do que uma melodia inspiradora. É um movimento global. Um novo ato na grande peça de teatro planetária em que vivemos — e que\, finalmente\, abre suas cortinas para colocar as mulheres no centro\, lado a lado com os homens. Um lugar de protagonismo que lhes foi negado por milhares de anos\, mas que agora se consolida iluminando o palco com igualdade\, colaboração e a promessa de um futuro mais justo e harmonioso para todos\, onde o ser possa valer mais que o ter. Ensemble é este coral afinadíssimo\, com nossas próprias vozes compondo a sinfonia da vida. \n
URL:https://blog.livrariadavila.com.br/event/ensemble-org-maria-paula-fidalgo-natasha-castro-roberta-suplicy-adriana-alcantara-flavia-vigio-chris-ayrosa-silvana-abramovay-patricia-calazans-alexandra-akira-e-aimee-peyronnet-ed-reino/
LOCATION:Av. Juscelino Kubitschek\, 2041 - Itaim Bibi\, São Paulo\, São Paulo\, 04543-011\, Brasil
GEO:-23.5914219;-46.6898224
X-APPLE-STRUCTURED-LOCATION;VALUE=URI;X-ADDRESS=Av. Juscelino Kubitschek 2041 - Itaim Bibi São Paulo São Paulo 04543-011 Brasil;X-APPLE-RADIUS=500;X-TITLE=Av. Juscelino Kubitschek\, 2041 - Itaim Bibi:geo:-46.6898224,-23.5914219
CATEGORIES:SESSÕES DE AUTÓGRAFOS
END:VEVENT
BEGIN:VEVENT
DTSTART;TZID=America/Sao_Paulo:20250319T190000
DTEND;TZID=America/Sao_Paulo:20250319T213000
DTSTAMP:20260420T121635
CREATED:20250221T201517Z
LAST-MODIFIED:20250221T201517Z
UID:126304-1742410800-1742419800@blog.livrariadavila.com.br
SUMMARY:CURSOS D'ÁGUA\, ESTEIRAS DE VENTO - MARIANA BARUCO MACHADO ANDRAUS - ED. CRV
DESCRIPTION: \nEste livro é uma adaptação da tese de livre-docência defendida pela autora no Departamento de Artes Corporais do Instituto de Artes da Universidade Estadual de Campinas. A autora o escreve em forma de memorial e discorre sobre as diferentes fases que percorreu em suas diferentes formações em artes do corpo: ballet clássico\, dança contemporânea\, arte marcial chinesa\, dança indiana\, yoga\, Pilates\, entre outras. A partir dessas experiências\, a autora desenvolve procedimentos para criação em dança\, relacionando-a ao processo de criação de textos. O material é poético tanto em sua visualidade quanto na forma de escrita. A autora parte das imagens (fotografias ou capturas de telas de vídeos) para desenvolver os conceitos que subjazem a obra. Os temas das criações são abraçados pelo campo dos estudos interculturais\, envolvendo interlocuções entre artes de origem asiática\, elementos de brasilidade e da criação contemporânea em perspectiva global. \n
URL:https://blog.livrariadavila.com.br/event/cursos-dagua-esteiras-de-vento-mariana-baruco-machado-andraus-ed-crv/
LOCATION:Avenida Iguatemi\, N° 777 Loja 137A1 - Vila Brandina\, Campinas\, São Paulo\, 13092-902\, Brasil
CATEGORIES:SESSÕES DE AUTÓGRAFOS
END:VEVENT
BEGIN:VEVENT
DTSTART;TZID=America/Sao_Paulo:20250319T190000
DTEND;TZID=America/Sao_Paulo:20250319T213000
DTSTAMP:20260420T121635
CREATED:20250224T183536Z
LAST-MODIFIED:20250224T183536Z
UID:126323-1742410800-1742419800@blog.livrariadavila.com.br
SUMMARY:GUIA POLITICAMENTE INCORRETO PARA EMPREENDEDORES DIGITAIS - ANDRÉ CRUZ - ED. DVS
DESCRIPTION: \nEste livro é um manifesto para empreendedores digitais que desejam desafiar o sistema\, assumir o controle de seus negócios e alcançar a verdadeira liberdade financeira. O autor\, André Lado Cruz\, usa uma linguagem direta e “politicamente incorreta” para expor as armadilhas das plataformas “só-paga-se-vender”\, que prometem sucesso fácil\, mas\, na verdade\, aprisionam os empreendedores em um ciclo de exploração por meio de taxas abusivas e falta de controle sobre seus dados e operações \nAtravés de analogias com filmes como “Matrix” e “A Revolução dos Bichos”\, o autor convida o leitor a questionar o status quo e a despertar para uma nova realidade\, onde a autonomia\, o controle sobre os lucros e a liberdade de escolha são os pilares para o sucesso \nO livro é dividido em quatro partes:\nParte 1 – A Grande Proclamação: Apresenta a crítica ao modelo de negócio das plataformas tradicionais e convida o leitor a questionar as “verdades” impostas pelo sistema.\nParte 2 – História de Sucesso: Compartilha a trajetória pessoal e profissional do autor\, mostrando como ele superou desafios\, aprendeu com seus erros e construiu a Digital Manager Guru\, uma plataforma disruptiva que oferece uma alternativa justa e transparente para empreendedores digitais.\nParte 3 – Em nome da disrupção: Explora a história da Digital Manager Guru\, revelando os princípios\, valores e estratégias que a tornaram uma referência no mercado.\nParte 4 – Conselhos Práticos para Empreendedores Audaciosos: Oferece conselhos práticos e aplicáveis para quem deseja construir um negócio online de sucesso\, com foco em gestão eficiente\, mentalidade disruptiva e estratégias de crescimento. \nAo longo do livro\, o leitor encontrará dicas\, insights e hacks de gestão baseados na experiência do autor e em exemplos reais de sucesso. O objetivo é inspirar e capacitar empreendedores a construir negócios prósperos\, livres das amarras do sistema tradicional e com foco em resultados reais. Mais do que um guia de negócios\, este livro é um chamado à ação para transformar a mentalidade e alcançar a verdadeira independência no mundo digital. \n
URL:https://blog.livrariadavila.com.br/event/guia-politicamente-incorreto-para-empreendedores-digitais-andre-cruz-ed-dvs/
LOCATION:Avenida Paulista\, 1230\, São Paulo\, São Paulo\, 01310-100\, Brasil
CATEGORIES:SESSÕES DE AUTÓGRAFOS
END:VEVENT
BEGIN:VEVENT
DTSTART;TZID=America/Sao_Paulo:20250319T180000
DTEND;TZID=America/Sao_Paulo:20250319T213000
DTSTAMP:20260420T121635
CREATED:20250310T191233Z
LAST-MODIFIED:20250319T150105Z
UID:126477-1742407200-1742419800@blog.livrariadavila.com.br
SUMMARY:NA NOSSA PELE: CONTINUANDO A CONVERSA - LÁZARO RAMOS – ED. OBJETIVA
DESCRIPTION: \nRetomando o diálogo iniciado no best-seller Na minha pele\, Lázaro Ramos agora mostra que sua pele é coletiva\, forjada em experiências e aprendizados comuns. Em uma conversa íntima e envolvente\, fala da relação com a mãe e várias outras temáticas relevantes da atualidade. Em Na nossa pele\, um Lázaro mais maduro entrelaça fatos de sua vida íntima com reflexões sobre o ofício de artista e outros temas como as pautas raciais\, emancipação e mobilidade social. Ao estabelecer uma ponte com inúmeras outras personalidades negras\, mostra como seus pensamentos e ações são forjados numa mesma ancestralidade. Assim\, são muitas as vozes que habitam as páginas deste livro. A mais importante delas é a de sua mãe\, Célia Maria do Sacramento\, que faleceu quando ele tinha apenas dezoito anos. Mais maduro e ciente das complexidades de sua própria história\, Lázaro se sente finalmente pronto para compartilhar as memórias da mulher que foi sua maior inspiração.Lázaro também convida seus leitores e leitoras a refletirem sobre a vida e seu lugar no mundo. Partindo da premissa de que não existem respostas simples para questões complexas\, acredita que a efetiva conquista da emancipação\, a individual e a coletiva\, é ainda um enorme desafio. Devemos retomar a aparentemente velha e esquecida ideia de que o melhor caminho é aquele que inclui a equidade\, o valor à vida\, o respeito às diferenças\, o cuidado com o meio ambiente\, a proteção à infância e a retomada da alegria — mas não a alegria que anestesia\, e sim a alegria revolucionária\, transformadora.Do lançamento de Na minha pele para cá\, muita coisa mudou. Foram inúmeras as conquistas\, e Lázaro comemora cada uma delas\, mas será que a importante e necessária ascensão da população negra já alcançou toda a sua plenitude? “O maior medo de João Nogueira era que o espelho se quebrasse. Lázaro Ramos sabe bem o que é viver entre tantos espelhos quebrados\, porém\, como na lenda do espelho de Mahura\, ele tem restituído a beleza dos caquinhos a partir da verdade guardada em cada um deles. Afinal de contas\, os caquinhos ainda refletem o mundo\, mas agora\, uma coisa gigante e ao mesmo tempo pequenina\, de cada vez.” — Emicida. \n \n
URL:https://blog.livrariadavila.com.br/event/na-nossa-pele-continuando-a-conversa-lazaro-ramos-ed-objetiva/
LOCATION:Rua Fradique Coutinho\, 915 - Pinheiros\, São Paulo\, São Paulo\, 05416-011\, Brasil
GEO:-23.5592934;-46.6892019
X-APPLE-STRUCTURED-LOCATION;VALUE=URI;X-ADDRESS=Rua Fradique Coutinho 915 - Pinheiros São Paulo São Paulo 05416-011 Brasil;X-APPLE-RADIUS=500;X-TITLE=Rua Fradique Coutinho\, 915 - Pinheiros:geo:-46.6892019,-23.5592934
CATEGORIES:LANÇAMENTOS,SESSÕES DE AUTÓGRAFOS
END:VEVENT
BEGIN:VEVENT
DTSTART;TZID=America/Sao_Paulo:20250319T190000
DTEND;TZID=America/Sao_Paulo:20250319T213000
DTSTAMP:20260420T121635
CREATED:20250311T132215Z
LAST-MODIFIED:20250311T132215Z
UID:126486-1742410800-1742419800@blog.livrariadavila.com.br
SUMMARY:O BRASIL MOSTRA A SUA CARA - ANA PAULA GONÇALVES – ED. INDEPENDENTE
DESCRIPTION: \nA telenovela Vale Tudo é considerada uma das mais importantes obras da televisão brasileira\, ao falar de assuntos como pobreza\, corrupção política e empresarial\,fez um grande sucesso em uma época onde o espectador assistia marcos importantes para nossa democracia. Exibida na época da constituinte\, no livro conto sobre o Brasil na época de Vale Tudo. \n
URL:https://blog.livrariadavila.com.br/event/o-brasil-mostra-a-sua-cara-ana-paula-goncalves-ed-independente/
LOCATION:Alameda Lorena\, 1501\, São Paulo\, São Paulo\, 01424-005\, Brasil
CATEGORIES:LANÇAMENTOS,SESSÕES DE AUTÓGRAFOS
END:VEVENT
END:VCALENDAR